BEGIN:VCALENDAR
VERSION:2.0
PRODID:-//The Township of Perry - ECPv6.15.18//NONSGML v1.0//EN
CALSCALE:GREGORIAN
METHOD:PUBLISH
X-WR-CALNAME:The Township of Perry
X-ORIGINAL-URL:https://townshipofperry.ca
X-WR-CALDESC:Events for The Township of Perry
REFRESH-INTERVAL;VALUE=DURATION:PT1H
X-Robots-Tag:noindex
X-PUBLISHED-TTL:PT1H
BEGIN:VTIMEZONE
TZID:America/Toronto
BEGIN:DAYLIGHT
TZOFFSETFROM:-0500
TZOFFSETTO:-0400
TZNAME:EDT
DTSTART:20240310T070000
END:DAYLIGHT
BEGIN:STANDARD
TZOFFSETFROM:-0400
TZOFFSETTO:-0500
TZNAME:EST
DTSTART:20241103T060000
END:STANDARD
BEGIN:DAYLIGHT
TZOFFSETFROM:-0500
TZOFFSETTO:-0400
TZNAME:EDT
DTSTART:20250309T070000
END:DAYLIGHT
BEGIN:STANDARD
TZOFFSETFROM:-0400
TZOFFSETTO:-0500
TZNAME:EST
DTSTART:20251102T060000
END:STANDARD
BEGIN:DAYLIGHT
TZOFFSETFROM:-0500
TZOFFSETTO:-0400
TZNAME:EDT
DTSTART:20260308T070000
END:DAYLIGHT
BEGIN:STANDARD
TZOFFSETFROM:-0400
TZOFFSETTO:-0500
TZNAME:EST
DTSTART:20261101T060000
END:STANDARD
BEGIN:DAYLIGHT
TZOFFSETFROM:-0500
TZOFFSETTO:-0400
TZNAME:EDT
DTSTART:20270314T070000
END:DAYLIGHT
BEGIN:STANDARD
TZOFFSETFROM:-0400
TZOFFSETTO:-0500
TZNAME:EST
DTSTART:20271107T060000
END:STANDARD
BEGIN:DAYLIGHT
TZOFFSETFROM:-0500
TZOFFSETTO:-0400
TZNAME:EDT
DTSTART:20280312T070000
END:DAYLIGHT
BEGIN:STANDARD
TZOFFSETFROM:-0400
TZOFFSETTO:-0500
TZNAME:EST
DTSTART:20281105T060000
END:STANDARD
END:VTIMEZONE
BEGIN:VEVENT
DTSTART;VALUE=DATE:20251223
DTEND;VALUE=DATE:20251224
DTSTAMP:20260422T221413
CREATED:20250106T164453Z
LAST-MODIFIED:20250106T164453Z
UID:10129-1766448000-1766534399@townshipofperry.ca
SUMMARY:Senior Foot Care Clinic - Emsdale Community Centre
DESCRIPTION:Senior Foot Care Clinic – Emsdale Community Centre \n4th Tuesday of Each Month\, $30 per person. Call to register at 705-471-1707
URL:https://townshipofperry.ca/event/senior-foot-care-clinic-emsdale-community-centre-2025-12-23/
CATEGORIES:Events
ATTACH;FMTTYPE=image/jpeg:https://townshipofperry.ca/wp-content/uploads/2025/01/2025-01-06-FOOT-CARE-AFTER-DEC-1ST.jpg
END:VEVENT
BEGIN:VEVENT
DTSTART;VALUE=DATE:20260127
DTEND;VALUE=DATE:20260128
DTSTAMP:20260422T221413
CREATED:20250106T164453Z
LAST-MODIFIED:20250106T164453Z
UID:10130-1769472000-1769558399@townshipofperry.ca
SUMMARY:Senior Foot Care Clinic - Emsdale Community Centre
DESCRIPTION:Senior Foot Care Clinic – Emsdale Community Centre \n4th Tuesday of Each Month\, $30 per person. Call to register at 705-471-1707
URL:https://townshipofperry.ca/event/senior-foot-care-clinic-emsdale-community-centre-2026-01-27/
CATEGORIES:Events
ATTACH;FMTTYPE=image/jpeg:https://townshipofperry.ca/wp-content/uploads/2025/01/2025-01-06-FOOT-CARE-AFTER-DEC-1ST.jpg
END:VEVENT
BEGIN:VEVENT
DTSTART;TZID=America/Toronto:20260216T123000
DTEND;TZID=America/Toronto:20260216T153000
DTSTAMP:20260422T221413
CREATED:20260203T132937Z
LAST-MODIFIED:20260203T153225Z
UID:10759-1771245000-1771255800@townshipofperry.ca
SUMMARY:Family Day Skate
DESCRIPTION:Monday\, February 16\, 2026 from 12:30pm to 3:30pm at the Emsdale Outdoor Rink. \nBonfire\, Hot Chocolate\, Skating\, Hot Dogs & More! \nCome out and enjoy the fun!
URL:https://townshipofperry.ca/event/family-day-skate/
CATEGORIES:Events
ATTACH;FMTTYPE=image/jpeg:https://townshipofperry.ca/wp-content/uploads/2026/02/623142161_1226210613030200_971168129831416048_n.jpg
END:VEVENT
BEGIN:VEVENT
DTSTART;VALUE=DATE:20260224
DTEND;VALUE=DATE:20260225
DTSTAMP:20260422T221413
CREATED:20250106T164453Z
LAST-MODIFIED:20250106T164453Z
UID:10131-1771891200-1771977599@townshipofperry.ca
SUMMARY:Senior Foot Care Clinic - Emsdale Community Centre
DESCRIPTION:Senior Foot Care Clinic – Emsdale Community Centre \n4th Tuesday of Each Month\, $30 per person. Call to register at 705-471-1707
URL:https://townshipofperry.ca/event/senior-foot-care-clinic-emsdale-community-centre-2026-02-24/
CATEGORIES:Events
ATTACH;FMTTYPE=image/jpeg:https://townshipofperry.ca/wp-content/uploads/2025/01/2025-01-06-FOOT-CARE-AFTER-DEC-1ST.jpg
END:VEVENT
BEGIN:VEVENT
DTSTART;TZID=America/Toronto:20260226T120000
DTEND;TZID=America/Toronto:20260226T133000
DTSTAMP:20260422T221413
CREATED:20260203T153200Z
LAST-MODIFIED:20260203T153200Z
UID:10763-1772107200-1772112600@townshipofperry.ca
SUMMARY:February Seniors Luncheon
DESCRIPTION:Thursday\, February 26th at the Emsdale Community Centre \nCall the East Parry Sound Community Support Services Office to book your spot at 705-724-6028.
URL:https://townshipofperry.ca/event/february-seniors-luncheon/
CATEGORIES:Events
ATTACH;FMTTYPE=image/jpeg:https://townshipofperry.ca/wp-content/uploads/2026/02/Emsdale-Seniors-Lunch-Feb-2026.jpg
END:VEVENT
BEGIN:VEVENT
DTSTART;VALUE=DATE:20260313
DTEND;VALUE=DATE:20260401
DTSTAMP:20260422T221413
CREATED:20260313T141643Z
LAST-MODIFIED:20260421T164257Z
UID:10892-1773360000-1775001599@townshipofperry.ca
SUMMARY:Emsdale Outdoor Rink is Closed for the Season
DESCRIPTION:
URL:https://townshipofperry.ca/event/emsdale-outdoor-rink-is-closed-for-the-season-2/
END:VEVENT
BEGIN:VEVENT
DTSTART;VALUE=DATE:20260324
DTEND;VALUE=DATE:20260325
DTSTAMP:20260422T221413
CREATED:20250106T164453Z
LAST-MODIFIED:20250106T164453Z
UID:10132-1774310400-1774396799@townshipofperry.ca
SUMMARY:Senior Foot Care Clinic - Emsdale Community Centre
DESCRIPTION:Senior Foot Care Clinic – Emsdale Community Centre \n4th Tuesday of Each Month\, $30 per person. Call to register at 705-471-1707
URL:https://townshipofperry.ca/event/senior-foot-care-clinic-emsdale-community-centre-2026-03-24/
CATEGORIES:Events
ATTACH;FMTTYPE=image/jpeg:https://townshipofperry.ca/wp-content/uploads/2025/01/2025-01-06-FOOT-CARE-AFTER-DEC-1ST.jpg
END:VEVENT
BEGIN:VEVENT
DTSTART;TZID=America/Toronto:20260326T120000
DTEND;TZID=America/Toronto:20260326T133000
DTSTAMP:20260422T221413
CREATED:20260311T153810Z
LAST-MODIFIED:20260311T153810Z
UID:10875-1774526400-1774531800@townshipofperry.ca
SUMMARY:March Seniors Lunch
DESCRIPTION:Call the CSS office at 705-724-6028 to reserve one week in advance.
URL:https://townshipofperry.ca/event/march-seniors-lunch/
CATEGORIES:Events
ATTACH;FMTTYPE=image/jpeg:https://townshipofperry.ca/wp-content/uploads/2026/03/March-Seniors-Lunch.jpg
END:VEVENT
BEGIN:VEVENT
DTSTART;TZID=America/Toronto:20260328T100000
DTEND;TZID=America/Toronto:20260328T140000
DTSTAMP:20260422T221413
CREATED:20260311T152402Z
LAST-MODIFIED:20260311T152402Z
UID:10864-1774692000-1774706400@townshipofperry.ca
SUMMARY:Hopping Into Easter Sale
DESCRIPTION:
URL:https://townshipofperry.ca/event/hopping-into-easter-sale/
CATEGORIES:Events
ATTACH;FMTTYPE=image/jpeg:https://townshipofperry.ca/wp-content/uploads/2026/03/AG-Easter-Sale.jpg
END:VEVENT
BEGIN:VEVENT
DTSTART;TZID=America/Toronto:20260328T180000
DTEND;TZID=America/Toronto:20260328T200000
DTSTAMP:20260422T221413
CREATED:20260311T153215Z
LAST-MODIFIED:20260311T153215Z
UID:10870-1774720800-1774728000@townshipofperry.ca
SUMMARY:Emsdale Agricultural Society Easter Dinner
DESCRIPTION:Main Course: Ham\, Salad\, Scalloped Potatoes with a bun. \nDessert: Cake & Ice Cream \nChildren under 5 – Free \nAges 6 to 12- $10.00 \nAges 13 & Up – $15.00 \nRSVP to Samantha at 705-571-1122
URL:https://townshipofperry.ca/event/emsdale-agricultural-society-easter-dinner/
CATEGORIES:Events
ATTACH;FMTTYPE=image/jpeg:https://townshipofperry.ca/wp-content/uploads/2026/03/easter-dinner.jpg
END:VEVENT
BEGIN:VEVENT
DTSTART;VALUE=DATE:20260403
DTEND;VALUE=DATE:20260404
DTSTAMP:20260422T221413
CREATED:20260311T162532Z
LAST-MODIFIED:20260311T162532Z
UID:10880-1775174400-1775260799@townshipofperry.ca
SUMMARY:Easter Holiday Closures
DESCRIPTION:All Municipal buildings will be closed on Friday\, April 3\, 2026 for Good Friday. \nThe Municipal Office will be closed on Monday\, April 6 for Easter Monday. The Transfer Station will be open Easter Monday from 8:30 to 4:00pm.
URL:https://townshipofperry.ca/event/easter-holiday-closures/
CATEGORIES:Events
ATTACH;FMTTYPE=image/png:https://townshipofperry.ca/wp-content/uploads/2026/03/Easter-Holiday-Hours-scaled.png
END:VEVENT
BEGIN:VEVENT
DTSTART;TZID=America/Toronto:20260403T080000
DTEND;TZID=America/Toronto:20260403T110000
DTSTAMP:20260422T221413
CREATED:20260311T152448Z
LAST-MODIFIED:20260311T152448Z
UID:10866-1775203200-1775214000@townshipofperry.ca
SUMMARY:Emsdale Lions Annual Pancake Breakfast
DESCRIPTION:
URL:https://townshipofperry.ca/event/emsdale-lions-annual-pancake-breakfast/
CATEGORIES:Events
ATTACH;FMTTYPE=image/png:https://townshipofperry.ca/wp-content/uploads/2026/03/Lions-Easter-Breakfast.png
END:VEVENT
BEGIN:VEVENT
DTSTART;TZID=America/Toronto:20260404T090000
DTEND;TZID=America/Toronto:20260404T120000
DTSTAMP:20260422T221413
CREATED:20260311T153400Z
LAST-MODIFIED:20260311T153400Z
UID:10873-1775293200-1775304000@townshipofperry.ca
SUMMARY:Fire Department Pancake Breakfast
DESCRIPTION:Join the Perry Township Fire Department for their FREE pancake breakfast on Saturday\, April 4\, 2026 from 9am – 12pm at the Perry Fire Station. Everyone is welcome!
URL:https://townshipofperry.ca/event/fire-department-pancake-breakfast/
CATEGORIES:Events
ATTACH;FMTTYPE=image/jpeg:https://townshipofperry.ca/wp-content/uploads/2026/03/FD-Pancake-Breakfast.jpg
END:VEVENT
BEGIN:VEVENT
DTSTART;VALUE=DATE:20260406
DTEND;VALUE=DATE:20260407
DTSTAMP:20260422T221413
CREATED:20260311T162532Z
LAST-MODIFIED:20260311T162532Z
UID:10881-1775433600-1775519999@townshipofperry.ca
SUMMARY:Easter Holiday Closures
DESCRIPTION:All Municipal buildings will be closed on Friday\, April 3\, 2026 for Good Friday. \nThe Municipal Office will be closed on Monday\, April 6 for Easter Monday. The Transfer Station will be open Easter Monday from 8:30 to 4:00pm.
URL:https://townshipofperry.ca/event/easter-holiday-closures-2026-04-06/
CATEGORIES:Events
ATTACH;FMTTYPE=image/png:https://townshipofperry.ca/wp-content/uploads/2026/03/Easter-Holiday-Hours-scaled.png
END:VEVENT
BEGIN:VEVENT
DTSTART;TZID=America/Toronto:20260425T090000
DTEND;TZID=America/Toronto:20260425T120000
DTSTAMP:20260422T221413
CREATED:20260311T152625Z
LAST-MODIFIED:20260311T152625Z
UID:10868-1777107600-1777118400@townshipofperry.ca
SUMMARY:Community Cleanup Day
DESCRIPTION:Join us at the Emsdale Outdoor Rink\, 25 Joseph Street\, for sign in at 9am. We will have coffee and treats to get you started.
URL:https://townshipofperry.ca/event/community-cleanup-day/
CATEGORIES:Events
ATTACH;FMTTYPE=image/png:https://townshipofperry.ca/wp-content/uploads/2026/03/Community-Clean-Up-2026-scaled.png
END:VEVENT
BEGIN:VEVENT
DTSTART;VALUE=DATE:20260428
DTEND;VALUE=DATE:20260429
DTSTAMP:20260422T221413
CREATED:20250106T164453Z
LAST-MODIFIED:20250106T164453Z
UID:10133-1777334400-1777420799@townshipofperry.ca
SUMMARY:Senior Foot Care Clinic - Emsdale Community Centre
DESCRIPTION:Senior Foot Care Clinic – Emsdale Community Centre \n4th Tuesday of Each Month\, $30 per person. Call to register at 705-471-1707
URL:https://townshipofperry.ca/event/senior-foot-care-clinic-emsdale-community-centre-2026-04-28/
CATEGORIES:Events
ATTACH;FMTTYPE=image/jpeg:https://townshipofperry.ca/wp-content/uploads/2025/01/2025-01-06-FOOT-CARE-AFTER-DEC-1ST.jpg
END:VEVENT
BEGIN:VEVENT
DTSTART;TZID=America/Toronto:20260430T120000
DTEND;TZID=America/Toronto:20260430T133000
DTSTAMP:20260422T221413
CREATED:20260422T134553Z
LAST-MODIFIED:20260422T134553Z
UID:11038-1777550400-1777555800@townshipofperry.ca
SUMMARY:Emsdale Seniors Lunch
DESCRIPTION:Thursday\, April 30 at the Emsdale Community Centre \nCost: $10 per person \nCall the CSS Office to reserve at 705-724-6028.
URL:https://townshipofperry.ca/event/emsdale-seniors-lunch-5/
CATEGORIES:Events
ATTACH;FMTTYPE=image/jpeg:https://townshipofperry.ca/wp-content/uploads/2026/04/April-Seniors-Lunch.jpg
END:VEVENT
BEGIN:VEVENT
DTSTART;VALUE=DATE:20260526
DTEND;VALUE=DATE:20260527
DTSTAMP:20260422T221413
CREATED:20250106T164453Z
LAST-MODIFIED:20250106T164453Z
UID:10134-1779753600-1779839999@townshipofperry.ca
SUMMARY:Senior Foot Care Clinic - Emsdale Community Centre
DESCRIPTION:Senior Foot Care Clinic – Emsdale Community Centre \n4th Tuesday of Each Month\, $30 per person. Call to register at 705-471-1707
URL:https://townshipofperry.ca/event/senior-foot-care-clinic-emsdale-community-centre-2026-05-26/
CATEGORIES:Events
ATTACH;FMTTYPE=image/jpeg:https://townshipofperry.ca/wp-content/uploads/2025/01/2025-01-06-FOOT-CARE-AFTER-DEC-1ST.jpg
END:VEVENT
BEGIN:VEVENT
DTSTART;VALUE=DATE:20260623
DTEND;VALUE=DATE:20260624
DTSTAMP:20260422T221413
CREATED:20250106T164453Z
LAST-MODIFIED:20250106T164453Z
UID:10135-1782172800-1782259199@townshipofperry.ca
SUMMARY:Senior Foot Care Clinic - Emsdale Community Centre
DESCRIPTION:Senior Foot Care Clinic – Emsdale Community Centre \n4th Tuesday of Each Month\, $30 per person. Call to register at 705-471-1707
URL:https://townshipofperry.ca/event/senior-foot-care-clinic-emsdale-community-centre-2026-06-23/
CATEGORIES:Events
ATTACH;FMTTYPE=image/jpeg:https://townshipofperry.ca/wp-content/uploads/2025/01/2025-01-06-FOOT-CARE-AFTER-DEC-1ST.jpg
END:VEVENT
BEGIN:VEVENT
DTSTART;VALUE=DATE:20260728
DTEND;VALUE=DATE:20260729
DTSTAMP:20260422T221413
CREATED:20250106T164453Z
LAST-MODIFIED:20250106T164453Z
UID:10136-1785196800-1785283199@townshipofperry.ca
SUMMARY:Senior Foot Care Clinic - Emsdale Community Centre
DESCRIPTION:Senior Foot Care Clinic – Emsdale Community Centre \n4th Tuesday of Each Month\, $30 per person. Call to register at 705-471-1707
URL:https://townshipofperry.ca/event/senior-foot-care-clinic-emsdale-community-centre-2026-07-28/
CATEGORIES:Events
ATTACH;FMTTYPE=image/jpeg:https://townshipofperry.ca/wp-content/uploads/2025/01/2025-01-06-FOOT-CARE-AFTER-DEC-1ST.jpg
END:VEVENT
BEGIN:VEVENT
DTSTART;VALUE=DATE:20260825
DTEND;VALUE=DATE:20260826
DTSTAMP:20260422T221413
CREATED:20250106T164453Z
LAST-MODIFIED:20250106T164453Z
UID:10137-1787616000-1787702399@townshipofperry.ca
SUMMARY:Senior Foot Care Clinic - Emsdale Community Centre
DESCRIPTION:Senior Foot Care Clinic – Emsdale Community Centre \n4th Tuesday of Each Month\, $30 per person. Call to register at 705-471-1707
URL:https://townshipofperry.ca/event/senior-foot-care-clinic-emsdale-community-centre-2026-08-25/
CATEGORIES:Events
ATTACH;FMTTYPE=image/jpeg:https://townshipofperry.ca/wp-content/uploads/2025/01/2025-01-06-FOOT-CARE-AFTER-DEC-1ST.jpg
END:VEVENT
BEGIN:VEVENT
DTSTART;VALUE=DATE:20260922
DTEND;VALUE=DATE:20260923
DTSTAMP:20260422T221413
CREATED:20250106T164453Z
LAST-MODIFIED:20250106T164453Z
UID:10138-1790035200-1790121599@townshipofperry.ca
SUMMARY:Senior Foot Care Clinic - Emsdale Community Centre
DESCRIPTION:Senior Foot Care Clinic – Emsdale Community Centre \n4th Tuesday of Each Month\, $30 per person. Call to register at 705-471-1707
URL:https://townshipofperry.ca/event/senior-foot-care-clinic-emsdale-community-centre-2026-09-22/
CATEGORIES:Events
ATTACH;FMTTYPE=image/jpeg:https://townshipofperry.ca/wp-content/uploads/2025/01/2025-01-06-FOOT-CARE-AFTER-DEC-1ST.jpg
END:VEVENT
BEGIN:VEVENT
DTSTART;VALUE=DATE:20261027
DTEND;VALUE=DATE:20261028
DTSTAMP:20260422T221413
CREATED:20250106T164453Z
LAST-MODIFIED:20250106T164453Z
UID:10139-1793059200-1793145599@townshipofperry.ca
SUMMARY:Senior Foot Care Clinic - Emsdale Community Centre
DESCRIPTION:Senior Foot Care Clinic – Emsdale Community Centre \n4th Tuesday of Each Month\, $30 per person. Call to register at 705-471-1707
URL:https://townshipofperry.ca/event/senior-foot-care-clinic-emsdale-community-centre-2026-10-27/
CATEGORIES:Events
ATTACH;FMTTYPE=image/jpeg:https://townshipofperry.ca/wp-content/uploads/2025/01/2025-01-06-FOOT-CARE-AFTER-DEC-1ST.jpg
END:VEVENT
BEGIN:VEVENT
DTSTART;VALUE=DATE:20261124
DTEND;VALUE=DATE:20261125
DTSTAMP:20260422T221413
CREATED:20250106T164453Z
LAST-MODIFIED:20250106T164453Z
UID:10140-1795478400-1795564799@townshipofperry.ca
SUMMARY:Senior Foot Care Clinic - Emsdale Community Centre
DESCRIPTION:Senior Foot Care Clinic – Emsdale Community Centre \n4th Tuesday of Each Month\, $30 per person. Call to register at 705-471-1707
URL:https://townshipofperry.ca/event/senior-foot-care-clinic-emsdale-community-centre-2026-11-24/
CATEGORIES:Events
ATTACH;FMTTYPE=image/jpeg:https://townshipofperry.ca/wp-content/uploads/2025/01/2025-01-06-FOOT-CARE-AFTER-DEC-1ST.jpg
END:VEVENT
BEGIN:VEVENT
DTSTART;VALUE=DATE:20261222
DTEND;VALUE=DATE:20261223
DTSTAMP:20260422T221413
CREATED:20250106T164453Z
LAST-MODIFIED:20250106T164453Z
UID:10141-1797897600-1797983999@townshipofperry.ca
SUMMARY:Senior Foot Care Clinic - Emsdale Community Centre
DESCRIPTION:Senior Foot Care Clinic – Emsdale Community Centre \n4th Tuesday of Each Month\, $30 per person. Call to register at 705-471-1707
URL:https://townshipofperry.ca/event/senior-foot-care-clinic-emsdale-community-centre-2026-12-22/
CATEGORIES:Events
ATTACH;FMTTYPE=image/jpeg:https://townshipofperry.ca/wp-content/uploads/2025/01/2025-01-06-FOOT-CARE-AFTER-DEC-1ST.jpg
END:VEVENT
BEGIN:VEVENT
DTSTART;VALUE=DATE:20270126
DTEND;VALUE=DATE:20270127
DTSTAMP:20260422T221413
CREATED:20250106T164453Z
LAST-MODIFIED:20250106T164453Z
UID:10142-1800921600-1801007999@townshipofperry.ca
SUMMARY:Senior Foot Care Clinic - Emsdale Community Centre
DESCRIPTION:Senior Foot Care Clinic – Emsdale Community Centre \n4th Tuesday of Each Month\, $30 per person. Call to register at 705-471-1707
URL:https://townshipofperry.ca/event/senior-foot-care-clinic-emsdale-community-centre-2027-01-26/
CATEGORIES:Events
ATTACH;FMTTYPE=image/jpeg:https://townshipofperry.ca/wp-content/uploads/2025/01/2025-01-06-FOOT-CARE-AFTER-DEC-1ST.jpg
END:VEVENT
BEGIN:VEVENT
DTSTART;VALUE=DATE:20270223
DTEND;VALUE=DATE:20270224
DTSTAMP:20260422T221413
CREATED:20250106T164453Z
LAST-MODIFIED:20250106T164453Z
UID:10143-1803340800-1803427199@townshipofperry.ca
SUMMARY:Senior Foot Care Clinic - Emsdale Community Centre
DESCRIPTION:Senior Foot Care Clinic – Emsdale Community Centre \n4th Tuesday of Each Month\, $30 per person. Call to register at 705-471-1707
URL:https://townshipofperry.ca/event/senior-foot-care-clinic-emsdale-community-centre-2027-02-23/
CATEGORIES:Events
ATTACH;FMTTYPE=image/jpeg:https://townshipofperry.ca/wp-content/uploads/2025/01/2025-01-06-FOOT-CARE-AFTER-DEC-1ST.jpg
END:VEVENT
BEGIN:VEVENT
DTSTART;VALUE=DATE:20270323
DTEND;VALUE=DATE:20270324
DTSTAMP:20260422T221413
CREATED:20250106T164453Z
LAST-MODIFIED:20250106T164453Z
UID:10144-1805760000-1805846399@townshipofperry.ca
SUMMARY:Senior Foot Care Clinic - Emsdale Community Centre
DESCRIPTION:Senior Foot Care Clinic – Emsdale Community Centre \n4th Tuesday of Each Month\, $30 per person. Call to register at 705-471-1707
URL:https://townshipofperry.ca/event/senior-foot-care-clinic-emsdale-community-centre-2027-03-23/
CATEGORIES:Events
ATTACH;FMTTYPE=image/jpeg:https://townshipofperry.ca/wp-content/uploads/2025/01/2025-01-06-FOOT-CARE-AFTER-DEC-1ST.jpg
END:VEVENT
BEGIN:VEVENT
DTSTART;VALUE=DATE:20270427
DTEND;VALUE=DATE:20270428
DTSTAMP:20260422T221413
CREATED:20250106T164453Z
LAST-MODIFIED:20250106T164453Z
UID:10145-1808784000-1808870399@townshipofperry.ca
SUMMARY:Senior Foot Care Clinic - Emsdale Community Centre
DESCRIPTION:Senior Foot Care Clinic – Emsdale Community Centre \n4th Tuesday of Each Month\, $30 per person. Call to register at 705-471-1707
URL:https://townshipofperry.ca/event/senior-foot-care-clinic-emsdale-community-centre-2027-04-27/
CATEGORIES:Events
ATTACH;FMTTYPE=image/jpeg:https://townshipofperry.ca/wp-content/uploads/2025/01/2025-01-06-FOOT-CARE-AFTER-DEC-1ST.jpg
END:VEVENT
BEGIN:VEVENT
DTSTART;VALUE=DATE:20270525
DTEND;VALUE=DATE:20270526
DTSTAMP:20260422T221413
CREATED:20250106T164453Z
LAST-MODIFIED:20250106T164453Z
UID:10146-1811203200-1811289599@townshipofperry.ca
SUMMARY:Senior Foot Care Clinic - Emsdale Community Centre
DESCRIPTION:Senior Foot Care Clinic – Emsdale Community Centre \n4th Tuesday of Each Month\, $30 per person. Call to register at 705-471-1707
URL:https://townshipofperry.ca/event/senior-foot-care-clinic-emsdale-community-centre-2027-05-25/
CATEGORIES:Events
ATTACH;FMTTYPE=image/jpeg:https://townshipofperry.ca/wp-content/uploads/2025/01/2025-01-06-FOOT-CARE-AFTER-DEC-1ST.jpg
END:VEVENT
END:VCALENDAR