BEGIN:VCALENDAR
VERSION:2.0
PRODID:-//The Township of Perry - ECPv6.15.18//NONSGML v1.0//EN
CALSCALE:GREGORIAN
METHOD:PUBLISH
X-WR-CALNAME:The Township of Perry
X-ORIGINAL-URL:https://townshipofperry.ca
X-WR-CALDESC:Events for The Township of Perry
REFRESH-INTERVAL;VALUE=DURATION:PT1H
X-Robots-Tag:noindex
X-PUBLISHED-TTL:PT1H
BEGIN:VTIMEZONE
TZID:America/Toronto
BEGIN:DAYLIGHT
TZOFFSETFROM:-0500
TZOFFSETTO:-0400
TZNAME:EDT
DTSTART:20220313T070000
END:DAYLIGHT
BEGIN:STANDARD
TZOFFSETFROM:-0400
TZOFFSETTO:-0500
TZNAME:EST
DTSTART:20221106T060000
END:STANDARD
BEGIN:DAYLIGHT
TZOFFSETFROM:-0500
TZOFFSETTO:-0400
TZNAME:EDT
DTSTART:20230312T070000
END:DAYLIGHT
BEGIN:STANDARD
TZOFFSETFROM:-0400
TZOFFSETTO:-0500
TZNAME:EST
DTSTART:20231105T060000
END:STANDARD
BEGIN:DAYLIGHT
TZOFFSETFROM:-0500
TZOFFSETTO:-0400
TZNAME:EDT
DTSTART:20240310T070000
END:DAYLIGHT
BEGIN:STANDARD
TZOFFSETFROM:-0400
TZOFFSETTO:-0500
TZNAME:EST
DTSTART:20241103T060000
END:STANDARD
END:VTIMEZONE
BEGIN:VEVENT
DTSTART;TZID=America/Toronto:20231209T100000
DTEND;TZID=America/Toronto:20231209T140000
DTSTAMP:20260422T182457
CREATED:20231204T204256Z
LAST-MODIFIED:20231204T204256Z
UID:6989-1702116000-1702130400@townshipofperry.ca
SUMMARY:Christmas Craft Sale – Land of Lakes Public School
DESCRIPTION:Christmas Craft Sale – Land of Lakes Public School (Burk’s Falls) \nSaturday December 9 from 10 a.m. to 2 p.m.
URL:https://townshipofperry.ca/event/christmas-craft-sale-land-of-lakes-public-school/
CATEGORIES:Events
END:VEVENT
BEGIN:VEVENT
DTSTART;TZID=America/Toronto:20231208T180000
DTEND;TZID=America/Toronto:20231208T190000
DTSTAMP:20260422T182457
CREATED:20231129T153601Z
LAST-MODIFIED:20231129T153601Z
UID:6974-1702058400-1702062000@townshipofperry.ca
SUMMARY:YAC Meeting
DESCRIPTION:YAC Meeting at the Perry Township Public Library from 6 p.m. to 7 p.m.
URL:https://townshipofperry.ca/event/yac-meeting/
CATEGORIES:Events
ATTACH;FMTTYPE=image/jpeg:https://townshipofperry.ca/wp-content/uploads/2023/05/YACatPerryLibrary.jpg
END:VEVENT
BEGIN:VEVENT
DTSTART;TZID=America/Toronto:20231207T153000
DTEND;TZID=America/Toronto:20231207T163000
DTSTAMP:20260422T182457
CREATED:20231129T153705Z
LAST-MODIFIED:20231129T153705Z
UID:6976-1701963000-1701966600@townshipofperry.ca
SUMMARY:Lego Club @ Perry Township Public Library
DESCRIPTION:Lego Club @ Perry Township Public Library from 3:30 p.m. to 4:30 p.m.
URL:https://townshipofperry.ca/event/lego-club-perry-township-public-library/
CATEGORIES:Events
END:VEVENT
BEGIN:VEVENT
DTSTART;TZID=America/Toronto:20231206T190000
DTEND;TZID=America/Toronto:20231206T210000
DTSTAMP:20260422T182457
CREATED:20230918T121411Z
LAST-MODIFIED:20230918T121411Z
UID:6577-1701889200-1701896400@townshipofperry.ca
SUMMARY:Council Meeting @ 7 p.m.
DESCRIPTION:Regular Council Meeting of Council at 7 p.m.\, in the Council Chambers at the Municipal Office.
URL:https://townshipofperry.ca/event/council-meeting-7-p-m-32/
CATEGORIES:Meetings
ATTACH;FMTTYPE=image/jpeg:https://townshipofperry.ca/wp-content/uploads/2022/05/TwpPerryLogo-e1652713783977.jpg
END:VEVENT
BEGIN:VEVENT
DTSTART;TZID=America/Toronto:20231206T183000
DTEND;TZID=America/Toronto:20231206T200000
DTSTAMP:20260422T182457
CREATED:20231031T142842Z
LAST-MODIFIED:20231031T142842Z
UID:6826-1701887400-1701892800@townshipofperry.ca
SUMMARY:Firefighter Food Drive – South Almaguin
DESCRIPTION:Firefighter Food Drive – South Almaguin \nWednesday December 6 \nStarting at 6:30 p.m. \nLeave your porch light on so the firefighters will know to pick up the food you donate. Non-perishable items only please. \n**NOTE: This will be taking place in Emsdale only. Novar residents\, stay tuned for more information for your collection date.
URL:https://townshipofperry.ca/event/firefighter-food-drive-south-almaguin/
CATEGORIES:Events
END:VEVENT
BEGIN:VEVENT
DTSTART;TZID=America/Toronto:20231206T100000
DTEND;TZID=America/Toronto:20231207T170000
DTSTAMP:20260422T182457
CREATED:20231129T152915Z
LAST-MODIFIED:20231129T152949Z
UID:6965-1701856800-1701968400@townshipofperry.ca
SUMMARY:Event: Write Your Letter to Santa
DESCRIPTION:The Perry Township Public Library is hosting a Write Your Letter to Santa! \nPaper\, festive stickers\, and envelopes provided! Stop by the Library today.
URL:https://townshipofperry.ca/event/event-write-your-letter-to-santa/
CATEGORIES:Events
END:VEVENT
BEGIN:VEVENT
DTSTART;VALUE=DATE:20231206
DTEND;VALUE=DATE:20231207
DTSTAMP:20260422T182458
CREATED:20231005T141536Z
LAST-MODIFIED:20231005T141536Z
UID:6666-1701820800-1701907199@townshipofperry.ca
SUMMARY:2024 Transfer Station Passes Available at Municipal Office
DESCRIPTION:Transfer Station Passes for 2024 will be available for pick up starting today\, Wednesday December 6\, 2023\, at the Municipal Office. \nShould you have any questions\, please contact the Municipal Office at 705-636-5941.
URL:https://townshipofperry.ca/event/2024-transfer-station-passes-available-at-municipal-office/
CATEGORIES:Events
END:VEVENT
BEGIN:VEVENT
DTSTART;VALUE=DATE:20231205
DTEND;VALUE=DATE:20231206
DTSTAMP:20260422T182458
CREATED:20231115T203325Z
LAST-MODIFIED:20231115T203325Z
UID:6908-1701734400-1701820799@townshipofperry.ca
SUMMARY:All Municipal Facilities CLOSED @ 12 noon
DESCRIPTION:All Municipal Facilities\, including the Municipal Office\, Library\, and Transfer Station\, will be CLOSED at 12 noon today\, Tuesday December 5\, 2023\, for a staff function.
URL:https://townshipofperry.ca/event/all-municipal-facilities-closed-12-noon/
CATEGORIES:Events,Meetings
END:VEVENT
BEGIN:VEVENT
DTSTART;TZID=America/Toronto:20231204T190000
DTEND;TZID=America/Toronto:20231204T200000
DTSTAMP:20260422T182458
CREATED:20230918T121653Z
LAST-MODIFIED:20230918T121653Z
UID:6583-1701716400-1701720000@townshipofperry.ca
SUMMARY:Recreation and Culture Committee Meeting @ 7 p.m.
DESCRIPTION:Recreation and Culture Committee Meeting at 7 p.m.\, in the Council Chambers at the Municipal Office.
URL:https://townshipofperry.ca/event/recreation-and-culture-committee-meeting-7-p-m-17/
CATEGORIES:Meetings
ATTACH;FMTTYPE=image/jpeg:https://townshipofperry.ca/wp-content/uploads/2022/05/TwpPerryLogo-e1652713783977.jpg
END:VEVENT
BEGIN:VEVENT
DTSTART;TZID=America/Toronto:20231202T183000
DTEND;TZID=America/Toronto:20231202T193000
DTSTAMP:20260422T182458
CREATED:20231016T152610Z
LAST-MODIFIED:20231016T152610Z
UID:6762-1701541800-1701545400@townshipofperry.ca
SUMMARY:Burk's Falls Santa Claus Parade
DESCRIPTION:Saturday December 2\, 2023 on Main Street\, Burk’s Falls. \nStarting at 6:30 p.m.
URL:https://townshipofperry.ca/event/burks-falls-santa-claus-parade-2/
CATEGORIES:Events
END:VEVENT
BEGIN:VEVENT
DTSTART;TZID=America/Toronto:20231201T190000
DTEND;TZID=America/Toronto:20231201T200000
DTSTAMP:20260422T182458
CREATED:20231129T153408Z
LAST-MODIFIED:20231129T153408Z
UID:6970-1701457200-1701460800@townshipofperry.ca
SUMMARY:Trivia Night @ Perry Public Library
DESCRIPTION:Trivia Night is tonight at Perry Township Public Library at 7 p.m.! Test your knowledge today. \nContact the Library for more information at 705-636-5454.
URL:https://townshipofperry.ca/event/trivia-night-perry-public-library/
CATEGORIES:Events
END:VEVENT
BEGIN:VEVENT
DTSTART;TZID=America/Toronto:20231201T160000
DTEND;TZID=America/Toronto:20231201T170000
DTSTAMP:20260422T182458
CREATED:20231005T141427Z
LAST-MODIFIED:20231005T141556Z
UID:6664-1701446400-1701450000@townshipofperry.ca
SUMMARY:2024 Transfer Station Passes Mailing Form Due
DESCRIPTION:Submit your MAIL IN FORM to receive your 2024 Transfer Station Pass by mail no later than 4 p.m. today\, Friday December 1\, 2023. \n  \nTransfer Station Passes for 2024 will be available at the Municipal Office starting Wednesday December 6\, 2023. \nForms are available for pick up at the Transfer Station\, Municipal Office\, or on our website under Municipal Services – Garbage / Recycling. \nShould you have any questions\, please contact the Municipal Office at 705-636-5941.
URL:https://townshipofperry.ca/event/2024-transfer-station-passes/
CATEGORIES:Events
END:VEVENT
BEGIN:VEVENT
DTSTART;TZID=America/Toronto:20231201T153000
DTEND;TZID=America/Toronto:20231201T160000
DTSTAMP:20260422T182458
CREATED:20231129T153505Z
LAST-MODIFIED:20231129T153505Z
UID:6972-1701444600-1701446400@townshipofperry.ca
SUMMARY:YAC Book Club Meeting
DESCRIPTION:YAC Book Club Meeting at the Perry Township Public Library! Starting at 3:30 p.m.
URL:https://townshipofperry.ca/event/yac-book-club-meeting/
CATEGORIES:Events
ATTACH;FMTTYPE=image/jpeg:https://townshipofperry.ca/wp-content/uploads/2023/05/YACatPerryLibrary.jpg
END:VEVENT
BEGIN:VEVENT
DTSTART;TZID=America/Toronto:20231130T120000
DTEND;TZID=America/Toronto:20231130T140000
DTSTAMP:20260422T182458
CREATED:20231011T132442Z
LAST-MODIFIED:20231011T132442Z
UID:6713-1701345600-1701352800@townshipofperry.ca
SUMMARY:Seniors’ Luncheons (65+) at Emsdale Community Centre
DESCRIPTION:Seniors’ Luncheons (65+) at Emsdale Community Centre \nEast Parry Sound Community Support Services is once again hosting Seniors’ Luncheons at the new Emsdale Community Centre. RSVP at least one week in advance to 705-724-6028 or 1-888-521-0000. Cost is $10 per person (cash only).
URL:https://townshipofperry.ca/event/seniors-luncheons-65-at-emsdale-community-centre-2/
CATEGORIES:Events
ATTACH;FMTTYPE=image/jpeg:https://townshipofperry.ca/wp-content/uploads/2023/10/Seniors-Dinners-2023.jpg
END:VEVENT
BEGIN:VEVENT
DTSTART;VALUE=DATE:20231128
DTEND;VALUE=DATE:20231129
DTSTAMP:20260422T182458
CREATED:20231127T205150Z
LAST-MODIFIED:20231127T205150Z
UID:6940-1701129600-1701215999@townshipofperry.ca
SUMMARY:REGISTRATION OPEN: Christmas Light and Decorating Contest 2023
DESCRIPTION:It’s BACK!\n\n\n\nThe Township of Perry’s RCC Christmas Light and Decorating Contest is here again.\n\n\n\nTo register and participate\, email us at admin@townshipofperry.ca or give us a call by Friday December 15\, 2023. Prizes for first and second place – plus an additional category of ‘People’s Choice’.\n\n\n\nFor more information\, contact the Municipal Office by email or telephone 705-636-5941. The contest is open to Perry residents only.
URL:https://townshipofperry.ca/event/registration-open-christmas-light-and-decorating-contest-2023/
CATEGORIES:Events
END:VEVENT
BEGIN:VEVENT
DTSTART;TZID=America/Toronto:20231124T190000
DTEND;TZID=America/Toronto:20231124T200000
DTSTAMP:20260422T182458
CREATED:20231016T151622Z
LAST-MODIFIED:20231016T151622Z
UID:6754-1700852400-1700856000@townshipofperry.ca
SUMMARY:Huntsville Santa Claus Parade
DESCRIPTION:Starting at 7 p.m. on the Main Street of Huntsville on Friday November 24\, 2023.
URL:https://townshipofperry.ca/event/huntsville-santa-claus-parade-2/
CATEGORIES:Events
END:VEVENT
BEGIN:VEVENT
DTSTART;TZID=America/Toronto:20231121T143000
DTEND;TZID=America/Toronto:20231121T163000
DTSTAMP:20260422T182458
CREATED:20231121T142002Z
LAST-MODIFIED:20231121T142002Z
UID:6920-1700577000-1700584200@townshipofperry.ca
SUMMARY:Municipal Office Closed @ 2:30 p.m.
DESCRIPTION:The Municipal Office will be closed at 2:30 p.m. for a staff meeting. We apologize for any inconvenience.
URL:https://townshipofperry.ca/event/municipal-office-closed-230-p-m-6/
CATEGORIES:Events,Meetings
ATTACH;FMTTYPE=image/jpeg:https://townshipofperry.ca/wp-content/uploads/2022/07/2020-05-22-Perry-Public_Notice-e1658756234566.jpg
END:VEVENT
BEGIN:VEVENT
DTSTART;TZID=America/Toronto:20231118T090000
DTEND;TZID=America/Toronto:20231119T160000
DTSTAMP:20260422T182458
CREATED:20231016T151320Z
LAST-MODIFIED:20231016T151327Z
UID:6747-1700298000-1700409600@townshipofperry.ca
SUMMARY:Holiday Craft Market - Burk's Falls
DESCRIPTION:  \nCrafters Corner will be hosting the Holiday Craft Sale again this year at the Burks Falls arena. Lots of vendors including Scentsy\, The Lavender Raven\, Roseanne’s Freeze Dried Treats\, and many more being added. Bake sale tables to pick up some goodies as well as a raffle table and public skating on Sunday. \nWhen: Saturday November 18\, 2023 and Sunday November 19\, 2023 \nWhere: Burk’s Falls\, Armour\, Ryerson Arena \nWhen: 9 a.m. to 4 p.m. each day \n 
URL:https://townshipofperry.ca/event/holiday-craft-market-burk/
CATEGORIES:Events
END:VEVENT
BEGIN:VEVENT
DTSTART;TZID=America/Toronto:20231118T090000
DTEND;TZID=America/Toronto:20231118T140000
DTSTAMP:20260422T182458
CREATED:20231016T151856Z
LAST-MODIFIED:20231016T151856Z
UID:6756-1700298000-1700316000@townshipofperry.ca
SUMMARY:Christmas Bazaar - Kearney Legion
DESCRIPTION:Saturday November 18\, 2023 from 9 a.m. to 2 p.m. at the Kearney Legion\, Branch 276.
URL:https://townshipofperry.ca/event/christmas-bazaar-kearney-legion/
CATEGORIES:Events
END:VEVENT
BEGIN:VEVENT
DTSTART;TZID=America/Toronto:20231115T190000
DTEND;TZID=America/Toronto:20231115T210000
DTSTAMP:20260422T182458
CREATED:20230918T121158Z
LAST-MODIFIED:20230918T121158Z
UID:6575-1700074800-1700082000@townshipofperry.ca
SUMMARY:Council Meeting @ 7 p.m.
DESCRIPTION:Regular Council Meeting of Council at 7 p.m.\, in the Council Chambers at the Municipal Office.
URL:https://townshipofperry.ca/event/council-meeting-7-p-m-31/
CATEGORIES:Meetings
ATTACH;FMTTYPE=image/jpeg:https://townshipofperry.ca/wp-content/uploads/2022/05/TwpPerryLogo-e1652713783977.jpg
END:VEVENT
BEGIN:VEVENT
DTSTART;VALUE=DATE:20231113
DTEND;VALUE=DATE:20231114
DTSTAMP:20260422T182458
CREATED:20231016T152950Z
LAST-MODIFIED:20231016T153322Z
UID:6766-1699833600-1699919999@townshipofperry.ca
SUMMARY:Remembrance Day - Municipal Office Closed
DESCRIPTION:Municipal Office will be CLOSED on Monday November 13 in recognition of Remembrance Day.
URL:https://townshipofperry.ca/event/remembrance-day-municipal-office-closed/
CATEGORIES:Events,Meetings
ATTACH;FMTTYPE=image/jpeg:https://townshipofperry.ca/wp-content/uploads/2022/05/Public-Notice-e1658755788594.jpg
END:VEVENT
BEGIN:VEVENT
DTSTART;TZID=America/Toronto:20231112T100000
DTEND;TZID=America/Toronto:20231112T150000
DTSTAMP:20260422T182458
CREATED:20231031T140223Z
LAST-MODIFIED:20231031T140223Z
UID:6822-1699783200-1699801200@townshipofperry.ca
SUMMARY:Little Extra’s Christmas Craft Sale and Luncheon
DESCRIPTION:Little Extra’s Christmas Craft Sale and Luncheon \nSunday November 12\, 2023 at Novar Community Centre \n10 a.m. to 3 p.m.
URL:https://townshipofperry.ca/event/little-extras-christmas-craft-sale-and-luncheon/
CATEGORIES:Events
END:VEVENT
BEGIN:VEVENT
DTSTART;TZID=America/Toronto:20231111T110000
DTEND;TZID=America/Toronto:20231111T120000
DTSTAMP:20260422T182458
CREATED:20231108T124153Z
LAST-MODIFIED:20231108T124153Z
UID:6871-1699700400-1699704000@townshipofperry.ca
SUMMARY:Kearney Legion Remembrance Day Service
DESCRIPTION:Kearney Legion Remembrance Day Service \nSaturday November 11 at 11 a.m. \n58 Park Road\, Kearney
URL:https://townshipofperry.ca/event/kearney-legion-remembrance-day-service/
CATEGORIES:Events
END:VEVENT
BEGIN:VEVENT
DTSTART;TZID=America/Toronto:20231111T103000
DTEND;TZID=America/Toronto:20231111T113000
DTSTAMP:20260422T182458
CREATED:20231031T133002Z
LAST-MODIFIED:20231031T133002Z
UID:6817-1699698600-1699702200@townshipofperry.ca
SUMMARY:Remembrance Day Ceremony Emsdale
DESCRIPTION:Remembrance Day Ceremony \nEmsdale Cenotaph\, Joseph Street \nSaturday November 11\, 2023 at 10:55 a.m.
URL:https://townshipofperry.ca/event/remembrance-day-ceremony-emsdale/
CATEGORIES:Events,Meetings
END:VEVENT
BEGIN:VEVENT
DTSTART;TZID=America/Toronto:20231111T080000
DTEND;TZID=America/Toronto:20231111T160000
DTSTAMP:20260422T182458
CREATED:20231016T153057Z
LAST-MODIFIED:20231016T153057Z
UID:6768-1699689600-1699718400@townshipofperry.ca
SUMMARY:Transfer Station CLOSED (for Remembrance Day)
DESCRIPTION:The Transfer Station will be CLOSED on Saturday November 11\, 2023 in recognition of Remembrance Day.
URL:https://townshipofperry.ca/event/transfer-station-closed-for-remembrance-day/
CATEGORIES:Events,Meetings
ATTACH;FMTTYPE=image/png:https://townshipofperry.ca/wp-content/uploads/2022/05/Notice.png
END:VEVENT
BEGIN:VEVENT
DTSTART;VALUE=DATE:20231111
DTEND;VALUE=DATE:20231112
DTSTAMP:20260422T182458
CREATED:20231016T152836Z
LAST-MODIFIED:20231016T152836Z
UID:6764-1699660800-1699747199@townshipofperry.ca
SUMMARY:Remembrance Day
DESCRIPTION:
URL:https://townshipofperry.ca/event/remembrance-day-2/
CATEGORIES:Events,Meetings
END:VEVENT
BEGIN:VEVENT
DTSTART;TZID=America/Toronto:20231108T190000
DTEND;TZID=America/Toronto:20231108T200000
DTSTAMP:20260422T182458
CREATED:20230918T121804Z
LAST-MODIFIED:20230918T121804Z
UID:6585-1699470000-1699473600@townshipofperry.ca
SUMMARY:Library Board Meeting @ 7 p.m.
DESCRIPTION:Library Board Meeting at 7 p.m.\, at the Perry Township Public Library.
URL:https://townshipofperry.ca/event/library-board-meeting-7-p-m-3/
CATEGORIES:Meetings
ATTACH;FMTTYPE=image/jpeg:https://townshipofperry.ca/wp-content/uploads/2022/05/TwpPerryLogo-e1652713783977.jpg
END:VEVENT
BEGIN:VEVENT
DTSTART;TZID=America/Toronto:20231106T190000
DTEND;TZID=America/Toronto:20231106T200000
DTSTAMP:20260422T182458
CREATED:20230918T121608Z
LAST-MODIFIED:20230918T121608Z
UID:6581-1699297200-1699300800@townshipofperry.ca
SUMMARY:Recreation and Culture Committee Meeting @ 7 p.m.
DESCRIPTION:Recreation and Culture Committee Meeting at 7 p.m.\, in the Council Chambers at the Municipal Office.
URL:https://townshipofperry.ca/event/recreation-and-culture-committee-meeting-7-p-m-16/
CATEGORIES:Meetings
ATTACH;FMTTYPE=image/jpeg:https://townshipofperry.ca/wp-content/uploads/2022/05/TwpPerryLogo-e1652713783977.jpg
END:VEVENT
BEGIN:VEVENT
DTSTART;TZID=America/Toronto:20231104T130000
DTEND;TZID=America/Toronto:20231104T140000
DTSTAMP:20260422T182458
CREATED:20230918T122721Z
LAST-MODIFIED:20230918T122721Z
UID:6590-1699102800-1699106400@townshipofperry.ca
SUMMARY:Santa Claus Ski Show - Kearney
DESCRIPTION:The Santa Claus Charity Ski Show returns to Mirror Bay in Kearney on Saturday November 4\, 2023. Show starts at 1 p.m. \nDonations accepted for the Lions Club Food Drive.
URL:https://townshipofperry.ca/event/santa-claus-ski-show-kearney/
CATEGORIES:Events
END:VEVENT
BEGIN:VEVENT
DTSTART;VALUE=DATE:20231104
DTEND;VALUE=DATE:20231105
DTSTAMP:20260422T182458
CREATED:20231011T132930Z
LAST-MODIFIED:20231011T132930Z
UID:6715-1699056000-1699142399@townshipofperry.ca
SUMMARY:Mindfulness Art Session & Talk with Annette Chiappe
DESCRIPTION:Mindfulness Art Session & Talk with Annette Chiappe \nSaturday November 4\, 2023 at the Perry Township Public Library. Cost $70/person \n(snow date: Saturday November 11\, 2023) \nContact the Perry Library at 705-636-5454 or Ms. Chiappe at 705-795-5548 to reserve your spot. Space is limited!
URL:https://townshipofperry.ca/event/mindfulness-art-session-talk-with-annette-chiappe/
CATEGORIES:Events
END:VEVENT
END:VCALENDAR