BEGIN:VCALENDAR
VERSION:2.0
PRODID:-//The Township of Perry - ECPv6.15.18//NONSGML v1.0//EN
CALSCALE:GREGORIAN
METHOD:PUBLISH
X-ORIGINAL-URL:https://townshipofperry.ca
X-WR-CALDESC:Events for The Township of Perry
REFRESH-INTERVAL;VALUE=DURATION:PT1H
X-Robots-Tag:noindex
X-PUBLISHED-TTL:PT1H
BEGIN:VTIMEZONE
TZID:America/Toronto
BEGIN:DAYLIGHT
TZOFFSETFROM:-0500
TZOFFSETTO:-0400
TZNAME:EDT
DTSTART:20240310T070000
END:DAYLIGHT
BEGIN:STANDARD
TZOFFSETFROM:-0400
TZOFFSETTO:-0500
TZNAME:EST
DTSTART:20241103T060000
END:STANDARD
BEGIN:DAYLIGHT
TZOFFSETFROM:-0500
TZOFFSETTO:-0400
TZNAME:EDT
DTSTART:20250309T070000
END:DAYLIGHT
BEGIN:STANDARD
TZOFFSETFROM:-0400
TZOFFSETTO:-0500
TZNAME:EST
DTSTART:20251102T060000
END:STANDARD
BEGIN:DAYLIGHT
TZOFFSETFROM:-0500
TZOFFSETTO:-0400
TZNAME:EDT
DTSTART:20260308T070000
END:DAYLIGHT
BEGIN:STANDARD
TZOFFSETFROM:-0400
TZOFFSETTO:-0500
TZNAME:EST
DTSTART:20261101T060000
END:STANDARD
END:VTIMEZONE
BEGIN:VEVENT
DTSTART;VALUE=DATE:20250421
DTEND;VALUE=DATE:20250422
DTSTAMP:20260422T190016
CREATED:20250317T193457Z
LAST-MODIFIED:20250325T134117Z
UID:9678-1745193600-1745279999@townshipofperry.ca
SUMMARY:Easter Monday - Municipal Office CLOSED
DESCRIPTION:Easter Monday – Municipal Office and Library CLOSED \nThe Transfer Station will be open 8am to 4pm on Easter Monday\, April 21.
URL:https://townshipofperry.ca/event/easter-monday-municipal-office-closed/
CATEGORIES:Events,Meetings
END:VEVENT
BEGIN:VEVENT
DTSTART;VALUE=DATE:20250422
DTEND;VALUE=DATE:20250423
DTSTAMP:20260422T190016
CREATED:20250416T191709Z
LAST-MODIFIED:20250416T191709Z
UID:9836-1745280000-1745366399@townshipofperry.ca
SUMMARY:Earth Day 2025
DESCRIPTION:Earth Day 2025 \nVisit earthday.org for more information and don’t forget to join us at our Community Clean Up on April 26\, 2025.
URL:https://townshipofperry.ca/event/earth-day-2025/
CATEGORIES:Events
ATTACH;FMTTYPE=image/jpeg:https://townshipofperry.ca/wp-content/uploads/2025/04/Earthday-2025.jpg
END:VEVENT
BEGIN:VEVENT
DTSTART;TZID=America/Toronto:20250422T100000
DTEND;TZID=America/Toronto:20250422T120000
DTSTAMP:20260422T190016
CREATED:20250224T134900Z
LAST-MODIFIED:20250224T134900Z
UID:9499-1745316000-1745323200@townshipofperry.ca
SUMMARY:Fall Prevention Program - Burk's Falls
DESCRIPTION:Fall Prevention Program – Burk’s Falls \nTuesdays & Thursdays\, 10AM \n12 week program offered at the Burk’s Falls Arena (upstairs) \nRegister at 416-859-6953
URL:https://townshipofperry.ca/event/fall-prevention-program-burks-falls-2025-04-22/
CATEGORIES:Events
ATTACH;FMTTYPE=image/jpeg:https://townshipofperry.ca/wp-content/uploads/2025/02/2025-02-24-Fall-Prevention-Classes-BF.jpg
END:VEVENT
BEGIN:VEVENT
DTSTART;TZID=America/Toronto:20250424T100000
DTEND;TZID=America/Toronto:20250424T120000
DTSTAMP:20260422T190016
CREATED:20250224T134934Z
LAST-MODIFIED:20250224T134934Z
UID:9511-1745488800-1745496000@townshipofperry.ca
SUMMARY:Fall Prevention Program - Burk's Falls
DESCRIPTION:Fall Prevention Program – Burk’s Falls \nTuesdays & Thursdays\, 10AM \n12 week program offered at the Burk’s Falls Arena (upstairs) \nRegister at 416-859-6953
URL:https://townshipofperry.ca/event/fall-prevention-program-burks-falls-2-2025-04-24/
CATEGORIES:Events
ATTACH;FMTTYPE=image/jpeg:https://townshipofperry.ca/wp-content/uploads/2025/02/2025-02-24-Fall-Prevention-Classes-BF.jpg
END:VEVENT
BEGIN:VEVENT
DTSTART;TZID=America/Toronto:20250424T120000
DTEND;TZID=America/Toronto:20250424T140000
DTSTAMP:20260422T190016
CREATED:20250331T120852Z
LAST-MODIFIED:20250331T120852Z
UID:9778-1745496000-1745503200@townshipofperry.ca
SUMMARY:Emsdale Senior Luncheon
DESCRIPTION:Emsdale Senior Luncheon \nThursday April 24\, 2025 \nEmsdale Community Centre\, 25 Joseph Street \n$10 per person. Register at 705-724-6028. \n 
URL:https://townshipofperry.ca/event/emsdale-senior-luncheon-2/
CATEGORIES:Events
ATTACH;FMTTYPE=image/jpeg:https://townshipofperry.ca/wp-content/uploads/2025/03/2025-03-31-Emsdale-Senior-Luch.jpg
END:VEVENT
BEGIN:VEVENT
DTSTART;TZID=America/Toronto:20250424T130000
DTEND;TZID=America/Toronto:20250424T133000
DTSTAMP:20260422T190016
CREATED:20250324T154333Z
LAST-MODIFIED:20250324T154333Z
UID:9728-1745499600-1745501400@townshipofperry.ca
SUMMARY:Adult Book Club
DESCRIPTION:Adult Book Club \nContact the Perry Township Public Library for more information at 705-636-5454
URL:https://townshipofperry.ca/event/adult-book-club-6/
CATEGORIES:Events
ATTACH;FMTTYPE=image/jpeg:https://townshipofperry.ca/wp-content/uploads/2024/01/book-club.jpg
END:VEVENT
BEGIN:VEVENT
DTSTART;TZID=America/Toronto:20250425T190000
DTEND;TZID=America/Toronto:20250425T200000
DTSTAMP:20260422T190016
CREATED:20250324T154538Z
LAST-MODIFIED:20250324T154538Z
UID:9732-1745607600-1745611200@townshipofperry.ca
SUMMARY:Adult Craft Night @ Library
DESCRIPTION:Adult Craft Night @ Library \n705-636-5454
URL:https://townshipofperry.ca/event/adult-craft-night-library-4/
CATEGORIES:Events
ATTACH;FMTTYPE=image/jpeg:https://townshipofperry.ca/wp-content/uploads/2024/01/crafts.jpg
END:VEVENT
BEGIN:VEVENT
DTSTART;TZID=America/Toronto:20250426T090000
DTEND;TZID=America/Toronto:20250426T120000
DTSTAMP:20260422T190016
CREATED:20250313T131343Z
LAST-MODIFIED:20250325T134016Z
UID:9641-1745658000-1745668800@townshipofperry.ca
SUMMARY:Community Clean-Up Day!
DESCRIPTION:Community Clean-Up Day! \nJoin the Recreation and Culture Committee on Saturday April 26 from 9am to Noon and help clean up your community. Registration opens at 9am at the Outdoor Rink of the Emsdale Park. If you want to register ahead\, please contact the Municipal Office at 705-636-5941. \n  \nRain or Shine Event!
URL:https://townshipofperry.ca/event/community-roadside-clean-up/
CATEGORIES:Events
ATTACH;FMTTYPE=image/png:https://townshipofperry.ca/wp-content/uploads/2025/03/2025-03-25-Spring-Community-Clean-Up.png
END:VEVENT
BEGIN:VEVENT
DTSTART;TZID=America/Toronto:20250426T110000
DTEND;TZID=America/Toronto:20250426T113000
DTSTAMP:20260422T190016
CREATED:20250324T154440Z
LAST-MODIFIED:20250324T154440Z
UID:9730-1745665200-1745667000@townshipofperry.ca
SUMMARY:Knit & Crochet Group
DESCRIPTION:Knit & Crochet Group \nContact the Perry Township Library for more information 705-636-5454
URL:https://townshipofperry.ca/event/knit-crochet-group-2/
CATEGORIES:Events
ATTACH;FMTTYPE=image/jpeg:https://townshipofperry.ca/wp-content/uploads/2024/01/crochest.jpg
END:VEVENT
BEGIN:VEVENT
DTSTART;TZID=America/Toronto:20250426T170000
DTEND;TZID=America/Toronto:20250426T190000
DTSTAMP:20260422T190016
CREATED:20250415T114559Z
LAST-MODIFIED:20250415T114559Z
UID:9833-1745686800-1745694000@townshipofperry.ca
SUMMARY:Roast Beef Dinner - St. Patrick's Church
DESCRIPTION:Roast Beef Dinner – St. Patrick’s Church \nBurk’s Falls Legion\, 9 Mary Street \nApril 26\, 5PM-7PM \n$20 per adult\, $10 per child \n 
URL:https://townshipofperry.ca/event/roast-beef-dinner-st-patricks-church/
CATEGORIES:Events
ATTACH;FMTTYPE=image/jpeg:https://townshipofperry.ca/wp-content/uploads/2025/04/2025-04-15-Church-Roast-Beef-Dinner.jpg
END:VEVENT
BEGIN:VEVENT
DTSTART;TZID=America/Toronto:20250426T200000
DTEND;TZID=America/Toronto:20250426T220000
DTSTAMP:20260422T190016
CREATED:20250424T131447Z
LAST-MODIFIED:20250424T131447Z
UID:9883-1745697600-1745704800@townshipofperry.ca
SUMMARY:Party For the Park - Sprucedale
DESCRIPTION:Party For the Park – Sprucedale \nSaturday April 26\, 2025 \nSprucedale Community Centre\, 31 William Street \n$20
URL:https://townshipofperry.ca/event/party-for-the-park-sprucedale/
CATEGORIES:Events
ATTACH;FMTTYPE=image/jpeg:https://townshipofperry.ca/wp-content/uploads/2025/04/2025-04-23-Party-in-the-Park-scaled.jpg
END:VEVENT
BEGIN:VEVENT
DTSTART;TZID=America/Toronto:20250427T110000
DTEND;TZID=America/Toronto:20250427T170000
DTSTAMP:20260422T190016
CREATED:20250324T143520Z
LAST-MODIFIED:20250324T143520Z
UID:9713-1745751600-1745773200@townshipofperry.ca
SUMMARY:Holistic Event - Feed Your Soul
DESCRIPTION:Holistic Event – Feed Your Soul \nSunday April 27\, 2025 – Burk’s Falls\, Armour\, Ryerson Arena \n11am to 5pm \nFree Admission
URL:https://townshipofperry.ca/event/holistic-event-feed-your-soul/
CATEGORIES:Events
ATTACH;FMTTYPE=image/jpeg:https://townshipofperry.ca/wp-content/uploads/2025/03/2025-03-24-Holistic-Event.jpg
END:VEVENT
BEGIN:VEVENT
DTSTART;VALUE=DATE:20250428
DTEND;VALUE=DATE:20250429
DTSTAMP:20260422T190016
CREATED:20250416T191826Z
LAST-MODIFIED:20250416T191826Z
UID:9839-1745798400-1745884799@townshipofperry.ca
SUMMARY:WSIB Day of Mourning
DESCRIPTION:
URL:https://townshipofperry.ca/event/wsib-day-of-mourning-2/
CATEGORIES:Events
ATTACH;FMTTYPE=image/jpeg:https://townshipofperry.ca/wp-content/uploads/2025/04/WSIB-Day-of-Mourning.jpg
END:VEVENT
BEGIN:VEVENT
DTSTART;TZID=America/Toronto:20250429T100000
DTEND;TZID=America/Toronto:20250429T120000
DTSTAMP:20260422T190016
CREATED:20250224T134900Z
LAST-MODIFIED:20250224T134900Z
UID:9500-1745920800-1745928000@townshipofperry.ca
SUMMARY:Fall Prevention Program - Burk's Falls
DESCRIPTION:Fall Prevention Program – Burk’s Falls \nTuesdays & Thursdays\, 10AM \n12 week program offered at the Burk’s Falls Arena (upstairs) \nRegister at 416-859-6953
URL:https://townshipofperry.ca/event/fall-prevention-program-burks-falls-2025-04-29/
CATEGORIES:Events
ATTACH;FMTTYPE=image/jpeg:https://townshipofperry.ca/wp-content/uploads/2025/02/2025-02-24-Fall-Prevention-Classes-BF.jpg
END:VEVENT
BEGIN:VEVENT
DTSTART;TZID=America/Toronto:20250501T100000
DTEND;TZID=America/Toronto:20250501T120000
DTSTAMP:20260422T190016
CREATED:20250224T134934Z
LAST-MODIFIED:20250224T134934Z
UID:9512-1746093600-1746100800@townshipofperry.ca
SUMMARY:Fall Prevention Program - Burk's Falls
DESCRIPTION:Fall Prevention Program – Burk’s Falls \nTuesdays & Thursdays\, 10AM \n12 week program offered at the Burk’s Falls Arena (upstairs) \nRegister at 416-859-6953
URL:https://townshipofperry.ca/event/fall-prevention-program-burks-falls-2-2025-05-01/
CATEGORIES:Events
ATTACH;FMTTYPE=image/jpeg:https://townshipofperry.ca/wp-content/uploads/2025/02/2025-02-24-Fall-Prevention-Classes-BF.jpg
END:VEVENT
BEGIN:VEVENT
DTSTART;TZID=America/Toronto:20250501T140000
DTEND;TZID=America/Toronto:20250501T170000
DTSTAMP:20260422T190016
CREATED:20250422T171447Z
LAST-MODIFIED:20250422T171447Z
UID:9852-1746108000-1746118800@townshipofperry.ca
SUMMARY:7th Annual Wellness Fair
DESCRIPTION:7th Annual Wellness Fair \nThursday May 1\, 2025 from 2pm to 5pm \nActive Living Centre\, Huntsville\, ON \nFREE to attend \n 
URL:https://townshipofperry.ca/event/7th-annual-wellness-fair/
CATEGORIES:Events
ATTACH;FMTTYPE=image/jpeg:https://townshipofperry.ca/wp-content/uploads/2025/04/2025-04-22-Wellness-Fair.jpg
END:VEVENT
BEGIN:VEVENT
DTSTART;TZID=America/Toronto:20250503T110000
DTEND;TZID=America/Toronto:20250503T113000
DTSTAMP:20260422T190016
CREATED:20250424T125501Z
LAST-MODIFIED:20250424T125501Z
UID:9858-1746270000-1746271800@townshipofperry.ca
SUMMARY:Kidz Kraft @ Library
DESCRIPTION:Kidz Kraft @ Library \nContact the Library for more information at 705-636-5454.
URL:https://townshipofperry.ca/event/kidz-kraft-library-5/
CATEGORIES:Events
ATTACH;FMTTYPE=image/jpeg:https://townshipofperry.ca/wp-content/uploads/2024/01/crafts.jpg
END:VEVENT
BEGIN:VEVENT
DTSTART;TZID=America/Toronto:20250504T100000
DTEND;TZID=America/Toronto:20250504T140000
DTSTAMP:20260422T190016
CREATED:20250317T132606Z
LAST-MODIFIED:20250317T132606Z
UID:9655-1746352800-1746367200@townshipofperry.ca
SUMMARY:Hike For Huntsville Hospice
DESCRIPTION:Hike For Huntsville Hospice \nSunday May 4\, 2025 \nLimberlost Reserve\, Hillside \nVisit Huntsville Hospice Facebook Page for details.
URL:https://townshipofperry.ca/event/hike-for-huntsville-hospice/
CATEGORIES:Events
ATTACH;FMTTYPE=image/jpeg:https://townshipofperry.ca/wp-content/uploads/2025/03/2025-03-17-HIke-For-Hospice.jpg
END:VEVENT
BEGIN:VEVENT
DTSTART;TZID=America/Toronto:20250505T190000
DTEND;TZID=America/Toronto:20250505T200000
DTSTAMP:20260422T190016
CREATED:20250507T172201Z
LAST-MODIFIED:20250507T172201Z
UID:9937-1746471600-1746475200@townshipofperry.ca
SUMMARY:Recreation and Culture Committee Meeting @ 7pm
DESCRIPTION:Recreation and Culture Committee Meeting @ 7pm \nCouncil Chambers\, Municipal Office (1695 Emsdale Road\, Emsdale)
URL:https://townshipofperry.ca/event/recreation-and-culture-committee-meeting-7pm-11/
CATEGORIES:Meetings
ATTACH;FMTTYPE=image/jpeg:https://townshipofperry.ca/wp-content/uploads/2022/05/TwpPerryLogo-e1652713783977.jpg
END:VEVENT
BEGIN:VEVENT
DTSTART;TZID=America/Toronto:20250506T100000
DTEND;TZID=America/Toronto:20250506T120000
DTSTAMP:20260422T190016
CREATED:20250224T134900Z
LAST-MODIFIED:20250224T134900Z
UID:9501-1746525600-1746532800@townshipofperry.ca
SUMMARY:Fall Prevention Program - Burk's Falls
DESCRIPTION:Fall Prevention Program – Burk’s Falls \nTuesdays & Thursdays\, 10AM \n12 week program offered at the Burk’s Falls Arena (upstairs) \nRegister at 416-859-6953
URL:https://townshipofperry.ca/event/fall-prevention-program-burks-falls-2025-05-06/
CATEGORIES:Events
ATTACH;FMTTYPE=image/jpeg:https://townshipofperry.ca/wp-content/uploads/2025/02/2025-02-24-Fall-Prevention-Classes-BF.jpg
END:VEVENT
BEGIN:VEVENT
DTSTART;TZID=America/Toronto:20250507T190000
DTEND;TZID=America/Toronto:20250507T200000
DTSTAMP:20260422T190016
CREATED:20250507T171615Z
LAST-MODIFIED:20250507T171615Z
UID:9927-1746644400-1746648000@townshipofperry.ca
SUMMARY:Council Meeting @ 7pm
DESCRIPTION:Council Meeting @ 7pm \nCouncil Chambers\, Municipal Office (1695 Emsdale Road\, Emsdale) \nAgendas & Minutes Page: Agendas & Minutes – The Township of Perry \n 
URL:https://townshipofperry.ca/event/council-meeting-7pm-17/
CATEGORIES:Meetings
ATTACH;FMTTYPE=image/jpeg:https://townshipofperry.ca/wp-content/uploads/2022/05/TwpPerryLogo-e1652713783977.jpg
END:VEVENT
BEGIN:VEVENT
DTSTART;TZID=America/Toronto:20250508T100000
DTEND;TZID=America/Toronto:20250508T120000
DTSTAMP:20260422T190016
CREATED:20250224T134934Z
LAST-MODIFIED:20250224T134934Z
UID:9513-1746698400-1746705600@townshipofperry.ca
SUMMARY:Fall Prevention Program - Burk's Falls
DESCRIPTION:Fall Prevention Program – Burk’s Falls \nTuesdays & Thursdays\, 10AM \n12 week program offered at the Burk’s Falls Arena (upstairs) \nRegister at 416-859-6953
URL:https://townshipofperry.ca/event/fall-prevention-program-burks-falls-2-2025-05-08/
CATEGORIES:Events
ATTACH;FMTTYPE=image/jpeg:https://townshipofperry.ca/wp-content/uploads/2025/02/2025-02-24-Fall-Prevention-Classes-BF.jpg
END:VEVENT
BEGIN:VEVENT
DTSTART;TZID=America/Toronto:20250509T180000
DTEND;TZID=America/Toronto:20250509T183000
DTSTAMP:20260422T190016
CREATED:20250424T125558Z
LAST-MODIFIED:20250424T125558Z
UID:9860-1746813600-1746815400@townshipofperry.ca
SUMMARY:YAC (Youth Advisory Club) @ Library
DESCRIPTION:YAC (Youth Advisory Club) @ Library \nContact the Library for more information at 705-636-5454.
URL:https://townshipofperry.ca/event/yac-youth-advisory-club-library/
CATEGORIES:Events
ATTACH;FMTTYPE=image/png:https://townshipofperry.ca/wp-content/uploads/2023/12/Perry-Township-YAC.png
END:VEVENT
BEGIN:VEVENT
DTSTART;TZID=America/Toronto:20250509T190000
DTEND;TZID=America/Toronto:20250509T200000
DTSTAMP:20260422T190016
CREATED:20250424T125354Z
LAST-MODIFIED:20250424T125354Z
UID:9856-1746817200-1746820800@townshipofperry.ca
SUMMARY:Trivia Night @ Library
DESCRIPTION:Trivia Night @ Library \nContact the Library for more information at 705-636-5454.
URL:https://townshipofperry.ca/event/trivia-night-library-5/
CATEGORIES:Events
END:VEVENT
BEGIN:VEVENT
DTSTART;TZID=America/Toronto:20250509T193000
DTEND;TZID=America/Toronto:20250509T203000
DTSTAMP:20260422T190016
CREATED:20250424T131051Z
LAST-MODIFIED:20250424T131051Z
UID:9881-1746819000-1746822600@townshipofperry.ca
SUMMARY:Love in Springtime Concert
DESCRIPTION:Love in Springtime Concert \nHuntsville Choir Company \nTrinity United Church\, Huntsville \nMay 9 at 730PM and May 10 at 2PM \n 
URL:https://townshipofperry.ca/event/love-in-springtime-concert/
CATEGORIES:Events
ATTACH;FMTTYPE=image/jpeg:https://townshipofperry.ca/wp-content/uploads/2025/04/2025-04-23-Love-in-Springtime-Event-scaled.jpg
END:VEVENT
BEGIN:VEVENT
DTSTART;TZID=America/Toronto:20250510T100000
DTEND;TZID=America/Toronto:20250510T140000
DTSTAMP:20260422T190016
CREATED:20250324T143630Z
LAST-MODIFIED:20250324T143630Z
UID:9715-1746871200-1746885600@townshipofperry.ca
SUMMARY:Mother's Day Market
DESCRIPTION:Emsdale Agricultural Society’s Mother’s Day Market \nSaturday May 10 \n10am to 2pm \nEmsdale Community Centre\, 25 Joseph Street \n 
URL:https://townshipofperry.ca/event/mothers-day-market/
CATEGORIES:Events
ATTACH;FMTTYPE=image/jpeg:https://townshipofperry.ca/wp-content/uploads/2025/03/2025-03-24-Mothers-Day-Craft-Sale.jpg
END:VEVENT
BEGIN:VEVENT
DTSTART;TZID=America/Toronto:20250510T110000
DTEND;TZID=America/Toronto:20250510T113000
DTSTAMP:20260422T190016
CREATED:20250424T125654Z
LAST-MODIFIED:20250424T125654Z
UID:9862-1746874800-1746876600@townshipofperry.ca
SUMMARY:Knit & Crochet Club @ Library
DESCRIPTION:Knit & Crochet Club @ Library \nContact the Library for more information at 705-636-5454.
URL:https://townshipofperry.ca/event/knit-crochet-club-library-7/
CATEGORIES:Events
ATTACH;FMTTYPE=image/jpeg:https://townshipofperry.ca/wp-content/uploads/2024/01/crochest.jpg
END:VEVENT
BEGIN:VEVENT
DTSTART;TZID=America/Toronto:20250510T170000
DTEND;TZID=America/Toronto:20250510T200000
DTSTAMP:20260422T190016
CREATED:20250317T132908Z
LAST-MODIFIED:20250317T132908Z
UID:9659-1746896400-1746907200@townshipofperry.ca
SUMMARY:Spaghetti Dinner Fundraiser
DESCRIPTION:Emsdale Agricultural Society’s Spaghetti Dinner Fundraiser \nSaturday May 10\, 5PM and 630PM seatings \nEmsdale Community Centre\, 25 Joseph Street \nFor more information\, visit the Emsdale Agricultural Society Facebook Page.
URL:https://townshipofperry.ca/event/spaghetti-dinner-fundraiser/
CATEGORIES:Events
ATTACH;FMTTYPE=image/jpeg:https://townshipofperry.ca/wp-content/uploads/2025/03/2025-03-17-Spaghetti-Dinner.jpg
END:VEVENT
BEGIN:VEVENT
DTSTART;TZID=America/Toronto:20250513T090000
DTEND;TZID=America/Toronto:20250513T110000
DTSTAMP:20260422T190016
CREATED:20250509T201457Z
LAST-MODIFIED:20250509T201557Z
UID:9971-1747126800-1747134000@townshipofperry.ca
SUMMARY:Special Council Meeting @ 9am
DESCRIPTION:Special Council Meeting @ 9am \nCouncil Chambers\, Municipal Office (1695 Emsdale Road\, Emsdale) \nAgendas & Minutes Page: Agendas & Minutes – The Township of Perry
URL:https://townshipofperry.ca/event/special-council-meeting-9am/
CATEGORIES:Meetings
ATTACH;FMTTYPE=image/jpeg:https://townshipofperry.ca/wp-content/uploads/2022/05/TwpPerryLogo-e1652713783977.jpg
END:VEVENT
BEGIN:VEVENT
DTSTART;TZID=America/Toronto:20250513T100000
DTEND;TZID=America/Toronto:20250513T120000
DTSTAMP:20260422T190016
CREATED:20250224T134900Z
LAST-MODIFIED:20250224T134900Z
UID:9502-1747130400-1747137600@townshipofperry.ca
SUMMARY:Fall Prevention Program - Burk's Falls
DESCRIPTION:Fall Prevention Program – Burk’s Falls \nTuesdays & Thursdays\, 10AM \n12 week program offered at the Burk’s Falls Arena (upstairs) \nRegister at 416-859-6953
URL:https://townshipofperry.ca/event/fall-prevention-program-burks-falls-2025-05-13/
CATEGORIES:Events
ATTACH;FMTTYPE=image/jpeg:https://townshipofperry.ca/wp-content/uploads/2025/02/2025-02-24-Fall-Prevention-Classes-BF.jpg
END:VEVENT
END:VCALENDAR