BEGIN:VCALENDAR
VERSION:2.0
PRODID:-//The Township of Perry - ECPv6.15.18//NONSGML v1.0//EN
CALSCALE:GREGORIAN
METHOD:PUBLISH
X-WR-CALNAME:The Township of Perry
X-ORIGINAL-URL:https://townshipofperry.ca
X-WR-CALDESC:Events for The Township of Perry
REFRESH-INTERVAL;VALUE=DURATION:PT1H
X-Robots-Tag:noindex
X-PUBLISHED-TTL:PT1H
BEGIN:VTIMEZONE
TZID:America/Toronto
BEGIN:DAYLIGHT
TZOFFSETFROM:-0500
TZOFFSETTO:-0400
TZNAME:EDT
DTSTART:20220313T070000
END:DAYLIGHT
BEGIN:STANDARD
TZOFFSETFROM:-0400
TZOFFSETTO:-0500
TZNAME:EST
DTSTART:20221106T060000
END:STANDARD
BEGIN:DAYLIGHT
TZOFFSETFROM:-0500
TZOFFSETTO:-0400
TZNAME:EDT
DTSTART:20230312T070000
END:DAYLIGHT
BEGIN:STANDARD
TZOFFSETFROM:-0400
TZOFFSETTO:-0500
TZNAME:EST
DTSTART:20231105T060000
END:STANDARD
BEGIN:DAYLIGHT
TZOFFSETFROM:-0500
TZOFFSETTO:-0400
TZNAME:EDT
DTSTART:20240310T070000
END:DAYLIGHT
BEGIN:STANDARD
TZOFFSETFROM:-0400
TZOFFSETTO:-0500
TZNAME:EST
DTSTART:20241103T060000
END:STANDARD
END:VTIMEZONE
BEGIN:VEVENT
DTSTART;TZID=America/Toronto:20231225T120000
DTEND;TZID=America/Toronto:20231225T150000
DTSTAMP:20260422T061736
CREATED:20231211T211126Z
LAST-MODIFIED:20231211T211126Z
UID:7005-1703505600-1703516400@townshipofperry.ca
SUMMARY:Burk’s Falls Legion Christmas Dinner
DESCRIPTION:Burk’s Falls Legion Christmas Dinner \nMonday December 25\, 2023 at 12 p.m. $10/plate. \nCall 705-382-3137 by Thursday December 21\, 2023 to reserve your spot.
URL:https://townshipofperry.ca/event/burks-falls-legion-christmas-dinner/
CATEGORIES:Events
END:VEVENT
BEGIN:VEVENT
DTSTART;VALUE=DATE:20231225
DTEND;VALUE=DATE:20231230
DTSTAMP:20260422T061736
CREATED:20231115T202503Z
LAST-MODIFIED:20231115T202503Z
UID:6890-1703462400-1703894399@townshipofperry.ca
SUMMARY:Municipal Office Closed
DESCRIPTION:The Municipal Office is CLOSED until January 2\, 2024.
URL:https://townshipofperry.ca/event/municipal-office-closed-5/
CATEGORIES:Events,Meetings
ATTACH;FMTTYPE=image/jpeg:https://townshipofperry.ca/wp-content/uploads/2022/05/TwpPerryLogo-e1652713783977.jpg
END:VEVENT
BEGIN:VEVENT
DTSTART;VALUE=DATE:20231225
DTEND;VALUE=DATE:20231229
DTSTAMP:20260422T061736
CREATED:20231115T202405Z
LAST-MODIFIED:20231115T202602Z
UID:6888-1703462400-1703807999@townshipofperry.ca
SUMMARY:Transfer Station CLOSED
DESCRIPTION:Transfer Station CLOSED December 25-28\, 2023.
URL:https://townshipofperry.ca/event/transfer-station-closed-7/
CATEGORIES:Events,Meetings
ATTACH;FMTTYPE=image/jpeg:https://townshipofperry.ca/wp-content/uploads/2022/05/TwpPerryLogo-e1652713783977.jpg
END:VEVENT
BEGIN:VEVENT
DTSTART;TZID=America/Toronto:20231224T080000
DTEND;TZID=America/Toronto:20231224T120000
DTSTAMP:20260422T061736
CREATED:20231115T202300Z
LAST-MODIFIED:20231115T202300Z
UID:6886-1703404800-1703419200@townshipofperry.ca
SUMMARY:Transfer Station Closes @ Noon
DESCRIPTION:Transfer Station Open 8am to 12 p.m. noon today\, reopening on Friday December 29\, 2023.
URL:https://townshipofperry.ca/event/transfer-station-closes-noon/
CATEGORIES:Events,Meetings
ATTACH;FMTTYPE=image/jpeg:https://townshipofperry.ca/wp-content/uploads/2022/05/TwpPerryLogo-e1652713783977.jpg
END:VEVENT
BEGIN:VEVENT
DTSTART;VALUE=DATE:20231223
DTEND;VALUE=DATE:20231227
DTSTAMP:20260422T061736
CREATED:20231129T152105Z
LAST-MODIFIED:20231129T152155Z
UID:6954-1703289600-1703635199@townshipofperry.ca
SUMMARY:Perry Public Library CLOSED
DESCRIPTION:Perry Public Library CLOSED
URL:https://townshipofperry.ca/event/perry-public-library-closed-2/
CATEGORIES:Events,Meetings
END:VEVENT
BEGIN:VEVENT
DTSTART;VALUE=DATE:20231223
DTEND;VALUE=DATE:20231224
DTSTAMP:20260422T061736
CREATED:20231115T202148Z
LAST-MODIFIED:20231115T202148Z
UID:6884-1703289600-1703375999@townshipofperry.ca
SUMMARY:Transfer Station Open 8am-4pm
DESCRIPTION:
URL:https://townshipofperry.ca/event/transfer-station-open-8am-4pm-7/
CATEGORIES:Events,Meetings
ATTACH;FMTTYPE=image/jpeg:https://townshipofperry.ca/wp-content/uploads/2022/05/TwpPerryLogo-e1652713783977.jpg
END:VEVENT
BEGIN:VEVENT
DTSTART;VALUE=DATE:20231222
DTEND;VALUE=DATE:20231223
DTSTAMP:20260422T061736
CREATED:20231115T202108Z
LAST-MODIFIED:20231115T202108Z
UID:6882-1703203200-1703289599@townshipofperry.ca
SUMMARY:Transfer Station Open 8am-4pm
DESCRIPTION:
URL:https://townshipofperry.ca/event/transfer-station-open-8am-4pm-6/
CATEGORIES:Events,Meetings
ATTACH;FMTTYPE=image/jpeg:https://townshipofperry.ca/wp-content/uploads/2022/05/TwpPerryLogo-e1652713783977.jpg
END:VEVENT
BEGIN:VEVENT
DTSTART;VALUE=DATE:20231222
DTEND;VALUE=DATE:20231223
DTSTAMP:20260422T061736
CREATED:20231115T202021Z
LAST-MODIFIED:20231115T202021Z
UID:6880-1703203200-1703289599@townshipofperry.ca
SUMMARY:Municipal Office Closed @12:30 p.m.
DESCRIPTION:The Municipal Office will be closing at 12:30 p.m. The Municipal Office will be reopening on Tuesday January 2\, 2024.
URL:https://townshipofperry.ca/event/municipal-office-closed-1230-p-m/
CATEGORIES:Events,Meetings
END:VEVENT
BEGIN:VEVENT
DTSTART;TZID=America/Toronto:20231221T170000
DTEND;TZID=America/Toronto:20231221T233000
DTSTAMP:20260422T061736
CREATED:20231218T165112Z
LAST-MODIFIED:20231218T165112Z
UID:7091-1703178000-1703201400@townshipofperry.ca
SUMMARY:Christmas Light Decorating Tour Map - Now Available
DESCRIPTION:  \nCast Your Vote Now! \nThe Perry Township’s Recreation and Culture Committee’s CHRISTMAS LIGHT DECORATING TOUR is now open. Click below for the 2023 Tour Map. \nAnd don’t forget to cast your Vote for the new category “People’s Choice” on the survey below. Voting is open until midnight on Thursday December 21\, 2023. \nSurvey: https://forms.gle/sAScA46zR5ibEB9j6 \nTour Map: https://www.google.com/maps/d/edit?mid=1CiJh2Xfbg6kvQHA5jBsBdhSlUavOQ4I&usp=sharing
URL:https://townshipofperry.ca/event/christmas-light-decorating-tour-map-now-available-4/
CATEGORIES:Events
END:VEVENT
BEGIN:VEVENT
DTSTART;TZID=America/Toronto:20231221T120000
DTEND;TZID=America/Toronto:20231221T150000
DTSTAMP:20260422T061736
CREATED:20231204T204850Z
LAST-MODIFIED:20231204T204850Z
UID:6994-1703160000-1703170800@townshipofperry.ca
SUMMARY:Emsdale Seniors Lunch
DESCRIPTION:Emsdale Seniors Lunch at the Emsdale Community Centre. Lunch starts at 12 noon. \nThe last Thursday of each month\, the East Parry Sound District Social Services provides a Senior’s Lunch for $10. Pre-registration is required. Contact Social Services at 705-724-6028.
URL:https://townshipofperry.ca/event/emsdale-seniors-lunch/
CATEGORIES:Events
END:VEVENT
BEGIN:VEVENT
DTSTART;TZID=America/Toronto:20231220T190000
DTEND;TZID=America/Toronto:20231220T210000
DTSTAMP:20260422T061736
CREATED:20230918T121458Z
LAST-MODIFIED:20230918T121458Z
UID:6579-1703098800-1703106000@townshipofperry.ca
SUMMARY:Council Meeting @ 7 p.m.
DESCRIPTION:Regular Council Meeting of Council at 7 p.m.\, in the Council Chambers at the Municipal Office.
URL:https://townshipofperry.ca/event/council-meeting-7-p-m-33/
CATEGORIES:Meetings
ATTACH;FMTTYPE=image/jpeg:https://townshipofperry.ca/wp-content/uploads/2022/05/TwpPerryLogo-e1652713783977.jpg
END:VEVENT
BEGIN:VEVENT
DTSTART;TZID=America/Toronto:20231220T170000
DTEND;TZID=America/Toronto:20231220T233000
DTSTAMP:20260422T061736
CREATED:20231218T165036Z
LAST-MODIFIED:20231218T165036Z
UID:7089-1703091600-1703115000@townshipofperry.ca
SUMMARY:Christmas Light Decorating Tour Map - Now Available
DESCRIPTION:Cast Your Vote Now! \nThe Perry Township’s Recreation and Culture Committee’s CHRISTMAS LIGHT DECORATING TOUR is now open. Click below for the 2023 Tour Map. \nAnd don’t forget to cast your Vote for the new category “People’s Choice” on the survey below. Voting is open until midnight on Thursday December 21\, 2023. \nSurvey: https://forms.gle/sAScA46zR5ibEB9j6 \nTour Map: https://www.google.com/maps/d/edit?mid=1CiJh2Xfbg6kvQHA5jBsBdhSlUavOQ4I&usp=sharing
URL:https://townshipofperry.ca/event/christmas-light-decorating-tour-map-now-available-3/
CATEGORIES:Events
END:VEVENT
BEGIN:VEVENT
DTSTART;TZID=America/Toronto:20231219T183000
DTEND;TZID=America/Toronto:20231219T203000
DTSTAMP:20260422T061736
CREATED:20231206T135357Z
LAST-MODIFIED:20231206T135357Z
UID:6999-1703010600-1703017800@townshipofperry.ca
SUMMARY:Christmas Caroling Event
DESCRIPTION:Get Your Fa-La-La’s Ready!\n\n\n\nJoin the Perry Township RCC for a Christmas Caroling Event on Tuesday December 19\, 2023 from 6:30 p.m. to 8:30 p.m. at the Emsdale Community Centre.\n\n\n\nEveryone Welcome!
URL:https://townshipofperry.ca/event/christmas-caroling-event/
CATEGORIES:Events
END:VEVENT
BEGIN:VEVENT
DTSTART;TZID=America/Toronto:20231219T170000
DTEND;TZID=America/Toronto:20231219T233000
DTSTAMP:20260422T061736
CREATED:20231218T164959Z
LAST-MODIFIED:20231218T164959Z
UID:7087-1703005200-1703028600@townshipofperry.ca
SUMMARY:Christmas Light Decorating Tour Map - Now Available
DESCRIPTION:  \nCast Your Vote Now! \nThe Perry Township’s Recreation and Culture Committee’s CHRISTMAS LIGHT DECORATING TOUR is now open. Click below for the 2023 Tour Map. \nAnd don’t forget to cast your Vote for the new category “People’s Choice” on the survey below. Voting is open until midnight on Thursday December 21\, 2023. \nSurvey: https://forms.gle/sAScA46zR5ibEB9j6 \nTour Map: https://www.google.com/maps/d/edit?mid=1CiJh2Xfbg6kvQHA5jBsBdhSlUavOQ4I&usp=sharing
URL:https://townshipofperry.ca/event/christmas-light-decorating-tour-map-now-available-2/
CATEGORIES:Events
END:VEVENT
BEGIN:VEVENT
DTSTART;TZID=America/Toronto:20231218T180000
DTEND;TZID=America/Toronto:20231218T230000
DTSTAMP:20260422T061736
CREATED:20231218T164446Z
LAST-MODIFIED:20231218T164921Z
UID:7085-1702922400-1702940400@townshipofperry.ca
SUMMARY:Christmas Light Decorating Tour Map - Now Available
DESCRIPTION:Cast Your Vote Now! \nThe Perry Township’s Recreation and Culture Committee’s CHRISTMAS LIGHT DECORATING TOUR is now open. Click below for the 2023 Tour Map. \nAnd don’t forget to cast your Vote for the new category “People’s Choice” on the survey below. Voting is open until midnight on Thursday December 21\, 2023. \nSurvey: https://forms.gle/sAScA46zR5ibEB9j6 \nTour Map: https://www.google.com/maps/d/edit?mid=1CiJh2Xfbg6kvQHA5jBsBdhSlUavOQ4I&usp=sharing
URL:https://townshipofperry.ca/event/christmas-light-decorating-tour-map-now-available/
CATEGORIES:Events
END:VEVENT
BEGIN:VEVENT
DTSTART;TZID=America/Toronto:20231216T083000
DTEND;TZID=America/Toronto:20231216T110000
DTSTAMP:20260422T061736
CREATED:20231127T205832Z
LAST-MODIFIED:20231127T205832Z
UID:6945-1702715400-1702724400@townshipofperry.ca
SUMMARY:Free Breakfast with Santa – Emsdale Lions Club
DESCRIPTION:Free Breakfast with Santa – Emsdale Lions Club \nSaturday December 16 from 9 a.m. to 11 a.m. \nEmsdale Community Centre\, 25 Joseph St\, Emsdale \nRSVP by December 10 to Kendra (249-700-4525) or Maureen (705-788-4302)
URL:https://townshipofperry.ca/event/free-breakfast-with-santa-emsdale-lions-club/
CATEGORIES:Events
END:VEVENT
BEGIN:VEVENT
DTSTART;TZID=America/Toronto:20231215T190000
DTEND;TZID=America/Toronto:20231215T200000
DTSTAMP:20260422T061736
CREATED:20231129T153104Z
LAST-MODIFIED:20231129T153104Z
UID:6968-1702666800-1702670400@townshipofperry.ca
SUMMARY:Adult Craft Night - Perry Township Public Library
DESCRIPTION:Join the Perry Township Public Library for their Adult Craft Night\, starting at 7 p.m. Contact the Library at 705-636-5454 for more information.
URL:https://townshipofperry.ca/event/adult-craft-night-perry-township-public-library/
CATEGORIES:Events
END:VEVENT
BEGIN:VEVENT
DTSTART;VALUE=DATE:20231215
DTEND;VALUE=DATE:20231216
DTSTAMP:20260422T061736
CREATED:20231127T205228Z
LAST-MODIFIED:20231127T205228Z
UID:6942-1702598400-1702684799@townshipofperry.ca
SUMMARY:REGISTRATION CLOSED: Christmas Light and Decorating Contest
DESCRIPTION:It’s BACK!\n\n\n\nThe Township of Perry’s RCC Christmas Light and Decorating Contest is here again.\n\n\n\nTo register and participate\, email us at admin@townshipofperry.ca or give us a call by Friday December 15\, 2023. Prizes for first and second place – plus an additional category of ‘People’s Choice’.\n\n\n\nFor more information\, contact the Municipal Office by email or telephone 705-636-5941. The contest is open to Perry residents only.
URL:https://townshipofperry.ca/event/registration-closed-christmas-light-and-decorating-contest/
CATEGORIES:Events
END:VEVENT
BEGIN:VEVENT
DTSTART;TZID=America/Toronto:20231213T190000
DTEND;TZID=America/Toronto:20231213T200000
DTSTAMP:20260422T061736
CREATED:20230918T121845Z
LAST-MODIFIED:20230918T121845Z
UID:6587-1702494000-1702497600@townshipofperry.ca
SUMMARY:Library Board Meeting @ 7 p.m.
DESCRIPTION:Library Board Meeting at 7 p.m.\, at the Perry Township Public Library.
URL:https://townshipofperry.ca/event/library-board-meeting-7-p-m-4/
CATEGORIES:Meetings
ATTACH;FMTTYPE=image/jpeg:https://townshipofperry.ca/wp-content/uploads/2022/05/TwpPerryLogo-e1652713783977.jpg
END:VEVENT
BEGIN:VEVENT
DTSTART;TZID=America/Toronto:20231210T100000
DTEND;TZID=America/Toronto:20231210T120000
DTSTAMP:20260422T061736
CREATED:20231204T204505Z
LAST-MODIFIED:20231204T204505Z
UID:6992-1702202400-1702209600@townshipofperry.ca
SUMMARY:Breakfast with Santa – Kearney Legion
DESCRIPTION:Breakfast with Santa – Kearney Legion \nSunday December 10\, 2023 at the Kearney Legion. Seating Time is 10 a.m. \nContact the Legion for more information and registration at 705-636-5889.
URL:https://townshipofperry.ca/event/breakfast-with-santa-kearney-legion/
CATEGORIES:Events
END:VEVENT
BEGIN:VEVENT
DTSTART;TZID=America/Toronto:20231209T100000
DTEND;TZID=America/Toronto:20231209T140000
DTSTAMP:20260422T061736
CREATED:20231204T204256Z
LAST-MODIFIED:20231204T204256Z
UID:6989-1702116000-1702130400@townshipofperry.ca
SUMMARY:Christmas Craft Sale – Land of Lakes Public School
DESCRIPTION:Christmas Craft Sale – Land of Lakes Public School (Burk’s Falls) \nSaturday December 9 from 10 a.m. to 2 p.m.
URL:https://townshipofperry.ca/event/christmas-craft-sale-land-of-lakes-public-school/
CATEGORIES:Events
END:VEVENT
BEGIN:VEVENT
DTSTART;TZID=America/Toronto:20231208T180000
DTEND;TZID=America/Toronto:20231208T190000
DTSTAMP:20260422T061736
CREATED:20231129T153601Z
LAST-MODIFIED:20231129T153601Z
UID:6974-1702058400-1702062000@townshipofperry.ca
SUMMARY:YAC Meeting
DESCRIPTION:YAC Meeting at the Perry Township Public Library from 6 p.m. to 7 p.m.
URL:https://townshipofperry.ca/event/yac-meeting/
CATEGORIES:Events
ATTACH;FMTTYPE=image/jpeg:https://townshipofperry.ca/wp-content/uploads/2023/05/YACatPerryLibrary.jpg
END:VEVENT
BEGIN:VEVENT
DTSTART;TZID=America/Toronto:20231207T153000
DTEND;TZID=America/Toronto:20231207T163000
DTSTAMP:20260422T061736
CREATED:20231129T153705Z
LAST-MODIFIED:20231129T153705Z
UID:6976-1701963000-1701966600@townshipofperry.ca
SUMMARY:Lego Club @ Perry Township Public Library
DESCRIPTION:Lego Club @ Perry Township Public Library from 3:30 p.m. to 4:30 p.m.
URL:https://townshipofperry.ca/event/lego-club-perry-township-public-library/
CATEGORIES:Events
END:VEVENT
BEGIN:VEVENT
DTSTART;TZID=America/Toronto:20231206T190000
DTEND;TZID=America/Toronto:20231206T210000
DTSTAMP:20260422T061736
CREATED:20230918T121411Z
LAST-MODIFIED:20230918T121411Z
UID:6577-1701889200-1701896400@townshipofperry.ca
SUMMARY:Council Meeting @ 7 p.m.
DESCRIPTION:Regular Council Meeting of Council at 7 p.m.\, in the Council Chambers at the Municipal Office.
URL:https://townshipofperry.ca/event/council-meeting-7-p-m-32/
CATEGORIES:Meetings
ATTACH;FMTTYPE=image/jpeg:https://townshipofperry.ca/wp-content/uploads/2022/05/TwpPerryLogo-e1652713783977.jpg
END:VEVENT
BEGIN:VEVENT
DTSTART;TZID=America/Toronto:20231206T183000
DTEND;TZID=America/Toronto:20231206T200000
DTSTAMP:20260422T061736
CREATED:20231031T142842Z
LAST-MODIFIED:20231031T142842Z
UID:6826-1701887400-1701892800@townshipofperry.ca
SUMMARY:Firefighter Food Drive – South Almaguin
DESCRIPTION:Firefighter Food Drive – South Almaguin \nWednesday December 6 \nStarting at 6:30 p.m. \nLeave your porch light on so the firefighters will know to pick up the food you donate. Non-perishable items only please. \n**NOTE: This will be taking place in Emsdale only. Novar residents\, stay tuned for more information for your collection date.
URL:https://townshipofperry.ca/event/firefighter-food-drive-south-almaguin/
CATEGORIES:Events
END:VEVENT
BEGIN:VEVENT
DTSTART;TZID=America/Toronto:20231206T100000
DTEND;TZID=America/Toronto:20231207T170000
DTSTAMP:20260422T061736
CREATED:20231129T152915Z
LAST-MODIFIED:20231129T152949Z
UID:6965-1701856800-1701968400@townshipofperry.ca
SUMMARY:Event: Write Your Letter to Santa
DESCRIPTION:The Perry Township Public Library is hosting a Write Your Letter to Santa! \nPaper\, festive stickers\, and envelopes provided! Stop by the Library today.
URL:https://townshipofperry.ca/event/event-write-your-letter-to-santa/
CATEGORIES:Events
END:VEVENT
BEGIN:VEVENT
DTSTART;VALUE=DATE:20231206
DTEND;VALUE=DATE:20231207
DTSTAMP:20260422T061736
CREATED:20231005T141536Z
LAST-MODIFIED:20231005T141536Z
UID:6666-1701820800-1701907199@townshipofperry.ca
SUMMARY:2024 Transfer Station Passes Available at Municipal Office
DESCRIPTION:Transfer Station Passes for 2024 will be available for pick up starting today\, Wednesday December 6\, 2023\, at the Municipal Office. \nShould you have any questions\, please contact the Municipal Office at 705-636-5941.
URL:https://townshipofperry.ca/event/2024-transfer-station-passes-available-at-municipal-office/
CATEGORIES:Events
END:VEVENT
BEGIN:VEVENT
DTSTART;VALUE=DATE:20231205
DTEND;VALUE=DATE:20231206
DTSTAMP:20260422T061736
CREATED:20231115T203325Z
LAST-MODIFIED:20231115T203325Z
UID:6908-1701734400-1701820799@townshipofperry.ca
SUMMARY:All Municipal Facilities CLOSED @ 12 noon
DESCRIPTION:All Municipal Facilities\, including the Municipal Office\, Library\, and Transfer Station\, will be CLOSED at 12 noon today\, Tuesday December 5\, 2023\, for a staff function.
URL:https://townshipofperry.ca/event/all-municipal-facilities-closed-12-noon/
CATEGORIES:Events,Meetings
END:VEVENT
BEGIN:VEVENT
DTSTART;TZID=America/Toronto:20231204T190000
DTEND;TZID=America/Toronto:20231204T200000
DTSTAMP:20260422T061736
CREATED:20230918T121653Z
LAST-MODIFIED:20230918T121653Z
UID:6583-1701716400-1701720000@townshipofperry.ca
SUMMARY:Recreation and Culture Committee Meeting @ 7 p.m.
DESCRIPTION:Recreation and Culture Committee Meeting at 7 p.m.\, in the Council Chambers at the Municipal Office.
URL:https://townshipofperry.ca/event/recreation-and-culture-committee-meeting-7-p-m-17/
CATEGORIES:Meetings
ATTACH;FMTTYPE=image/jpeg:https://townshipofperry.ca/wp-content/uploads/2022/05/TwpPerryLogo-e1652713783977.jpg
END:VEVENT
BEGIN:VEVENT
DTSTART;TZID=America/Toronto:20231202T183000
DTEND;TZID=America/Toronto:20231202T193000
DTSTAMP:20260422T061736
CREATED:20231016T152610Z
LAST-MODIFIED:20231016T152610Z
UID:6762-1701541800-1701545400@townshipofperry.ca
SUMMARY:Burk's Falls Santa Claus Parade
DESCRIPTION:Saturday December 2\, 2023 on Main Street\, Burk’s Falls. \nStarting at 6:30 p.m.
URL:https://townshipofperry.ca/event/burks-falls-santa-claus-parade-2/
CATEGORIES:Events
END:VEVENT
END:VCALENDAR