BEGIN:VCALENDAR
VERSION:2.0
PRODID:-//The Township of Perry - ECPv6.15.18//NONSGML v1.0//EN
CALSCALE:GREGORIAN
METHOD:PUBLISH
X-ORIGINAL-URL:https://townshipofperry.ca
X-WR-CALDESC:Events for The Township of Perry
REFRESH-INTERVAL;VALUE=DURATION:PT1H
X-Robots-Tag:noindex
X-PUBLISHED-TTL:PT1H
BEGIN:VTIMEZONE
TZID:America/Toronto
BEGIN:DAYLIGHT
TZOFFSETFROM:-0500
TZOFFSETTO:-0400
TZNAME:EDT
DTSTART:20240310T070000
END:DAYLIGHT
BEGIN:STANDARD
TZOFFSETFROM:-0400
TZOFFSETTO:-0500
TZNAME:EST
DTSTART:20241103T060000
END:STANDARD
BEGIN:DAYLIGHT
TZOFFSETFROM:-0500
TZOFFSETTO:-0400
TZNAME:EDT
DTSTART:20250309T070000
END:DAYLIGHT
BEGIN:STANDARD
TZOFFSETFROM:-0400
TZOFFSETTO:-0500
TZNAME:EST
DTSTART:20251102T060000
END:STANDARD
BEGIN:DAYLIGHT
TZOFFSETFROM:-0500
TZOFFSETTO:-0400
TZNAME:EDT
DTSTART:20260308T070000
END:DAYLIGHT
BEGIN:STANDARD
TZOFFSETFROM:-0400
TZOFFSETTO:-0500
TZNAME:EST
DTSTART:20261101T060000
END:STANDARD
END:VTIMEZONE
BEGIN:VEVENT
DTSTART;TZID=America/Toronto:20250123T110000
DTEND;TZID=America/Toronto:20250123T113000
DTSTAMP:20260421T081704
CREATED:20250122T144252Z
LAST-MODIFIED:20250122T144252Z
UID:9362-1737630000-1737631800@townshipofperry.ca
SUMMARY:StoryTime @ Library
DESCRIPTION:StoryTime @ Library \nEvery Tuesday & Thursday at 11AM \n 
URL:https://townshipofperry.ca/event/storytime-library/
CATEGORIES:Events
ATTACH;FMTTYPE=image/jpeg:https://townshipofperry.ca/wp-content/uploads/2025/01/2025-01-22-Story-Time-Library.jpg
END:VEVENT
BEGIN:VEVENT
DTSTART;TZID=America/Toronto:20250123T190000
DTEND;TZID=America/Toronto:20250123T200000
DTSTAMP:20260421T081704
CREATED:20250107T151202Z
LAST-MODIFIED:20250107T151202Z
UID:9200-1737658800-1737662400@townshipofperry.ca
SUMMARY:Adult Dodgeball League
DESCRIPTION:Adult Dodgeball League – 7PM \nEvery Thursday\, until March 6. Hosted in the Gym at Evergreen Heights Education Centre. \nFor more information\, contact the Municipal Office at 705-636-5941.
URL:https://townshipofperry.ca/event/adult-dodgeball-league-2-2025-01-23/
CATEGORIES:Events
ATTACH;FMTTYPE=image/png:https://townshipofperry.ca/wp-content/uploads/2025/01/2025-01-07-Adult-Dodge-Update-Poster.png
END:VEVENT
BEGIN:VEVENT
DTSTART;TZID=America/Toronto:20250125T090000
DTEND;TZID=America/Toronto:20250125T180000
DTSTAMP:20260421T081704
CREATED:20250106T165930Z
LAST-MODIFIED:20250106T165930Z
UID:9171-1737795600-1737828000@townshipofperry.ca
SUMMARY:Bracebridge Fire & Ice Festival
DESCRIPTION:Bracebridge Fire & Ice Festival \nSaturday January 25\, 2025\, Downtown Bracebridge \nVisit their website for details!
URL:https://townshipofperry.ca/event/bracebridge-fire-ice-festival/
CATEGORIES:Events
ATTACH;FMTTYPE=image/png:https://townshipofperry.ca/wp-content/uploads/2025/01/2025-01-06-Fire-and-Ice.png
END:VEVENT
BEGIN:VEVENT
DTSTART;TZID=America/Toronto:20250125T103000
DTEND;TZID=America/Toronto:20250125T140000
DTSTAMP:20260421T081704
CREATED:20250114T182109Z
LAST-MODIFIED:20250114T182109Z
UID:9275-1737801000-1737813600@townshipofperry.ca
SUMMARY:Kearney Family Skating Party
DESCRIPTION:Kearney Family Skating Party \nSaturday January 25\, 2025 – 10:30AM to 2 PM \nLions Pavillion Park \nHot Chocolate\, Games\, etc.
URL:https://townshipofperry.ca/event/kearney-family-skating-party/
CATEGORIES:Events
ATTACH;FMTTYPE=image/jpeg:https://townshipofperry.ca/wp-content/uploads/2025/01/2025-01-14-Kearney-Skate-Day.jpg
END:VEVENT
BEGIN:VEVENT
DTSTART;TZID=America/Toronto:20250125T110000
DTEND;TZID=America/Toronto:20250125T113000
DTSTAMP:20260421T081704
CREATED:20250109T195323Z
LAST-MODIFIED:20250109T195323Z
UID:9249-1737802800-1737804600@townshipofperry.ca
SUMMARY:Drop In Knit & Crochet Group
DESCRIPTION:Drop In Knit & Crochet Group \nPerry Township Library\, 25 Joseph St \nCall 705-636-5454 for more information.
URL:https://townshipofperry.ca/event/drop-in-knit-crochet-group/
CATEGORIES:Events
ATTACH;FMTTYPE=image/jpeg:https://townshipofperry.ca/wp-content/uploads/2024/01/crochest.jpg
END:VEVENT
BEGIN:VEVENT
DTSTART;TZID=America/Toronto:20250125T190000
DTEND;TZID=America/Toronto:20250125T210000
DTSTAMP:20260421T081704
CREATED:20250122T141533Z
LAST-MODIFIED:20250122T141533Z
UID:9329-1737831600-1737838800@townshipofperry.ca
SUMMARY:Conscious Dance
DESCRIPTION:Conscious Dance – Awakening Energy \nThe Space Upstairs\, Burk’s Falls Senior Centre \n39 Copeland Street \n7PM-9PM \n 
URL:https://townshipofperry.ca/event/conscious-dance/
CATEGORIES:Events
ATTACH;FMTTYPE=image/jpeg:https://townshipofperry.ca/wp-content/uploads/2025/01/2025-01-22-Conscious-Dance.jpg
END:VEVENT
BEGIN:VEVENT
DTSTART;TZID=America/Toronto:20250128T110000
DTEND;TZID=America/Toronto:20250128T113000
DTSTAMP:20260421T081704
CREATED:20250122T144443Z
LAST-MODIFIED:20250122T144443Z
UID:9373-1738062000-1738063800@townshipofperry.ca
SUMMARY:StoryTime @ Library
DESCRIPTION:StoryTime @ Library \nEvery Tuesday & Thursday at 11AM
URL:https://townshipofperry.ca/event/storytime-library-2/
CATEGORIES:Events
ATTACH;FMTTYPE=image/jpeg:https://townshipofperry.ca/wp-content/uploads/2025/01/2025-01-22-Story-Time-Library.jpg
END:VEVENT
BEGIN:VEVENT
DTSTART;TZID=America/Toronto:20250128T180000
DTEND;TZID=America/Toronto:20250128T190000
DTSTAMP:20260421T081704
CREATED:20250114T182331Z
LAST-MODIFIED:20250114T182331Z
UID:9291-1738087200-1738090800@townshipofperry.ca
SUMMARY:Kids Dodgeball League
DESCRIPTION:Kids Dodgeball League (ages 8-12) – 6PM Every Tuesday\, until March 4. \nHosted in the Gym at Evergreen Heights Education Centre. For more information\, contact the Municipal Office at 705-636-5941
URL:https://townshipofperry.ca/event/kids-dodgeball-league-2-2025-01-28/
CATEGORIES:Events
END:VEVENT
BEGIN:VEVENT
DTSTART;TZID=America/Toronto:20250129T130000
DTEND;TZID=America/Toronto:20250129T150000
DTSTAMP:20260421T081704
CREATED:20250109T121426Z
LAST-MODIFIED:20250109T121426Z
UID:9228-1738155600-1738162800@townshipofperry.ca
SUMMARY:Library Board Meeting - 1 PM
DESCRIPTION:Library Board Meeting – 1 PM \nHeld within the Council Chambers of the Municipal Office\, 1695 Emsdale Road.
URL:https://townshipofperry.ca/event/library-board-meeting-1-pm/
CATEGORIES:Meetings
ATTACH;FMTTYPE=image/jpeg:https://townshipofperry.ca/wp-content/uploads/2023/03/PerryTownshipLibrary-e1678111660835.jpg
END:VEVENT
BEGIN:VEVENT
DTSTART;TZID=America/Toronto:20250130T110000
DTEND;TZID=America/Toronto:20250130T113000
DTSTAMP:20260421T081704
CREATED:20250122T144252Z
LAST-MODIFIED:20250122T144252Z
UID:9363-1738234800-1738236600@townshipofperry.ca
SUMMARY:StoryTime @ Library
DESCRIPTION:StoryTime @ Library \nEvery Tuesday & Thursday at 11AM \n 
URL:https://townshipofperry.ca/event/storytime-library-2025-01-30/
CATEGORIES:Events
ATTACH;FMTTYPE=image/jpeg:https://townshipofperry.ca/wp-content/uploads/2025/01/2025-01-22-Story-Time-Library.jpg
END:VEVENT
BEGIN:VEVENT
DTSTART;TZID=America/Toronto:20250130T120000
DTEND;TZID=America/Toronto:20250130T143000
DTSTAMP:20260421T081704
CREATED:20241218T213617Z
LAST-MODIFIED:20241218T213617Z
UID:9126-1738238400-1738247400@townshipofperry.ca
SUMMARY:Emsdale Seniors Luncheon
DESCRIPTION:Emsdale Seniors Luncheon \nThursday January 30\, Emsdale Community Centre \nCall to register at 705-724-6028. $10 per person.
URL:https://townshipofperry.ca/event/emsdale-seniors-luncheon-7/
CATEGORIES:Events
END:VEVENT
BEGIN:VEVENT
DTSTART;TZID=America/Toronto:20250130T130000
DTEND;TZID=America/Toronto:20250130T140000
DTSTAMP:20260421T081704
CREATED:20241218T214013Z
LAST-MODIFIED:20241218T214013Z
UID:9133-1738242000-1738245600@townshipofperry.ca
SUMMARY:Adult Book Club @ Library
DESCRIPTION:Contact the Library for more information at 705-636-5454
URL:https://townshipofperry.ca/event/adult-book-club-library-2/
CATEGORIES:Events
ATTACH;FMTTYPE=image/jpeg:https://townshipofperry.ca/wp-content/uploads/2024/01/book-club.jpg
END:VEVENT
BEGIN:VEVENT
DTSTART;TZID=America/Toronto:20250130T190000
DTEND;TZID=America/Toronto:20250130T200000
DTSTAMP:20260421T081704
CREATED:20250107T151202Z
LAST-MODIFIED:20250107T151202Z
UID:9201-1738263600-1738267200@townshipofperry.ca
SUMMARY:Adult Dodgeball League
DESCRIPTION:Adult Dodgeball League – 7PM \nEvery Thursday\, until March 6. Hosted in the Gym at Evergreen Heights Education Centre. \nFor more information\, contact the Municipal Office at 705-636-5941.
URL:https://townshipofperry.ca/event/adult-dodgeball-league-2-2025-01-30/
CATEGORIES:Events
ATTACH;FMTTYPE=image/png:https://townshipofperry.ca/wp-content/uploads/2025/01/2025-01-07-Adult-Dodge-Update-Poster.png
END:VEVENT
BEGIN:VEVENT
DTSTART;TZID=America/Toronto:20250131T093000
DTEND;TZID=America/Toronto:20250131T150000
DTSTAMP:20260421T081704
CREATED:20250109T200447Z
LAST-MODIFIED:20250109T200447Z
UID:9253-1738315800-1738335600@townshipofperry.ca
SUMMARY:Babysitting and Home Alone Safety Course
DESCRIPTION:Babysitting and Home Alone Safety Course \nFriday January 31\, 2025 – 9:30 am to 3 pm \nHosted at the Employment North Centre\, South River\, 131 Ottawa Ave. \nView the poster for more details and to register. \n 
URL:https://townshipofperry.ca/event/babysitting-and-home-alone-safety-course/
CATEGORIES:Events
ATTACH;FMTTYPE=image/jpeg:https://townshipofperry.ca/wp-content/uploads/2025/01/2025-01-09-Babysitting-Course-South-River.jpg
END:VEVENT
BEGIN:VEVENT
DTSTART;TZID=America/Toronto:20250131T100000
DTEND;TZID=America/Toronto:20250131T123000
DTSTAMP:20260421T081704
CREATED:20241218T214206Z
LAST-MODIFIED:20250120T140455Z
UID:9137-1738317600-1738326600@townshipofperry.ca
SUMMARY:PA Day Movie @ Library Showing MUMMIES
DESCRIPTION:MOVIE: MUMMIES (2023) \nFree entry & popcorn. \nContact the Library for more information at 705-636-5454
URL:https://townshipofperry.ca/event/pa-day-movie-library-3/
CATEGORIES:Events
ATTACH;FMTTYPE=image/jpeg:https://townshipofperry.ca/wp-content/uploads/2025/01/2025-01-20-Library-PA-Day-Movie.jpg
END:VEVENT
BEGIN:VEVENT
DTSTART;TZID=America/Toronto:20250131T190000
DTEND;TZID=America/Toronto:20250131T200000
DTSTAMP:20260421T081704
CREATED:20241218T214113Z
LAST-MODIFIED:20241218T214113Z
UID:9135-1738350000-1738353600@townshipofperry.ca
SUMMARY:Adult Craft Night @ Library
DESCRIPTION:Contact the Library for more information at 705-636-5454
URL:https://townshipofperry.ca/event/adult-craft-night-library-2/
CATEGORIES:Events
ATTACH;FMTTYPE=image/jpeg:https://townshipofperry.ca/wp-content/uploads/2024/01/crafts.jpg
END:VEVENT
BEGIN:VEVENT
DTSTART;TZID=America/Toronto:20250201T110000
DTEND;TZID=America/Toronto:20250201T113000
DTSTAMP:20260421T081704
CREATED:20250122T142909Z
LAST-MODIFIED:20250122T142909Z
UID:9343-1738407600-1738409400@townshipofperry.ca
SUMMARY:Kidz Kraft @ Library
DESCRIPTION:Kidz Kraft @ Library \n705-636-5454 to register.
URL:https://townshipofperry.ca/event/kidz-kraft-library-4/
CATEGORIES:Events
ATTACH;FMTTYPE=image/jpeg:https://townshipofperry.ca/wp-content/uploads/2024/01/crafts.jpg
END:VEVENT
BEGIN:VEVENT
DTSTART;TZID=America/Toronto:20250202T100000
DTEND;TZID=America/Toronto:20250202T150000
DTSTAMP:20260421T081704
CREATED:20250122T141938Z
LAST-MODIFIED:20250122T141938Z
UID:9335-1738490400-1738508400@townshipofperry.ca
SUMMARY:Huntsville Sci-Fi & Toy Expo
DESCRIPTION:Huntsville Sci-Fi & Toy Expo \nActive Living Centre\, Huntsville \n$5 admission \nSunday February 2 – 10AM to 3PM
URL:https://townshipofperry.ca/event/huntsville-sci-fi-toy-expo/
CATEGORIES:Events
ATTACH;FMTTYPE=image/jpeg:https://townshipofperry.ca/wp-content/uploads/2025/01/2025-10-21-Huntsville-Sci-Fi.jpg
END:VEVENT
BEGIN:VEVENT
DTSTART;VALUE=DATE:20250203
DTEND;VALUE=DATE:20250204
DTSTAMP:20260421T081704
CREATED:20250122T142118Z
LAST-MODIFIED:20250122T142118Z
UID:9339-1738540800-1738627199@townshipofperry.ca
SUMMARY:2025 Citizen of Year Award Nominations Open
DESCRIPTION:2025 Citizen of Year Award Nominations Open \nVisit our webpage for more information! \nCitizen of the Year Award – The Township of Perry
URL:https://townshipofperry.ca/event/2025-citizen-of-year-award-nominations-open/
CATEGORIES:Events
ATTACH;FMTTYPE=image/png:https://townshipofperry.ca/wp-content/uploads/2025/01/2025-CALL-FOR-NOMINATIONS.png
END:VEVENT
BEGIN:VEVENT
DTSTART;TZID=America/Toronto:20250204T110000
DTEND;TZID=America/Toronto:20250204T113000
DTSTAMP:20260421T081704
CREATED:20250122T144443Z
LAST-MODIFIED:20250122T144443Z
UID:9374-1738666800-1738668600@townshipofperry.ca
SUMMARY:StoryTime @ Library
DESCRIPTION:StoryTime @ Library \nEvery Tuesday & Thursday at 11AM
URL:https://townshipofperry.ca/event/storytime-library-2-2025-02-04/
CATEGORIES:Events
ATTACH;FMTTYPE=image/jpeg:https://townshipofperry.ca/wp-content/uploads/2025/01/2025-01-22-Story-Time-Library.jpg
END:VEVENT
BEGIN:VEVENT
DTSTART;TZID=America/Toronto:20250204T180000
DTEND;TZID=America/Toronto:20250204T190000
DTSTAMP:20260421T081704
CREATED:20250114T182331Z
LAST-MODIFIED:20250114T182331Z
UID:9292-1738692000-1738695600@townshipofperry.ca
SUMMARY:Kids Dodgeball League
DESCRIPTION:Kids Dodgeball League (ages 8-12) – 6PM Every Tuesday\, until March 4. \nHosted in the Gym at Evergreen Heights Education Centre. For more information\, contact the Municipal Office at 705-636-5941
URL:https://townshipofperry.ca/event/kids-dodgeball-league-2-2025-02-04/
CATEGORIES:Events
END:VEVENT
BEGIN:VEVENT
DTSTART;TZID=America/Toronto:20250205T190000
DTEND;TZID=America/Toronto:20250205T210000
DTSTAMP:20260421T081704
CREATED:20250109T121705Z
LAST-MODIFIED:20250109T121705Z
UID:9230-1738782000-1738789200@townshipofperry.ca
SUMMARY:Regular Council Meeting @ 7pm
DESCRIPTION:Regular Council Meeting @ 7pm \nCouncil Chambers\, 1695 Emsdale Road\, Emsdale\, ON \n705-636-5941
URL:https://townshipofperry.ca/event/regular-council-meeting-7pm/
CATEGORIES:Meetings
ATTACH;FMTTYPE=image/jpeg:https://townshipofperry.ca/wp-content/uploads/2022/05/TwpPerryLogo-e1652713783977.jpg
END:VEVENT
BEGIN:VEVENT
DTSTART;TZID=America/Toronto:20250206T110000
DTEND;TZID=America/Toronto:20250206T113000
DTSTAMP:20260421T081704
CREATED:20250122T144252Z
LAST-MODIFIED:20250122T144252Z
UID:9364-1738839600-1738841400@townshipofperry.ca
SUMMARY:StoryTime @ Library
DESCRIPTION:StoryTime @ Library \nEvery Tuesday & Thursday at 11AM \n 
URL:https://townshipofperry.ca/event/storytime-library-2025-02-06/
CATEGORIES:Events
ATTACH;FMTTYPE=image/jpeg:https://townshipofperry.ca/wp-content/uploads/2025/01/2025-01-22-Story-Time-Library.jpg
END:VEVENT
BEGIN:VEVENT
DTSTART;TZID=America/Toronto:20250206T190000
DTEND;TZID=America/Toronto:20250206T200000
DTSTAMP:20260421T081704
CREATED:20250107T151202Z
LAST-MODIFIED:20250107T151202Z
UID:9202-1738868400-1738872000@townshipofperry.ca
SUMMARY:Adult Dodgeball League
DESCRIPTION:Adult Dodgeball League – 7PM \nEvery Thursday\, until March 6. Hosted in the Gym at Evergreen Heights Education Centre. \nFor more information\, contact the Municipal Office at 705-636-5941.
URL:https://townshipofperry.ca/event/adult-dodgeball-league-2-2025-02-06/
CATEGORIES:Events
ATTACH;FMTTYPE=image/png:https://townshipofperry.ca/wp-content/uploads/2025/01/2025-01-07-Adult-Dodge-Update-Poster.png
END:VEVENT
BEGIN:VEVENT
DTSTART;VALUE=DATE:20250207
DTEND;VALUE=DATE:20250209
DTSTAMP:20260421T081704
CREATED:20250122T141815Z
LAST-MODIFIED:20250122T141815Z
UID:9333-1738886400-1739059199@townshipofperry.ca
SUMMARY:South River Winterfest
DESCRIPTION:South River Winterfest \nAll week\, starting February 3 up until February 7-9\, 2025 \n 
URL:https://townshipofperry.ca/event/south-river-winterfest/
CATEGORIES:Events
ATTACH;FMTTYPE=image/jpeg:https://townshipofperry.ca/wp-content/uploads/2025/01/2025-01-22-South-River-Winterfest.jpg
END:VEVENT
BEGIN:VEVENT
DTSTART;TZID=America/Toronto:20250207T190000
DTEND;TZID=America/Toronto:20250207T200000
DTSTAMP:20260421T081704
CREATED:20250122T143023Z
LAST-MODIFIED:20250122T143023Z
UID:9345-1738954800-1738958400@townshipofperry.ca
SUMMARY:Trivia Night @ Library
DESCRIPTION:Trivia Night @ Library \nContact the Library to register 705-636-5454
URL:https://townshipofperry.ca/event/trivia-night-library-3/
CATEGORIES:Events
END:VEVENT
BEGIN:VEVENT
DTSTART;VALUE=DATE:20250208
DTEND;VALUE=DATE:20250210
DTSTAMP:20260421T081704
CREATED:20250206T154113Z
LAST-MODIFIED:20250206T154113Z
UID:9430-1738972800-1739145599@townshipofperry.ca
SUMMARY:Kearney Dog Sled Races
DESCRIPTION:Kearney Dog Sled Races \nFebruary 8 & 9\, 2025 \nMain Street\, Kearney & Kearney Legion \nVisit their website for more information: Kearney Dog Sled Races – Ontario\, Canada
URL:https://townshipofperry.ca/event/kearney-dog-sled-races-3/
CATEGORIES:Events
END:VEVENT
BEGIN:VEVENT
DTSTART;TZID=America/Toronto:20250208T103000
DTEND;TZID=America/Toronto:20250208T163000
DTSTAMP:20260421T081704
CREATED:20250109T200732Z
LAST-MODIFIED:20250109T200732Z
UID:9256-1739010600-1739032200@townshipofperry.ca
SUMMARY:Psychic Tea with Mystic by Collette
DESCRIPTION:Psychic Tea with Mystic by Collette \nSaturday February 8\, 2025 – 10:30 AM to 4:30 PM \nBurk’s Falls\, Armour\, and Ryerson Arena\, 220 Centre Street\, Burk’s Falls\, ON \nTickets are required. Visit the website for more information and details: Psychic Tea with Mystic by Collette | Explore Almaguin \n 
URL:https://townshipofperry.ca/event/psychic-tea-with-mystic-by-collette/
CATEGORIES:Events
ATTACH;FMTTYPE=image/webp:https://townshipofperry.ca/wp-content/uploads/2024/09/appreciationtea.webp
END:VEVENT
BEGIN:VEVENT
DTSTART;TZID=America/Toronto:20250208T110000
DTEND;TZID=America/Toronto:20250208T113000
DTSTAMP:20260421T081704
CREATED:20250122T143121Z
LAST-MODIFIED:20250122T143121Z
UID:9347-1739012400-1739014200@townshipofperry.ca
SUMMARY:Knit & Crochet Group @ Library
DESCRIPTION:Knit & Crochet Group \nContact Library at 705-636-5454 for details
URL:https://townshipofperry.ca/event/knit-crochet-group-library/
CATEGORIES:Events
ATTACH;FMTTYPE=image/jpeg:https://townshipofperry.ca/wp-content/uploads/2024/01/crochest.jpg
END:VEVENT
BEGIN:VEVENT
DTSTART;TZID=America/Toronto:20250208T130000
DTEND;TZID=America/Toronto:20250208T160000
DTSTAMP:20260421T081704
CREATED:20250122T141635Z
LAST-MODIFIED:20250122T141635Z
UID:9331-1739019600-1739030400@townshipofperry.ca
SUMMARY:Katrine Jamboree
DESCRIPTION:Katrine Jamboree \nSaturday February 8\, 2025 \nKatrine Community Centre\, 6 Browns Road \n1PM-4PM \nEntry by Donation
URL:https://townshipofperry.ca/event/katrine-jamboree-3/
CATEGORIES:Events
ATTACH;FMTTYPE=image/jpeg:https://townshipofperry.ca/wp-content/uploads/2025/01/2025-01-22-KCC-Jamboree.jpg
END:VEVENT
END:VCALENDAR