BEGIN:VCALENDAR
VERSION:2.0
PRODID:-//The Township of Perry - ECPv6.15.18//NONSGML v1.0//EN
CALSCALE:GREGORIAN
METHOD:PUBLISH
X-ORIGINAL-URL:https://townshipofperry.ca
X-WR-CALDESC:Events for The Township of Perry
REFRESH-INTERVAL;VALUE=DURATION:PT1H
X-Robots-Tag:noindex
X-PUBLISHED-TTL:PT1H
BEGIN:VTIMEZONE
TZID:America/Toronto
BEGIN:DAYLIGHT
TZOFFSETFROM:-0500
TZOFFSETTO:-0400
TZNAME:EDT
DTSTART:20240310T070000
END:DAYLIGHT
BEGIN:STANDARD
TZOFFSETFROM:-0400
TZOFFSETTO:-0500
TZNAME:EST
DTSTART:20241103T060000
END:STANDARD
BEGIN:DAYLIGHT
TZOFFSETFROM:-0500
TZOFFSETTO:-0400
TZNAME:EDT
DTSTART:20250309T070000
END:DAYLIGHT
BEGIN:STANDARD
TZOFFSETFROM:-0400
TZOFFSETTO:-0500
TZNAME:EST
DTSTART:20251102T060000
END:STANDARD
BEGIN:DAYLIGHT
TZOFFSETFROM:-0500
TZOFFSETTO:-0400
TZNAME:EDT
DTSTART:20260308T070000
END:DAYLIGHT
BEGIN:STANDARD
TZOFFSETFROM:-0400
TZOFFSETTO:-0500
TZNAME:EST
DTSTART:20261101T060000
END:STANDARD
END:VTIMEZONE
BEGIN:VEVENT
DTSTART;TZID=America/Toronto:20250209T180000
DTEND;TZID=America/Toronto:20250209T230000
DTSTAMP:20260421T162337
CREATED:20250114T150755Z
LAST-MODIFIED:20250114T150755Z
UID:9271-1739124000-1739142000@townshipofperry.ca
SUMMARY:Kearney Legion Superbowl Party
DESCRIPTION:Kearney Legion Superbowl Party \nSunday February 9\, 2025 \n6PM
URL:https://townshipofperry.ca/event/kearney-legion-superbowl-party/
CATEGORIES:Events
ATTACH;FMTTYPE=image/jpeg:https://townshipofperry.ca/wp-content/uploads/2025/01/2025-01-13-Superbowl-Legion-Party.jpg
END:VEVENT
BEGIN:VEVENT
DTSTART;TZID=America/Toronto:20250210T190000
DTEND;TZID=America/Toronto:20250210T200000
DTSTAMP:20260421T162337
CREATED:20250109T122037Z
LAST-MODIFIED:20250203T161812Z
UID:9234-1739214000-1739217600@townshipofperry.ca
SUMMARY:Recreation and Culture Committee Meeting @ 7pm
DESCRIPTION:**FEBRUARY 3 MEETING POSTPONED UNTIL FEBRUARY 10 \n  \nRecreation and Culture Committee Meeting @ 7pm \nCouncil Chambers\, Municipal Office\, 1695 Emsdale Road\, Emsdale \n705-636-5941
URL:https://townshipofperry.ca/event/recreation-and-culture-committee-meeting-7pm-8/
CATEGORIES:Meetings
ATTACH;FMTTYPE=image/jpeg:https://townshipofperry.ca/wp-content/uploads/2022/05/TwpPerryLogo-e1652713783977.jpg
END:VEVENT
BEGIN:VEVENT
DTSTART;TZID=America/Toronto:20250211T110000
DTEND;TZID=America/Toronto:20250211T113000
DTSTAMP:20260421T162337
CREATED:20250122T144443Z
LAST-MODIFIED:20250122T144443Z
UID:9375-1739271600-1739273400@townshipofperry.ca
SUMMARY:StoryTime @ Library
DESCRIPTION:StoryTime @ Library \nEvery Tuesday & Thursday at 11AM
URL:https://townshipofperry.ca/event/storytime-library-2-2025-02-11/
CATEGORIES:Events
ATTACH;FMTTYPE=image/jpeg:https://townshipofperry.ca/wp-content/uploads/2025/01/2025-01-22-Story-Time-Library.jpg
END:VEVENT
BEGIN:VEVENT
DTSTART;TZID=America/Toronto:20250211T143000
DTEND;TZID=America/Toronto:20250211T163000
DTSTAMP:20260421T162337
CREATED:20250109T122736Z
LAST-MODIFIED:20250109T122736Z
UID:9238-1739284200-1739291400@townshipofperry.ca
SUMMARY:Staff Meeting/Training - Office Closed @ 230pm
DESCRIPTION:Staff Meeting – Office Closed @ 230pm
URL:https://townshipofperry.ca/event/staff-meeting-training-office-closed-230pm/
CATEGORIES:Events,Meetings
ATTACH;FMTTYPE=image/jpeg:https://townshipofperry.ca/wp-content/uploads/2022/05/TwpPerryLogo-e1652713783977.jpg
END:VEVENT
BEGIN:VEVENT
DTSTART;TZID=America/Toronto:20250211T180000
DTEND;TZID=America/Toronto:20250211T190000
DTSTAMP:20260421T162337
CREATED:20250114T182331Z
LAST-MODIFIED:20250114T182331Z
UID:9293-1739296800-1739300400@townshipofperry.ca
SUMMARY:Kids Dodgeball League
DESCRIPTION:Kids Dodgeball League (ages 8-12) – 6PM Every Tuesday\, until March 4. \nHosted in the Gym at Evergreen Heights Education Centre. For more information\, contact the Municipal Office at 705-636-5941
URL:https://townshipofperry.ca/event/kids-dodgeball-league-2-2025-02-11/
CATEGORIES:Events
END:VEVENT
BEGIN:VEVENT
DTSTART;TZID=America/Toronto:20250212T160000
DTEND;TZID=America/Toronto:20250212T180000
DTSTAMP:20260421T162337
CREATED:20250109T122304Z
LAST-MODIFIED:20250211T132229Z
UID:9236-1739376000-1739383200@townshipofperry.ca
SUMMARY:Library Board Meeting @ 4 pm
DESCRIPTION:Library Board Meeting @ 4 pm \nCouncil Chambers\, Municipal Office\, 1695 Emsdale Road
URL:https://townshipofperry.ca/event/library-board-meeting-7-pm/
CATEGORIES:Meetings
ATTACH;FMTTYPE=image/jpeg:https://townshipofperry.ca/wp-content/uploads/2023/03/PerryTownshipLibrary-e1678111660835.jpg
END:VEVENT
BEGIN:VEVENT
DTSTART;TZID=America/Toronto:20250213T110000
DTEND;TZID=America/Toronto:20250213T113000
DTSTAMP:20260421T162337
CREATED:20250122T144252Z
LAST-MODIFIED:20250122T144252Z
UID:9365-1739444400-1739446200@townshipofperry.ca
SUMMARY:StoryTime @ Library
DESCRIPTION:StoryTime @ Library \nEvery Tuesday & Thursday at 11AM \n 
URL:https://townshipofperry.ca/event/storytime-library-2025-02-13/
CATEGORIES:Events
ATTACH;FMTTYPE=image/jpeg:https://townshipofperry.ca/wp-content/uploads/2025/01/2025-01-22-Story-Time-Library.jpg
END:VEVENT
BEGIN:VEVENT
DTSTART;TZID=America/Toronto:20250213T190000
DTEND;TZID=America/Toronto:20250213T200000
DTSTAMP:20260421T162337
CREATED:20250107T151202Z
LAST-MODIFIED:20250107T151202Z
UID:9203-1739473200-1739476800@townshipofperry.ca
SUMMARY:Adult Dodgeball League
DESCRIPTION:Adult Dodgeball League – 7PM \nEvery Thursday\, until March 6. Hosted in the Gym at Evergreen Heights Education Centre. \nFor more information\, contact the Municipal Office at 705-636-5941.
URL:https://townshipofperry.ca/event/adult-dodgeball-league-2-2025-02-13/
CATEGORIES:Events
ATTACH;FMTTYPE=image/png:https://townshipofperry.ca/wp-content/uploads/2025/01/2025-01-07-Adult-Dodge-Update-Poster.png
END:VEVENT
BEGIN:VEVENT
DTSTART;TZID=America/Toronto:20250214T120000
DTEND;TZID=America/Toronto:20250214T140000
DTSTAMP:20260421T162337
CREATED:20250109T123357Z
LAST-MODIFIED:20250109T123357Z
UID:9240-1739534400-1739541600@townshipofperry.ca
SUMMARY:Valentine's Day Tea
DESCRIPTION:Valentine’s Day Tea \nLand of Lakes Public School\, Burk’s Falls \nFriday February 14\, 2025 from 12 pm to 2pm \n$5 per person
URL:https://townshipofperry.ca/event/valentines-day-tea/
CATEGORIES:Events
ATTACH;FMTTYPE=image/jpeg:https://townshipofperry.ca/wp-content/uploads/2025/01/2025-01-06-Land-of-Lakes-Valentine-Day-Tea.jpg
END:VEVENT
BEGIN:VEVENT
DTSTART;VALUE=DATE:20250215
DTEND;VALUE=DATE:20250216
DTSTAMP:20260421T162337
CREATED:20250122T143352Z
LAST-MODIFIED:20250122T143352Z
UID:9351-1739577600-1739663999@townshipofperry.ca
SUMMARY:Library CLOSED for Family Day Weekend
DESCRIPTION:Library CLOSED for Family Day Weekend
URL:https://townshipofperry.ca/event/library-closed-for-family-day-weekend/
CATEGORIES:Events
ATTACH;FMTTYPE=image/jpeg:https://townshipofperry.ca/wp-content/uploads/2022/06/circledeventoncalendar-e1654092768435.jpg
END:VEVENT
BEGIN:VEVENT
DTSTART;TZID=America/Toronto:20250215T100000
DTEND;TZID=America/Toronto:20250215T150000
DTSTAMP:20260421T162337
CREATED:20250114T150310Z
LAST-MODIFIED:20250114T150310Z
UID:9265-1739613600-1739631600@townshipofperry.ca
SUMMARY:Sprucedale Winterfest
DESCRIPTION:Sprucedale Winterfest \nSaturday February 15\, 2025 \nSprucedale Community Centre \nMore details to follow
URL:https://townshipofperry.ca/event/sprucedale-winterfest/
CATEGORIES:Events
ATTACH;FMTTYPE=image/jpeg:https://townshipofperry.ca/wp-content/uploads/2025/01/2025-01-14-Winterfest-Sprucedale.jpg
END:VEVENT
BEGIN:VEVENT
DTSTART;TZID=America/Toronto:20250216T110000
DTEND;TZID=America/Toronto:20250216T150000
DTSTAMP:20260421T162337
CREATED:20250122T141400Z
LAST-MODIFIED:20250122T141400Z
UID:9327-1739703600-1739718000@townshipofperry.ca
SUMMARY:Burk's Falls Winter Carnival
DESCRIPTION:Burk’s Falls Winter Carnival \nSunday February 16\, 2025 \nBurk’s Falls\, Armour\, Ryerson Arena \n11AM-3PM
URL:https://townshipofperry.ca/event/burks-falls-winter-carnival/
CATEGORIES:Events
ATTACH;FMTTYPE=image/jpeg:https://townshipofperry.ca/wp-content/uploads/2025/01/2025-01-22-Burks-Falls-Winter-Carnival.jpg
END:VEVENT
BEGIN:VEVENT
DTSTART;VALUE=DATE:20250217
DTEND;VALUE=DATE:20250218
DTSTAMP:20260421T162337
CREATED:20250122T143306Z
LAST-MODIFIED:20250122T144645Z
UID:9349-1739750400-1739836799@townshipofperry.ca
SUMMARY:All Municipal Buildings CLOSED - Family Day
DESCRIPTION:All Municipal Buildings CLOSED – Family Day
URL:https://townshipofperry.ca/event/all-municipal-buildings-closed-family-day-3/
CATEGORIES:Events,Meetings
END:VEVENT
BEGIN:VEVENT
DTSTART;TZID=America/Toronto:20250217T110000
DTEND;TZID=America/Toronto:20250217T160000
DTSTAMP:20260421T162337
CREATED:20250114T150159Z
LAST-MODIFIED:20250114T150159Z
UID:9263-1739790000-1739808000@townshipofperry.ca
SUMMARY:Save the Date - Perry Township Family Skate Day
DESCRIPTION:Perry Township Family Skate Day \nMonday February 17\, 2025 \nNovar Outdoor Skating Rink \nHot Chocolate\, Games\, Hot Dogs\, etc.
URL:https://townshipofperry.ca/event/save-the-date-perry-township-family-skate-day/
CATEGORIES:Events
ATTACH;FMTTYPE=image/jpeg:https://townshipofperry.ca/wp-content/uploads/2023/01/family-ice-skating-outside-restricted-e1673557682180.jpg
END:VEVENT
BEGIN:VEVENT
DTSTART;TZID=America/Toronto:20250218T110000
DTEND;TZID=America/Toronto:20250218T113000
DTSTAMP:20260421T162337
CREATED:20250122T144443Z
LAST-MODIFIED:20250122T144443Z
UID:9376-1739876400-1739878200@townshipofperry.ca
SUMMARY:StoryTime @ Library
DESCRIPTION:StoryTime @ Library \nEvery Tuesday & Thursday at 11AM
URL:https://townshipofperry.ca/event/storytime-library-2-2025-02-18/
CATEGORIES:Events
ATTACH;FMTTYPE=image/jpeg:https://townshipofperry.ca/wp-content/uploads/2025/01/2025-01-22-Story-Time-Library.jpg
END:VEVENT
BEGIN:VEVENT
DTSTART;TZID=America/Toronto:20250218T180000
DTEND;TZID=America/Toronto:20250218T190000
DTSTAMP:20260421T162337
CREATED:20250114T182331Z
LAST-MODIFIED:20250114T182331Z
UID:9294-1739901600-1739905200@townshipofperry.ca
SUMMARY:Kids Dodgeball League
DESCRIPTION:Kids Dodgeball League (ages 8-12) – 6PM Every Tuesday\, until March 4. \nHosted in the Gym at Evergreen Heights Education Centre. For more information\, contact the Municipal Office at 705-636-5941
URL:https://townshipofperry.ca/event/kids-dodgeball-league-2-2025-02-18/
CATEGORIES:Events
END:VEVENT
BEGIN:VEVENT
DTSTART;TZID=America/Toronto:20250219T190000
DTEND;TZID=America/Toronto:20250219T210000
DTSTAMP:20260421T162337
CREATED:20250109T121903Z
LAST-MODIFIED:20250109T121903Z
UID:9232-1739991600-1739998800@townshipofperry.ca
SUMMARY:Regular Council Meeting @ 7pm
DESCRIPTION:Regular Council Meeting @ 7pm \nCouncil Chambers\, 1695 Emsdale Road\, Emsdale\, ON \n705-636-5941
URL:https://townshipofperry.ca/event/regular-council-meeting-7pm-2/
CATEGORIES:Meetings
ATTACH;FMTTYPE=image/jpeg:https://townshipofperry.ca/wp-content/uploads/2022/05/TwpPerryLogo-e1652713783977.jpg
END:VEVENT
BEGIN:VEVENT
DTSTART;TZID=America/Toronto:20250220T110000
DTEND;TZID=America/Toronto:20250220T113000
DTSTAMP:20260421T162337
CREATED:20250122T144252Z
LAST-MODIFIED:20250122T144252Z
UID:9366-1740049200-1740051000@townshipofperry.ca
SUMMARY:StoryTime @ Library
DESCRIPTION:StoryTime @ Library \nEvery Tuesday & Thursday at 11AM \n 
URL:https://townshipofperry.ca/event/storytime-library-2025-02-20/
CATEGORIES:Events
ATTACH;FMTTYPE=image/jpeg:https://townshipofperry.ca/wp-content/uploads/2025/01/2025-01-22-Story-Time-Library.jpg
END:VEVENT
BEGIN:VEVENT
DTSTART;TZID=America/Toronto:20250220T153000
DTEND;TZID=America/Toronto:20250220T160000
DTSTAMP:20260421T162337
CREATED:20250122T143449Z
LAST-MODIFIED:20250122T143449Z
UID:9353-1740065400-1740067200@townshipofperry.ca
SUMMARY:Lego Club @ Library
DESCRIPTION:Lego Club @ Library \nContact Library for details at 705-636-5454
URL:https://townshipofperry.ca/event/lego-club-library-4/
CATEGORIES:Events
ATTACH;FMTTYPE=image/jpeg:https://townshipofperry.ca/wp-content/uploads/2024/01/lego.jpg
END:VEVENT
BEGIN:VEVENT
DTSTART;TZID=America/Toronto:20250220T190000
DTEND;TZID=America/Toronto:20250220T200000
DTSTAMP:20260421T162337
CREATED:20250107T151202Z
LAST-MODIFIED:20250107T151202Z
UID:9204-1740078000-1740081600@townshipofperry.ca
SUMMARY:Adult Dodgeball League
DESCRIPTION:Adult Dodgeball League – 7PM \nEvery Thursday\, until March 6. Hosted in the Gym at Evergreen Heights Education Centre. \nFor more information\, contact the Municipal Office at 705-636-5941.
URL:https://townshipofperry.ca/event/adult-dodgeball-league-2-2025-02-20/
CATEGORIES:Events
ATTACH;FMTTYPE=image/png:https://townshipofperry.ca/wp-content/uploads/2025/01/2025-01-07-Adult-Dodge-Update-Poster.png
END:VEVENT
BEGIN:VEVENT
DTSTART;VALUE=DATE:20250221
DTEND;VALUE=DATE:20250224
DTSTAMP:20260421T162337
CREATED:20250122T141257Z
LAST-MODIFIED:20250122T141257Z
UID:9322-1740096000-1740355199@townshipofperry.ca
SUMMARY:Katrine Winter Carnival
DESCRIPTION:Katrine Winter Carnival \nFebruary 21 – 23\, 2025 \nKatrine Community Centre\, 6 Brown’s Road
URL:https://townshipofperry.ca/event/katrine-winter-carnival/
CATEGORIES:Events
ATTACH;FMTTYPE=image/jpeg:https://townshipofperry.ca/wp-content/uploads/2025/01/2025-01-14-Katrine-Winter-Carnival.jpg
END:VEVENT
BEGIN:VEVENT
DTSTART;TZID=America/Toronto:20250222T110000
DTEND;TZID=America/Toronto:20250222T113000
DTSTAMP:20260421T162337
CREATED:20250122T143555Z
LAST-MODIFIED:20250122T143555Z
UID:9355-1740222000-1740223800@townshipofperry.ca
SUMMARY:Knit & Crochet Group @ Library
DESCRIPTION:Knit & Crochet Group @ Library \nContact Library for details at 705-636-5454
URL:https://townshipofperry.ca/event/knit-crochet-group-library-2/
CATEGORIES:Events
ATTACH;FMTTYPE=image/jpeg:https://townshipofperry.ca/wp-content/uploads/2024/01/crochest.jpg
END:VEVENT
BEGIN:VEVENT
DTSTART;TZID=America/Toronto:20250222T190000
DTEND;TZID=America/Toronto:20250222T210000
DTSTAMP:20260421T162337
CREATED:20250218T144531Z
LAST-MODIFIED:20250218T144531Z
UID:9458-1740250800-1740258000@townshipofperry.ca
SUMMARY:Conscious Dance
DESCRIPTION:SPACE Upstairs \nSenior Centre\, 39 Copeland Street\, Burk’s Falls (Upper Entrance) \n$10-$20 per person \n7PM-9PM \n  \n 
URL:https://townshipofperry.ca/event/conscious-dance-2/
CATEGORIES:Events
ATTACH;FMTTYPE=image/jpeg:https://townshipofperry.ca/wp-content/uploads/2025/02/2025-02-18-Dance-Burks-Falls.jpg
END:VEVENT
BEGIN:VEVENT
DTSTART;TZID=America/Toronto:20250225T110000
DTEND;TZID=America/Toronto:20250225T113000
DTSTAMP:20260421T162337
CREATED:20250122T144443Z
LAST-MODIFIED:20250122T144443Z
UID:9377-1740481200-1740483000@townshipofperry.ca
SUMMARY:StoryTime @ Library
DESCRIPTION:StoryTime @ Library \nEvery Tuesday & Thursday at 11AM
URL:https://townshipofperry.ca/event/storytime-library-2-2025-02-25/
CATEGORIES:Events
ATTACH;FMTTYPE=image/jpeg:https://townshipofperry.ca/wp-content/uploads/2025/01/2025-01-22-Story-Time-Library.jpg
END:VEVENT
BEGIN:VEVENT
DTSTART;TZID=America/Toronto:20250225T120000
DTEND;TZID=America/Toronto:20250225T140000
DTSTAMP:20260421T162337
CREATED:20250212T133340Z
LAST-MODIFIED:20250212T133340Z
UID:9446-1740484800-1740492000@townshipofperry.ca
SUMMARY:Emsdale Seniors Luncheon *NEW DATE DUE TO ELECTION
DESCRIPTION:Emsdale Seniors Luncheon *NEW DATE DUE TO ELECTION \nEmsdale Community Centre\, 25 Joseph St \n$10 per person \nRegister at 705-724-6028
URL:https://townshipofperry.ca/event/emsdale-seniors-luncheon-new-date-due-to-election/
CATEGORIES:Events
ATTACH;FMTTYPE=image/jpeg:https://townshipofperry.ca/wp-content/uploads/2025/02/2025-02-12-Emsdale-Seniors-Lunch.jpg
END:VEVENT
BEGIN:VEVENT
DTSTART;TZID=America/Toronto:20250225T180000
DTEND;TZID=America/Toronto:20250225T190000
DTSTAMP:20260421T162337
CREATED:20250114T182331Z
LAST-MODIFIED:20250114T182331Z
UID:9295-1740506400-1740510000@townshipofperry.ca
SUMMARY:Kids Dodgeball League
DESCRIPTION:Kids Dodgeball League (ages 8-12) – 6PM Every Tuesday\, until March 4. \nHosted in the Gym at Evergreen Heights Education Centre. For more information\, contact the Municipal Office at 705-636-5941
URL:https://townshipofperry.ca/event/kids-dodgeball-league-2-2025-02-25/
CATEGORIES:Events
END:VEVENT
BEGIN:VEVENT
DTSTART;TZID=America/Toronto:20250227T110000
DTEND;TZID=America/Toronto:20250227T113000
DTSTAMP:20260421T162337
CREATED:20250122T144252Z
LAST-MODIFIED:20250122T144252Z
UID:9367-1740654000-1740655800@townshipofperry.ca
SUMMARY:StoryTime @ Library
DESCRIPTION:StoryTime @ Library \nEvery Tuesday & Thursday at 11AM \n 
URL:https://townshipofperry.ca/event/storytime-library-2025-02-27/
CATEGORIES:Events
ATTACH;FMTTYPE=image/jpeg:https://townshipofperry.ca/wp-content/uploads/2025/01/2025-01-22-Story-Time-Library.jpg
END:VEVENT
BEGIN:VEVENT
DTSTART;TZID=America/Toronto:20250227T130000
DTEND;TZID=America/Toronto:20250227T140000
DTSTAMP:20260421T162337
CREATED:20250122T143644Z
LAST-MODIFIED:20250122T143644Z
UID:9357-1740661200-1740664800@townshipofperry.ca
SUMMARY:Book Club @ Library
DESCRIPTION:Book Club @ Library \n705-636-5454
URL:https://townshipofperry.ca/event/book-club-library/
CATEGORIES:Events
ATTACH;FMTTYPE=image/jpeg:https://townshipofperry.ca/wp-content/uploads/2024/01/book-club.jpg
END:VEVENT
BEGIN:VEVENT
DTSTART;TZID=America/Toronto:20250227T190000
DTEND;TZID=America/Toronto:20250227T200000
DTSTAMP:20260421T162337
CREATED:20250107T151202Z
LAST-MODIFIED:20250107T151202Z
UID:9205-1740682800-1740686400@townshipofperry.ca
SUMMARY:Adult Dodgeball League
DESCRIPTION:Adult Dodgeball League – 7PM \nEvery Thursday\, until March 6. Hosted in the Gym at Evergreen Heights Education Centre. \nFor more information\, contact the Municipal Office at 705-636-5941.
URL:https://townshipofperry.ca/event/adult-dodgeball-league-2-2025-02-27/
CATEGORIES:Events
ATTACH;FMTTYPE=image/png:https://townshipofperry.ca/wp-content/uploads/2025/01/2025-01-07-Adult-Dodge-Update-Poster.png
END:VEVENT
BEGIN:VEVENT
DTSTART;TZID=America/Toronto:20250228T190000
DTEND;TZID=America/Toronto:20250228T200000
DTSTAMP:20260421T162337
CREATED:20250122T143753Z
LAST-MODIFIED:20250122T143753Z
UID:9359-1740769200-1740772800@townshipofperry.ca
SUMMARY:Adult Craft Night @ Library
DESCRIPTION:Adult Craft Night @ Library \n705-636-5454
URL:https://townshipofperry.ca/event/adult-craft-night-library-3/
CATEGORIES:Events
ATTACH;FMTTYPE=image/jpeg:https://townshipofperry.ca/wp-content/uploads/2024/01/crafts.jpg
END:VEVENT
END:VCALENDAR