BEGIN:VCALENDAR
VERSION:2.0
PRODID:-//The Township of Perry - ECPv6.15.18//NONSGML v1.0//EN
CALSCALE:GREGORIAN
METHOD:PUBLISH
X-WR-CALNAME:The Township of Perry
X-ORIGINAL-URL:https://townshipofperry.ca
X-WR-CALDESC:Events for The Township of Perry
REFRESH-INTERVAL;VALUE=DURATION:PT1H
X-Robots-Tag:noindex
X-PUBLISHED-TTL:PT1H
BEGIN:VTIMEZONE
TZID:America/Toronto
BEGIN:DAYLIGHT
TZOFFSETFROM:-0500
TZOFFSETTO:-0400
TZNAME:EDT
DTSTART:20220313T070000
END:DAYLIGHT
BEGIN:STANDARD
TZOFFSETFROM:-0400
TZOFFSETTO:-0500
TZNAME:EST
DTSTART:20221106T060000
END:STANDARD
BEGIN:DAYLIGHT
TZOFFSETFROM:-0500
TZOFFSETTO:-0400
TZNAME:EDT
DTSTART:20230312T070000
END:DAYLIGHT
BEGIN:STANDARD
TZOFFSETFROM:-0400
TZOFFSETTO:-0500
TZNAME:EST
DTSTART:20231105T060000
END:STANDARD
BEGIN:DAYLIGHT
TZOFFSETFROM:-0500
TZOFFSETTO:-0400
TZNAME:EDT
DTSTART:20240310T070000
END:DAYLIGHT
BEGIN:STANDARD
TZOFFSETFROM:-0400
TZOFFSETTO:-0500
TZNAME:EST
DTSTART:20241103T060000
END:STANDARD
END:VTIMEZONE
BEGIN:VEVENT
DTSTART;VALUE=DATE:20230810
DTEND;VALUE=DATE:20230811
DTSTAMP:20260423T152752
CREATED:20230803T183254Z
LAST-MODIFIED:20230803T183322Z
UID:6453-1691625600-1691711999@townshipofperry.ca
SUMMARY:Municipal Office Closed for Staff Event
DESCRIPTION:Please be advised that the Municipal Office is closed on Thursday August 10\, 2023 for a staff event. We apologize for any inconvenience.
URL:https://townshipofperry.ca/event/municipal-office-closed-for-staff-event/
CATEGORIES:Events,Meetings
ATTACH;FMTTYPE=image/jpeg:https://townshipofperry.ca/wp-content/uploads/2022/07/2020-05-22-Perry-Public_Notice-e1658756234566.jpg
END:VEVENT
BEGIN:VEVENT
DTSTART;VALUE=DATE:20230807
DTEND;VALUE=DATE:20230808
DTSTAMP:20260423T152752
CREATED:20230725T171611Z
LAST-MODIFIED:20230725T171611Z
UID:6424-1691366400-1691452799@townshipofperry.ca
SUMMARY:Civic Holiday - Municipal Office Closed
DESCRIPTION:The Municipal Office will be CLOSED on Monday August 7 for the civic holiday. The Transfer Station will be open 8am – 4 pm.
URL:https://townshipofperry.ca/event/civic-holiday-municipal-office-closed/
CATEGORIES:Events,Meetings
ATTACH;FMTTYPE=image/jpeg:https://townshipofperry.ca/wp-content/uploads/2022/05/Office-Closed.jpg
END:VEVENT
BEGIN:VEVENT
DTSTART;VALUE=DATE:20230805
DTEND;VALUE=DATE:20230807
DTSTAMP:20260423T152752
CREATED:20230717T113215Z
LAST-MODIFIED:20230717T113215Z
UID:6371-1691193600-1691366399@townshipofperry.ca
SUMMARY:Kearney Regatta
DESCRIPTION:The Kearney Regatta is happening on Saturday August 5 and Sunday August 6\, 2023. Fireworks Display at dusk on Sunday. For more information\, click the link below. \nLink For More Information
URL:https://townshipofperry.ca/event/kearney-regatta/
CATEGORIES:Events
END:VEVENT
BEGIN:VEVENT
DTSTART;TZID=America/Toronto:20230802T190000
DTEND;TZID=America/Toronto:20230802T210000
DTSTAMP:20260423T152752
CREATED:20230411T153122Z
LAST-MODIFIED:20230411T153122Z
UID:6031-1691002800-1691010000@townshipofperry.ca
SUMMARY:Council Meeting @ 7 p.m.
DESCRIPTION:Council Meeting @ 7 p.m.
URL:https://townshipofperry.ca/event/council-meeting-7-p-m-29/
CATEGORIES:Meetings
ATTACH;FMTTYPE=image/jpeg:https://townshipofperry.ca/wp-content/uploads/2022/05/TwpPerryLogo-e1652713783977.jpg
END:VEVENT
BEGIN:VEVENT
DTSTART;TZID=America/Toronto:20230729T100000
DTEND;TZID=America/Toronto:20230729T150000
DTSTAMP:20260423T152752
CREATED:20230717T113524Z
LAST-MODIFIED:20230717T113524Z
UID:6374-1690624800-1690642800@townshipofperry.ca
SUMMARY:Car Show - Kearney Legion Branch 276
DESCRIPTION:Stop by the Kearney Legion Branch 276 for a Classic Car Show on Saturday July 29 from 10 a.m. to 3 p.m. \nFor more information\, click here.
URL:https://townshipofperry.ca/event/car-show-kearney-legion-branch-276/
CATEGORIES:Events
END:VEVENT
BEGIN:VEVENT
DTSTART;TZID=America/Toronto:20230722T090000
DTEND;TZID=America/Toronto:20230722T130000
DTSTAMP:20260423T152752
CREATED:20230717T181723Z
LAST-MODIFIED:20230717T181723Z
UID:6411-1690016400-1690030800@townshipofperry.ca
SUMMARY:Softball Tournament 2023
DESCRIPTION:The youth Almaguin Softball League is hosting their softball tournament this weekend on Saturday\, July 22\, 2023 at Knight Brothers Park. \nCome out and cheer on the Perry Township Roughnecks!! \nTournament starts at 9:00am. \nPOSTER
URL:https://townshipofperry.ca/event/softball-tournament-2023/
CATEGORIES:Events
END:VEVENT
BEGIN:VEVENT
DTSTART;TZID=America/Toronto:20230719T080000
DTEND;TZID=America/Toronto:20230719T170000
DTSTAMP:20260423T152752
CREATED:20230411T135318Z
LAST-MODIFIED:20230411T135318Z
UID:6001-1689753600-1689786000@townshipofperry.ca
SUMMARY:Council Meeting @ 7 p.m. - CANCELLED
DESCRIPTION:Council Meeting @ 7 p.m. – CANCELLED
URL:https://townshipofperry.ca/event/council-meeting-7-p-m-cancelled/
CATEGORIES:Meetings
ATTACH;FMTTYPE=image/jpeg:https://townshipofperry.ca/wp-content/uploads/2022/05/TwpPerryLogo-e1652713783977.jpg
END:VEVENT
BEGIN:VEVENT
DTSTART;TZID=America/Toronto:20230715T210000
DTEND;TZID=America/Toronto:20230715T230000
DTSTAMP:20260423T152752
CREATED:20230710T181859Z
LAST-MODIFIED:20230710T181859Z
UID:6356-1689454800-1689462000@townshipofperry.ca
SUMMARY:Family Outdoor Movie Night
DESCRIPTION:The Township of Perry Recreation & Culture Committee will be hosting a screening of “The Super Mario Bros Movie” on Saturday\, July 15\, 2023 at 1695 Emsdale Road\, Emsdale ON. \nThe movie will start at dusk (approximately 9:00pm). \nThere will be popcorn\, The Banger\, Muskoka Vending\, and Sugar Nuts Mini Donuts. \nFor more information\, please contact the Municipal Office or view the poster below. \nFamily Movie Night 2023 Poster
URL:https://townshipofperry.ca/event/family-outdoor-movie-night/
LOCATION:Township of Perry\, 1695 Emsdale Road\, Emsdale\, ON\, P0A 1J0\, Canada
CATEGORIES:Events
ATTACH;FMTTYPE=image/jpeg:https://townshipofperry.ca/wp-content/uploads/2023/07/Movie-Night.jpg
END:VEVENT
BEGIN:VEVENT
DTSTART;TZID=America/Toronto:20230714T180000
DTEND;TZID=America/Toronto:20230714T190000
DTSTAMP:20260423T152752
CREATED:20230531T160640Z
LAST-MODIFIED:20230531T160640Z
UID:6252-1689357600-1689361200@townshipofperry.ca
SUMMARY:Youth Advisory Club (YAC) at Perry Township Public Library
DESCRIPTION:Youth Advisory Club at the Perry Library \nThe 2nd Friday of Each Month \n6 p.m. \nAges 11-15
URL:https://townshipofperry.ca/event/youth-advisory-club-yac-at-perry-township-public-library-2/
CATEGORIES:Events
ATTACH;FMTTYPE=image/jpeg:https://townshipofperry.ca/wp-content/uploads/2023/05/YACatPerryLibrary.jpg
END:VEVENT
BEGIN:VEVENT
DTSTART;TZID=America/Toronto:20230711T143000
DTEND;TZID=America/Toronto:20230711T163000
DTSTAMP:20260423T152752
CREATED:20230411T135747Z
LAST-MODIFIED:20230411T135747Z
UID:6012-1689085800-1689093000@townshipofperry.ca
SUMMARY:Municipal Office Closed @ 2:30 - Staff Training
DESCRIPTION:Municipal Office Closed 2:30 to 4:30 p.m. – Staff Training/Meeting
URL:https://townshipofperry.ca/event/municipal-office-closed-230-staff-training/
CATEGORIES:Events,Meetings
ATTACH;FMTTYPE=image/jpeg:https://townshipofperry.ca/wp-content/uploads/2022/05/TwpPerryLogo-e1652713783977.jpg
END:VEVENT
BEGIN:VEVENT
DTSTART;TZID=America/Toronto:20230710T190000
DTEND;TZID=America/Toronto:20230710T200000
DTSTAMP:20260423T152752
CREATED:20230411T135645Z
LAST-MODIFIED:20230411T135655Z
UID:6010-1689015600-1689019200@townshipofperry.ca
SUMMARY:Recreation and Culture Committee Meeting @ 7 p.m.
DESCRIPTION:Recreation and Culture Committee Meeting @ 7 p.m.
URL:https://townshipofperry.ca/event/recreation-and-culture-committee-meeting-7-p-m-15/
CATEGORIES:Meetings
ATTACH;FMTTYPE=image/jpeg:https://townshipofperry.ca/wp-content/uploads/2022/05/TwpPerryLogo-e1652713783977.jpg
END:VEVENT
BEGIN:VEVENT
DTSTART;TZID=America/Toronto:20230708T110000
DTEND;TZID=America/Toronto:20230708T150000
DTSTAMP:20260423T152752
CREATED:20230316T142531Z
LAST-MODIFIED:20230316T142531Z
UID:5871-1688814000-1688828400@townshipofperry.ca
SUMMARY:Heritage Day Firefighter Challenge!
DESCRIPTION:SAVE THE DATE!\n\n\n\nHeritage Festival would not be complete without our local firefighters! On Saturday\, July 8\, 2023 at high noon\, 5 fire departments will converge on the fairgrounds to test their skills\, strength\, agility and stamina. Who’s going to win the 2023 Firefighter Challenge and earn their bragging rights?\n\n\n\nThis year\, a custom master trophy is being created for the Firefighter Challenge by Asylum Hotrods. The winning department’s name will be engraved on the master trophy and kept on display at the Watt Century Farmhouse Heritage Centre.\n\n\n\nThis is an attraction you don’t want to miss! View the poster here!
URL:https://townshipofperry.ca/event/heritage-day-firefighter-challenge/
CATEGORIES:Events
END:VEVENT
BEGIN:VEVENT
DTSTART;TZID=America/Toronto:20230708T090000
DTEND;TZID=America/Toronto:20230708T150000
DTSTAMP:20260423T152752
CREATED:20230316T142950Z
LAST-MODIFIED:20230316T142950Z
UID:5875-1688806800-1688828400@townshipofperry.ca
SUMMARY:Household Hazardous Waste Day 2023
DESCRIPTION:Household Hazardous Waste Day is Saturday July 8\, 2023 at the Perry Township Transfer Station. More details to follow or visit our Garbage and Recycling Page.
URL:https://townshipofperry.ca/event/household-hazardous-waste-day-2023/
CATEGORIES:Events
END:VEVENT
BEGIN:VEVENT
DTSTART;TZID=America/Toronto:20230705T190000
DTEND;TZID=America/Toronto:20230705T210000
DTSTAMP:20260423T152752
CREATED:20230411T135241Z
LAST-MODIFIED:20230411T135241Z
UID:5999-1688583600-1688590800@townshipofperry.ca
SUMMARY:Council Meeting @ 7 p.m.
DESCRIPTION:To view the Agenda or Minutes\, visit our Agendas and Minutes Webpage.
URL:https://townshipofperry.ca/event/council-meeting-7-p-m-28/
CATEGORIES:Meetings
ATTACH;FMTTYPE=image/jpeg:https://townshipofperry.ca/wp-content/uploads/2022/05/TwpPerryLogo-e1652713783977.jpg
END:VEVENT
BEGIN:VEVENT
DTSTART;TZID=America/Toronto:20230703T080000
DTEND;TZID=America/Toronto:20230703T170000
DTSTAMP:20260423T152752
CREATED:20230411T135449Z
LAST-MODIFIED:20230411T135449Z
UID:6003-1688371200-1688403600@townshipofperry.ca
SUMMARY:Transfer Station OPEN 8 a.m. to 4 p.m.
DESCRIPTION:Transfer Station OPEN 8 a.m. to 4 p.m.
URL:https://townshipofperry.ca/event/transfer-station-open-8-a-m-to-4-p-m-2/
CATEGORIES:Events,Meetings
ATTACH;FMTTYPE=image/png:https://townshipofperry.ca/wp-content/uploads/2023/04/CanadaDayPendant2021-e1681221273838.png
END:VEVENT
BEGIN:VEVENT
DTSTART;VALUE=DATE:20230703
DTEND;VALUE=DATE:20230704
DTSTAMP:20260423T152752
CREATED:20230619T124435Z
LAST-MODIFIED:20230619T124435Z
UID:6295-1688342400-1688428799@townshipofperry.ca
SUMMARY:Municipal Office CLOSED for Canada Day
DESCRIPTION:The Municipal Office and Information Centre will be CLOSED on Monday July 3 in celebration of Canada Day.
URL:https://townshipofperry.ca/event/municipal-office-closed-for-canada-day/
CATEGORIES:Events,Meetings
END:VEVENT
BEGIN:VEVENT
DTSTART;TZID=America/Toronto:20230701T110000
DTEND;TZID=America/Toronto:20230701T150000
DTSTAMP:20260423T152752
CREATED:20230609T201333Z
LAST-MODIFIED:20230609T202346Z
UID:6274-1688209200-1688223600@townshipofperry.ca
SUMMARY:Canada Day Celebration
DESCRIPTION:Come celebrate Canada Day with the Township of Perry! The Recreation & Culture committee is hosting a fun packed Canada Day celebration that will run from 11am-3pm on Saturday\, July 1\, 2023. \nThere will be live music\, games\, face painting\, food trucks\, and more. \nWear your best Canada Day attire for a chance to win a prize! \nFor more information\, please review the flyer below\, or contact the Municipal Office. \n  \n2023 Canada Day Poster
URL:https://townshipofperry.ca/event/canada-day-perry-township/
CATEGORIES:Events
ATTACH;FMTTYPE=image/png:https://townshipofperry.ca/wp-content/uploads/2023/04/CanadaDayPendant2021-e1681221273838.png
END:VEVENT
BEGIN:VEVENT
DTSTART;VALUE=DATE:20230701
DTEND;VALUE=DATE:20230702
DTSTAMP:20260423T152752
CREATED:20230619T124353Z
LAST-MODIFIED:20230619T124353Z
UID:6293-1688169600-1688255999@townshipofperry.ca
SUMMARY:Transfer Station CLOSED for Canada Day
DESCRIPTION:The Transfer Station will be CLOSED on Saturday July 1 for Canada Day. \nThe Transfer Station will be open on Friday June 30 and Monday July 3.
URL:https://townshipofperry.ca/event/transfer-station-closed-for-canada-day/
CATEGORIES:Events,Meetings
END:VEVENT
BEGIN:VEVENT
DTSTART;VALUE=DATE:20230701
DTEND;VALUE=DATE:20230702
DTSTAMP:20260423T152752
CREATED:20230411T135600Z
LAST-MODIFIED:20230411T135600Z
UID:6008-1688169600-1688255999@townshipofperry.ca
SUMMARY:Transfer Station CLOSED - Saturday July 1
DESCRIPTION:Transfer Station CLOSED – Saturday July 1 \nAll Municipal Buildings CLOSED
URL:https://townshipofperry.ca/event/transfer-station-closed-saturday-july-1/
CATEGORIES:Events,Meetings
ATTACH;FMTTYPE=image/png:https://townshipofperry.ca/wp-content/uploads/2023/04/CanadaDayPendant2021-e1681221273838.png
END:VEVENT
BEGIN:VEVENT
DTSTART;TZID=America/Toronto:20230630T100000
DTEND;TZID=America/Toronto:20230630T160000
DTSTAMP:20260423T152752
CREATED:20230411T140102Z
LAST-MODIFIED:20230411T140102Z
UID:6015-1688119200-1688140800@townshipofperry.ca
SUMMARY:Farmers Market - 10 a.m. to 4 p.m.
DESCRIPTION:Under the Gazebo at the Municipal Office\, 1695 Emsdale Road. Runs rain or shine! \nFor more information or to apply to be a vendor\, contact the Office at 705-636-5941.
URL:https://townshipofperry.ca/event/farmers-market-10-a-m-to-4-p-m/
CATEGORIES:Events
END:VEVENT
BEGIN:VEVENT
DTSTART;TZID=America/Toronto:20230621T190000
DTEND;TZID=America/Toronto:20230621T210000
DTSTAMP:20260423T152752
CREATED:20230411T134933Z
LAST-MODIFIED:20230411T134933Z
UID:5995-1687374000-1687381200@townshipofperry.ca
SUMMARY:Council Meeting @ 7 p.m.
DESCRIPTION:To view the Agenda or Minutes\, visit our Agendas and Minutes Webpage.
URL:https://townshipofperry.ca/event/council-meeting-7-p-m-27/
CATEGORIES:Meetings
ATTACH;FMTTYPE=image/jpeg:https://townshipofperry.ca/wp-content/uploads/2022/05/TwpPerryLogo-e1652713783977.jpg
END:VEVENT
BEGIN:VEVENT
DTSTART;TZID=America/Toronto:20230614T190000
DTEND;TZID=America/Toronto:20230614T203000
DTSTAMP:20260423T152752
CREATED:20230411T135008Z
LAST-MODIFIED:20230411T135008Z
UID:5997-1686769200-1686774600@townshipofperry.ca
SUMMARY:Library Board Meeting @ 7 p.m.
DESCRIPTION:Library Board Meeting @ 7 p.m.
URL:https://townshipofperry.ca/event/library-board-meeting-7-p-m-2/
CATEGORIES:Meetings
ATTACH;FMTTYPE=image/jpeg:https://townshipofperry.ca/wp-content/uploads/2022/05/TwpPerryLogo-e1652713783977.jpg
END:VEVENT
BEGIN:VEVENT
DTSTART;TZID=America/Toronto:20230609T180000
DTEND;TZID=America/Toronto:20230609T190000
DTSTAMP:20260423T152752
CREATED:20230531T160548Z
LAST-MODIFIED:20230531T160548Z
UID:6250-1686333600-1686337200@townshipofperry.ca
SUMMARY:Youth Advisory Club (YAC) at Perry Township Public Library
DESCRIPTION:Youth Advisory Club at the Perry Library \nThe 2nd Friday of Each Month \n6 p.m. \nAges 11-15
URL:https://townshipofperry.ca/event/youth-advisory-club-yac-at-perry-township-public-library/
CATEGORIES:Events
ATTACH;FMTTYPE=image/jpeg:https://townshipofperry.ca/wp-content/uploads/2023/05/YACatPerryLibrary.jpg
END:VEVENT
BEGIN:VEVENT
DTSTART;TZID=America/Toronto:20230607T190000
DTEND;TZID=America/Toronto:20230607T210000
DTSTAMP:20260423T152752
CREATED:20230411T134857Z
LAST-MODIFIED:20230411T134857Z
UID:5993-1686164400-1686171600@townshipofperry.ca
SUMMARY:Council Meeting @ 7 p.m.
DESCRIPTION:To view the Agenda or Minutes\, visit our Agendas and Minutes Webpage.
URL:https://townshipofperry.ca/event/council-meeting-7-p-m-26/
CATEGORIES:Meetings
ATTACH;FMTTYPE=image/jpeg:https://townshipofperry.ca/wp-content/uploads/2022/05/TwpPerryLogo-e1652713783977.jpg
END:VEVENT
BEGIN:VEVENT
DTSTART;TZID=America/Toronto:20230606T110000
DTEND;TZID=America/Toronto:20230606T113000
DTSTAMP:20260423T152752
CREATED:20230531T160430Z
LAST-MODIFIED:20230531T160430Z
UID:6241-1686049200-1686051000@townshipofperry.ca
SUMMARY:Story Time at Perry Township Public Library
DESCRIPTION:Story Time at the Perry Library \nTuesday & Thursday Mornings \n11 a.m.
URL:https://townshipofperry.ca/event/story-time-at-perry-township-public-library-2/
CATEGORIES:Events
ATTACH;FMTTYPE=image/jpeg:https://townshipofperry.ca/wp-content/uploads/2023/05/StoryTimeatPerryLibrary.jpg
END:VEVENT
BEGIN:VEVENT
DTSTART;TZID=America/Toronto:20230605T190000
DTEND;TZID=America/Toronto:20230605T200000
DTSTAMP:20260423T152752
CREATED:20230411T134756Z
LAST-MODIFIED:20230411T134756Z
UID:5991-1685991600-1685995200@townshipofperry.ca
SUMMARY:Recreation and Culture Committee Meeting @ 7 p.m.
DESCRIPTION:Recreation and Culture Committee Meeting @ 7 p.m.
URL:https://townshipofperry.ca/event/recreation-and-culture-committee-meeting-7-p-m-14/
CATEGORIES:Meetings
ATTACH;FMTTYPE=image/jpeg:https://townshipofperry.ca/wp-content/uploads/2022/05/TwpPerryLogo-e1652713783977.jpg
END:VEVENT
BEGIN:VEVENT
DTSTART;TZID=America/Toronto:20230601T110000
DTEND;TZID=America/Toronto:20230601T113000
DTSTAMP:20260423T152752
CREATED:20230531T160339Z
LAST-MODIFIED:20230531T160339Z
UID:6229-1685617200-1685619000@townshipofperry.ca
SUMMARY:Story Time at Perry Township Public Library
DESCRIPTION:Story Time at the Perry Township Public Library \nTuesday & Thursday Mornings \n11 a.m.
URL:https://townshipofperry.ca/event/story-time-at-perry-township-public-library/
CATEGORIES:Events
ATTACH;FMTTYPE=image/jpeg:https://townshipofperry.ca/wp-content/uploads/2023/05/StoryTimeatPerryLibrary.jpg
END:VEVENT
BEGIN:VEVENT
DTSTART;TZID=America/Toronto:20230531T180000
DTEND;TZID=America/Toronto:20230531T183000
DTSTAMP:20260423T152752
CREATED:20230307T160910Z
LAST-MODIFIED:20230307T160910Z
UID:5839-1685556000-1685557800@townshipofperry.ca
SUMMARY:Kearney-Perry Joint Waste Management Committee
DESCRIPTION:Meeting begins at 6 p.m. Contact the Municipal Office for additional information at 705-636-5941.
URL:https://townshipofperry.ca/event/kearney-perry-joint-waste-management-committee/
CATEGORIES:Meetings
ATTACH;FMTTYPE=image/jpeg:https://townshipofperry.ca/wp-content/uploads/2022/05/TwpPerryLogo-e1652713783977.jpg
END:VEVENT
BEGIN:VEVENT
DTSTART;TZID=America/Toronto:20230527T110000
DTEND;TZID=America/Toronto:20230527T140000
DTSTAMP:20260423T152752
CREATED:20230505T154423Z
LAST-MODIFIED:20230505T154435Z
UID:6140-1685185200-1685196000@townshipofperry.ca
SUMMARY:Community Safety Day
DESCRIPTION:Saturday May 27\, 2023 \n11 a.m. to 2 p.m. \nMunicipal Office Gazebo and Parking Lot \n  \nJoin us for a family friendly day to learn more about local services who are prepared to serve you and your family before\, during\, and following an emergency. \nThere will be activities\, food vendors\, prizes\, and more! Stop by one of our Emergency Preparedness Booths – Crime Stoppers\, EMS\, OPP\, CN Rail\, or visit with the Fire Department Sparky and Sawyer the Crisis Response Dog. \nView our poster for more information.
URL:https://townshipofperry.ca/event/community-safety-day/
CATEGORIES:Events
END:VEVENT
BEGIN:VEVENT
DTSTART;TZID=America/Toronto:20230527T090000
DTEND;TZID=America/Toronto:20230527T140000
DTSTAMP:20260423T152752
CREATED:20230331T144515Z
LAST-MODIFIED:20230331T144515Z
UID:5917-1685178000-1685196000@townshipofperry.ca
SUMMARY:Back to Nature Sale
DESCRIPTION:Back to Nature Sale hosted the Emsdale Agricultural Society \nSaturday May 27 from 9 a.m. to 2 p.m. \nNovar Community Centre
URL:https://townshipofperry.ca/event/back-to-nature-sale/
CATEGORIES:Events
END:VEVENT
END:VCALENDAR