BEGIN:VCALENDAR
VERSION:2.0
PRODID:-//The Township of Perry - ECPv6.15.18//NONSGML v1.0//EN
CALSCALE:GREGORIAN
METHOD:PUBLISH
X-WR-CALNAME:The Township of Perry
X-ORIGINAL-URL:https://townshipofperry.ca
X-WR-CALDESC:Events for The Township of Perry
REFRESH-INTERVAL;VALUE=DURATION:PT1H
X-Robots-Tag:noindex
X-PUBLISHED-TTL:PT1H
BEGIN:VTIMEZONE
TZID:America/Toronto
BEGIN:DAYLIGHT
TZOFFSETFROM:-0500
TZOFFSETTO:-0400
TZNAME:EDT
DTSTART:20220313T070000
END:DAYLIGHT
BEGIN:STANDARD
TZOFFSETFROM:-0400
TZOFFSETTO:-0500
TZNAME:EST
DTSTART:20221106T060000
END:STANDARD
BEGIN:DAYLIGHT
TZOFFSETFROM:-0500
TZOFFSETTO:-0400
TZNAME:EDT
DTSTART:20230312T070000
END:DAYLIGHT
BEGIN:STANDARD
TZOFFSETFROM:-0400
TZOFFSETTO:-0500
TZNAME:EST
DTSTART:20231105T060000
END:STANDARD
BEGIN:DAYLIGHT
TZOFFSETFROM:-0500
TZOFFSETTO:-0400
TZNAME:EDT
DTSTART:20240310T070000
END:DAYLIGHT
BEGIN:STANDARD
TZOFFSETFROM:-0400
TZOFFSETTO:-0500
TZNAME:EST
DTSTART:20241103T060000
END:STANDARD
BEGIN:DAYLIGHT
TZOFFSETFROM:-0500
TZOFFSETTO:-0400
TZNAME:EDT
DTSTART:20250309T070000
END:DAYLIGHT
BEGIN:STANDARD
TZOFFSETFROM:-0400
TZOFFSETTO:-0500
TZNAME:EST
DTSTART:20251102T060000
END:STANDARD
END:VTIMEZONE
BEGIN:VEVENT
DTSTART;TZID=America/Toronto:20240125T130000
DTEND;TZID=America/Toronto:20240125T143000
DTSTAMP:20260423T060931
CREATED:20231213T202629Z
LAST-MODIFIED:20231213T202629Z
UID:7042-1706187600-1706193000@townshipofperry.ca
SUMMARY:Library Book Club Meeting @ 1 p.m.
DESCRIPTION:Library Book Club Meeting @ 1 p.m. \n25 Joseph St\, Emsdale\, ON
URL:https://townshipofperry.ca/event/library-book-club-meeting-1-p-m/
CATEGORIES:Events
ATTACH;FMTTYPE=image/jpeg:https://townshipofperry.ca/wp-content/uploads/2023/03/PerryTownshipLibrary-e1678111660835.jpg
END:VEVENT
BEGIN:VEVENT
DTSTART;TZID=America/Toronto:20240117T190000
DTEND;TZID=America/Toronto:20240117T203000
DTSTAMP:20260423T060931
CREATED:20231213T200024Z
LAST-MODIFIED:20231213T200145Z
UID:7020-1705518000-1705523400@townshipofperry.ca
SUMMARY:Council Meeting @ 7 p.m.
DESCRIPTION:Regular Council Meeting at 7 p.m. in Council Chambers\, Municipal Office\, 1695 Emsdale Road\, Emsdale\, ON.
URL:https://townshipofperry.ca/event/council-meeting-7-p-m-34/
CATEGORIES:Meetings
ATTACH;FMTTYPE=image/jpeg:https://townshipofperry.ca/wp-content/uploads/2022/05/TwpPerryLogo-e1652713783977.jpg
END:VEVENT
BEGIN:VEVENT
DTSTART;TZID=America/Toronto:20240115T190000
DTEND;TZID=America/Toronto:20240115T200000
DTSTAMP:20260423T060931
CREATED:20231213T200304Z
LAST-MODIFIED:20240115T195724Z
UID:7024-1705345200-1705348800@townshipofperry.ca
SUMMARY:CANCELLED - Recreation and Culture Committee Meeting @ 7 p.m.
DESCRIPTION:Recreation and Culture Committee Meeting @ 7 p.m.
URL:https://townshipofperry.ca/event/recreation-and-culture-committee-meeting-7-p-m-18/
CATEGORIES:Meetings
ATTACH;FMTTYPE=image/jpeg:https://townshipofperry.ca/wp-content/uploads/2022/05/TwpPerryLogo-e1652713783977.jpg
END:VEVENT
BEGIN:VEVENT
DTSTART;TZID=America/Toronto:20240112T180000
DTEND;TZID=America/Toronto:20240112T190000
DTSTAMP:20260423T060931
CREATED:20231213T201714Z
LAST-MODIFIED:20231213T201714Z
UID:7040-1705082400-1705086000@townshipofperry.ca
SUMMARY:Perry Township Library Youth Advisory Club @ 6 p.m.
DESCRIPTION:Perry Township Library Youth Advisory Club @ 6 p.m. \n25 Joseph St. Contact the Library for more information.
URL:https://townshipofperry.ca/event/perry-township-library-youth-advisory-club-6-p-m/
CATEGORIES:Events
ATTACH;FMTTYPE=image/png:https://townshipofperry.ca/wp-content/uploads/2023/12/Perry-Township-YAC.png
END:VEVENT
BEGIN:VEVENT
DTSTART;TZID=America/Toronto:20240109T143000
DTEND;TZID=America/Toronto:20240109T163000
DTSTAMP:20260423T060931
CREATED:20231213T202938Z
LAST-MODIFIED:20231213T202938Z
UID:7044-1704810600-1704817800@townshipofperry.ca
SUMMARY:Municipal Office Closed @ 2:30 p.m.
DESCRIPTION:The Municipal Office will be CLOSED at 2:30 p.m. for Staff Training/Meeting.
URL:https://townshipofperry.ca/event/municipal-office-closed-230-p-m-7/
CATEGORIES:Events,Meetings
END:VEVENT
BEGIN:VEVENT
DTSTART;TZID=America/Toronto:20240105T190000
DTEND;TZID=America/Toronto:20240105T200000
DTSTAMP:20260423T060931
CREATED:20231213T201242Z
LAST-MODIFIED:20231213T201242Z
UID:7036-1704481200-1704484800@townshipofperry.ca
SUMMARY:Library Trivia Night @ 7p.m.
DESCRIPTION:Perry Township Public Library Trivia Night\, beginning at 7 p.m.\, at 25 Joseph St. Everyone welcome! \nContact the Library at 705-636-5454 for more information and to register your team.
URL:https://townshipofperry.ca/event/library-trivia-night-7p-m/
CATEGORIES:Events
END:VEVENT
BEGIN:VEVENT
DTSTART;VALUE=DATE:20240102
DTEND;VALUE=DATE:20240103
DTSTAMP:20260423T060931
CREATED:20231115T203142Z
LAST-MODIFIED:20231115T203142Z
UID:6906-1704153600-1704239999@townshipofperry.ca
SUMMARY:Transfer Station Open
DESCRIPTION:The Transfer Station returns to regular hours of operation\, Friday to Tuesday 8 a.m. to 4 p.m.\, closed Wednesday and Thursday (excluding holidays).
URL:https://townshipofperry.ca/event/transfer-station-open-3/
CATEGORIES:Events,Meetings
ATTACH;FMTTYPE=image/jpeg:https://townshipofperry.ca/wp-content/uploads/2022/05/TwpPerryLogo-e1652713783977.jpg
END:VEVENT
BEGIN:VEVENT
DTSTART;VALUE=DATE:20240102
DTEND;VALUE=DATE:20240103
DTSTAMP:20260423T060931
CREATED:20231115T203040Z
LAST-MODIFIED:20231115T203040Z
UID:6904-1704153600-1704239999@townshipofperry.ca
SUMMARY:Municipal Office Open
DESCRIPTION:The Municipal Office has returned to regular hours\, Monday to Friday 8:30 a.m. to 4:30 p.m. (excluding holidays).
URL:https://townshipofperry.ca/event/municipal-office-open/
CATEGORIES:Events,Meetings
ATTACH;FMTTYPE=image/jpeg:https://townshipofperry.ca/wp-content/uploads/2022/05/TwpPerryLogo-e1652713783977.jpg
END:VEVENT
BEGIN:VEVENT
DTSTART;VALUE=DATE:20240101
DTEND;VALUE=DATE:20240102
DTSTAMP:20260423T060931
CREATED:20231220T205152Z
LAST-MODIFIED:20231220T205201Z
UID:7111-1704067200-1704153599@townshipofperry.ca
SUMMARY:January is Crime Stoppers Month!
DESCRIPTION:
URL:https://townshipofperry.ca/event/january-is-crime-stoppers-month/
CATEGORIES:Events
ATTACH;FMTTYPE=image/jpeg:https://townshipofperry.ca/wp-content/uploads/2023/12/Crime-Stoppers-Month-January-2024.jpg
END:VEVENT
BEGIN:VEVENT
DTSTART;VALUE=DATE:20240101
DTEND;VALUE=DATE:20240102
DTSTAMP:20260423T060931
CREATED:20231115T202928Z
LAST-MODIFIED:20231115T202928Z
UID:6902-1704067200-1704153599@townshipofperry.ca
SUMMARY:Municipal Office CLOSED
DESCRIPTION:
URL:https://townshipofperry.ca/event/municipal-office-closed-6/
CATEGORIES:Events,Meetings
ATTACH;FMTTYPE=image/jpeg:https://townshipofperry.ca/wp-content/uploads/2022/05/TwpPerryLogo-e1652713783977.jpg
END:VEVENT
BEGIN:VEVENT
DTSTART;VALUE=DATE:20240101
DTEND;VALUE=DATE:20240102
DTSTAMP:20260423T060931
CREATED:20231115T202858Z
LAST-MODIFIED:20231115T202858Z
UID:6900-1704067200-1704153599@townshipofperry.ca
SUMMARY:Transfer Station CLOSED
DESCRIPTION:
URL:https://townshipofperry.ca/event/transfer-station-closed-8/
CATEGORIES:Events,Meetings
ATTACH;FMTTYPE=image/jpeg:https://townshipofperry.ca/wp-content/uploads/2022/05/TwpPerryLogo-e1652713783977.jpg
END:VEVENT
BEGIN:VEVENT
DTSTART;TZID=America/Toronto:20231231T080000
DTEND;TZID=America/Toronto:20231231T120000
DTSTAMP:20260423T060931
CREATED:20231115T202830Z
LAST-MODIFIED:20231115T202830Z
UID:6898-1704009600-1704024000@townshipofperry.ca
SUMMARY:Transfer Station Closes at NOON
DESCRIPTION:Transfer Station Closed at 12 pm NOON\, reopening on Tuesday January 2\, 2024.
URL:https://townshipofperry.ca/event/transfer-station-closes-at-noon/
CATEGORIES:Events,Meetings
ATTACH;FMTTYPE=image/jpeg:https://townshipofperry.ca/wp-content/uploads/2022/05/TwpPerryLogo-e1652713783977.jpg
END:VEVENT
BEGIN:VEVENT
DTSTART;VALUE=DATE:20231231
DTEND;VALUE=DATE:20240103
DTSTAMP:20260423T060931
CREATED:20231129T152536Z
LAST-MODIFIED:20231213T210149Z
UID:6963-1703980800-1704239999@townshipofperry.ca
SUMMARY:Perry Public Library CLOSED
DESCRIPTION:Perry Public Library CLOSED
URL:https://townshipofperry.ca/event/perry-public-library-closed-3/
CATEGORIES:Events,Meetings
ATTACH;FMTTYPE=image/jpeg:https://townshipofperry.ca/wp-content/uploads/2023/03/PerryTownshipLibrary-e1678111660835.jpg
END:VEVENT
BEGIN:VEVENT
DTSTART;TZID=America/Toronto:20231230T100000
DTEND;TZID=America/Toronto:20231230T140000
DTSTAMP:20260423T060931
CREATED:20231213T210247Z
LAST-MODIFIED:20231213T210247Z
UID:7074-1703930400-1703944800@townshipofperry.ca
SUMMARY:Perry Library Open 10 a.m. to 2 p.m.
DESCRIPTION:Perry Library Open 10 a.m. to 2 p.m.
URL:https://townshipofperry.ca/event/perry-library-open-10-a-m-to-2-p-m/
CATEGORIES:Events,Meetings
ATTACH;FMTTYPE=image/jpeg:https://townshipofperry.ca/wp-content/uploads/2023/03/PerryTownshipLibrary-e1678111660835.jpg
END:VEVENT
BEGIN:VEVENT
DTSTART;TZID=America/Toronto:20231230T080000
DTEND;TZID=America/Toronto:20231230T160000
DTSTAMP:20260423T060931
CREATED:20231115T202724Z
LAST-MODIFIED:20231115T202724Z
UID:6896-1703923200-1703952000@townshipofperry.ca
SUMMARY:Transfer Station Open 8am-4pm
DESCRIPTION:
URL:https://townshipofperry.ca/event/transfer-station-open-8am-4pm-9/
CATEGORIES:Events,Meetings
ATTACH;FMTTYPE=image/jpeg:https://townshipofperry.ca/wp-content/uploads/2022/05/TwpPerryLogo-e1652713783977.jpg
END:VEVENT
BEGIN:VEVENT
DTSTART;TZID=America/Toronto:20231229T130000
DTEND;TZID=America/Toronto:20231229T200000
DTSTAMP:20260423T060931
CREATED:20231129T152449Z
LAST-MODIFIED:20231129T152449Z
UID:6961-1703854800-1703880000@townshipofperry.ca
SUMMARY:Perry Township Public Library Open
DESCRIPTION:Perry Township Public Library is open today from 1 p.m. to 8 p.m.
URL:https://townshipofperry.ca/event/perry-township-public-library-open-3/
CATEGORIES:Events,Meetings
END:VEVENT
BEGIN:VEVENT
DTSTART;TZID=America/Toronto:20231229T080000
DTEND;TZID=America/Toronto:20231229T160000
DTSTAMP:20260423T060931
CREATED:20231115T202647Z
LAST-MODIFIED:20231115T202647Z
UID:6894-1703836800-1703865600@townshipofperry.ca
SUMMARY:Transfer Station Open 8am-4pm
DESCRIPTION:
URL:https://townshipofperry.ca/event/transfer-station-open-8am-4pm-8/
CATEGORIES:Events,Meetings
ATTACH;FMTTYPE=image/jpeg:https://townshipofperry.ca/wp-content/uploads/2022/05/TwpPerryLogo-e1652713783977.jpg
END:VEVENT
BEGIN:VEVENT
DTSTART;TZID=America/Toronto:20231228T100000
DTEND;TZID=America/Toronto:20231228T170000
DTSTAMP:20260423T060931
CREATED:20231129T152356Z
LAST-MODIFIED:20231129T152356Z
UID:6959-1703757600-1703782800@townshipofperry.ca
SUMMARY:Perry Township Public Library Open
DESCRIPTION:The Perry Township Public Library is open today from 10 a.m. to 5 p.m.
URL:https://townshipofperry.ca/event/perry-township-public-library-open-2/
CATEGORIES:Events,Meetings
END:VEVENT
BEGIN:VEVENT
DTSTART;TZID=America/Toronto:20231227T100000
DTEND;TZID=America/Toronto:20231227T170000
DTSTAMP:20260423T060931
CREATED:20231129T152259Z
LAST-MODIFIED:20231129T152259Z
UID:6957-1703671200-1703696400@townshipofperry.ca
SUMMARY:Perry Township Public Library Open
DESCRIPTION:Perry Township Public Library is open today from 10 a.m. to 5 p.m.
URL:https://townshipofperry.ca/event/perry-township-public-library-open/
CATEGORIES:Events,Meetings
END:VEVENT
BEGIN:VEVENT
DTSTART;TZID=America/Toronto:20231225T120000
DTEND;TZID=America/Toronto:20231225T150000
DTSTAMP:20260423T060931
CREATED:20231211T211126Z
LAST-MODIFIED:20231211T211126Z
UID:7005-1703505600-1703516400@townshipofperry.ca
SUMMARY:Burk’s Falls Legion Christmas Dinner
DESCRIPTION:Burk’s Falls Legion Christmas Dinner \nMonday December 25\, 2023 at 12 p.m. $10/plate. \nCall 705-382-3137 by Thursday December 21\, 2023 to reserve your spot.
URL:https://townshipofperry.ca/event/burks-falls-legion-christmas-dinner/
CATEGORIES:Events
END:VEVENT
BEGIN:VEVENT
DTSTART;VALUE=DATE:20231225
DTEND;VALUE=DATE:20231230
DTSTAMP:20260423T060931
CREATED:20231115T202503Z
LAST-MODIFIED:20231115T202503Z
UID:6890-1703462400-1703894399@townshipofperry.ca
SUMMARY:Municipal Office Closed
DESCRIPTION:The Municipal Office is CLOSED until January 2\, 2024.
URL:https://townshipofperry.ca/event/municipal-office-closed-5/
CATEGORIES:Events,Meetings
ATTACH;FMTTYPE=image/jpeg:https://townshipofperry.ca/wp-content/uploads/2022/05/TwpPerryLogo-e1652713783977.jpg
END:VEVENT
BEGIN:VEVENT
DTSTART;VALUE=DATE:20231225
DTEND;VALUE=DATE:20231229
DTSTAMP:20260423T060931
CREATED:20231115T202405Z
LAST-MODIFIED:20231115T202602Z
UID:6888-1703462400-1703807999@townshipofperry.ca
SUMMARY:Transfer Station CLOSED
DESCRIPTION:Transfer Station CLOSED December 25-28\, 2023.
URL:https://townshipofperry.ca/event/transfer-station-closed-7/
CATEGORIES:Events,Meetings
ATTACH;FMTTYPE=image/jpeg:https://townshipofperry.ca/wp-content/uploads/2022/05/TwpPerryLogo-e1652713783977.jpg
END:VEVENT
BEGIN:VEVENT
DTSTART;TZID=America/Toronto:20231224T080000
DTEND;TZID=America/Toronto:20231224T120000
DTSTAMP:20260423T060931
CREATED:20231115T202300Z
LAST-MODIFIED:20231115T202300Z
UID:6886-1703404800-1703419200@townshipofperry.ca
SUMMARY:Transfer Station Closes @ Noon
DESCRIPTION:Transfer Station Open 8am to 12 p.m. noon today\, reopening on Friday December 29\, 2023.
URL:https://townshipofperry.ca/event/transfer-station-closes-noon/
CATEGORIES:Events,Meetings
ATTACH;FMTTYPE=image/jpeg:https://townshipofperry.ca/wp-content/uploads/2022/05/TwpPerryLogo-e1652713783977.jpg
END:VEVENT
BEGIN:VEVENT
DTSTART;VALUE=DATE:20231223
DTEND;VALUE=DATE:20231227
DTSTAMP:20260423T060931
CREATED:20231129T152105Z
LAST-MODIFIED:20231129T152155Z
UID:6954-1703289600-1703635199@townshipofperry.ca
SUMMARY:Perry Public Library CLOSED
DESCRIPTION:Perry Public Library CLOSED
URL:https://townshipofperry.ca/event/perry-public-library-closed-2/
CATEGORIES:Events,Meetings
END:VEVENT
BEGIN:VEVENT
DTSTART;VALUE=DATE:20231223
DTEND;VALUE=DATE:20231224
DTSTAMP:20260423T060931
CREATED:20231115T202148Z
LAST-MODIFIED:20231115T202148Z
UID:6884-1703289600-1703375999@townshipofperry.ca
SUMMARY:Transfer Station Open 8am-4pm
DESCRIPTION:
URL:https://townshipofperry.ca/event/transfer-station-open-8am-4pm-7/
CATEGORIES:Events,Meetings
ATTACH;FMTTYPE=image/jpeg:https://townshipofperry.ca/wp-content/uploads/2022/05/TwpPerryLogo-e1652713783977.jpg
END:VEVENT
BEGIN:VEVENT
DTSTART;VALUE=DATE:20231222
DTEND;VALUE=DATE:20231223
DTSTAMP:20260423T060931
CREATED:20231115T202108Z
LAST-MODIFIED:20231115T202108Z
UID:6882-1703203200-1703289599@townshipofperry.ca
SUMMARY:Transfer Station Open 8am-4pm
DESCRIPTION:
URL:https://townshipofperry.ca/event/transfer-station-open-8am-4pm-6/
CATEGORIES:Events,Meetings
ATTACH;FMTTYPE=image/jpeg:https://townshipofperry.ca/wp-content/uploads/2022/05/TwpPerryLogo-e1652713783977.jpg
END:VEVENT
BEGIN:VEVENT
DTSTART;VALUE=DATE:20231222
DTEND;VALUE=DATE:20231223
DTSTAMP:20260423T060931
CREATED:20231115T202021Z
LAST-MODIFIED:20231115T202021Z
UID:6880-1703203200-1703289599@townshipofperry.ca
SUMMARY:Municipal Office Closed @12:30 p.m.
DESCRIPTION:The Municipal Office will be closing at 12:30 p.m. The Municipal Office will be reopening on Tuesday January 2\, 2024.
URL:https://townshipofperry.ca/event/municipal-office-closed-1230-p-m/
CATEGORIES:Events,Meetings
END:VEVENT
BEGIN:VEVENT
DTSTART;TZID=America/Toronto:20231221T170000
DTEND;TZID=America/Toronto:20231221T233000
DTSTAMP:20260423T060931
CREATED:20231218T165112Z
LAST-MODIFIED:20231218T165112Z
UID:7091-1703178000-1703201400@townshipofperry.ca
SUMMARY:Christmas Light Decorating Tour Map - Now Available
DESCRIPTION:  \nCast Your Vote Now! \nThe Perry Township’s Recreation and Culture Committee’s CHRISTMAS LIGHT DECORATING TOUR is now open. Click below for the 2023 Tour Map. \nAnd don’t forget to cast your Vote for the new category “People’s Choice” on the survey below. Voting is open until midnight on Thursday December 21\, 2023. \nSurvey: https://forms.gle/sAScA46zR5ibEB9j6 \nTour Map: https://www.google.com/maps/d/edit?mid=1CiJh2Xfbg6kvQHA5jBsBdhSlUavOQ4I&usp=sharing
URL:https://townshipofperry.ca/event/christmas-light-decorating-tour-map-now-available-4/
CATEGORIES:Events
END:VEVENT
BEGIN:VEVENT
DTSTART;TZID=America/Toronto:20231221T120000
DTEND;TZID=America/Toronto:20231221T150000
DTSTAMP:20260423T060931
CREATED:20231204T204850Z
LAST-MODIFIED:20231204T204850Z
UID:6994-1703160000-1703170800@townshipofperry.ca
SUMMARY:Emsdale Seniors Lunch
DESCRIPTION:Emsdale Seniors Lunch at the Emsdale Community Centre. Lunch starts at 12 noon. \nThe last Thursday of each month\, the East Parry Sound District Social Services provides a Senior’s Lunch for $10. Pre-registration is required. Contact Social Services at 705-724-6028.
URL:https://townshipofperry.ca/event/emsdale-seniors-lunch/
CATEGORIES:Events
END:VEVENT
BEGIN:VEVENT
DTSTART;TZID=America/Toronto:20231220T190000
DTEND;TZID=America/Toronto:20231220T210000
DTSTAMP:20260423T060931
CREATED:20230918T121458Z
LAST-MODIFIED:20230918T121458Z
UID:6579-1703098800-1703106000@townshipofperry.ca
SUMMARY:Council Meeting @ 7 p.m.
DESCRIPTION:Regular Council Meeting of Council at 7 p.m.\, in the Council Chambers at the Municipal Office.
URL:https://townshipofperry.ca/event/council-meeting-7-p-m-33/
CATEGORIES:Meetings
ATTACH;FMTTYPE=image/jpeg:https://townshipofperry.ca/wp-content/uploads/2022/05/TwpPerryLogo-e1652713783977.jpg
END:VEVENT
END:VCALENDAR