BEGIN:VCALENDAR
VERSION:2.0
PRODID:-//The Township of Perry - ECPv6.15.18//NONSGML v1.0//EN
CALSCALE:GREGORIAN
METHOD:PUBLISH
X-WR-CALNAME:The Township of Perry
X-ORIGINAL-URL:https://townshipofperry.ca
X-WR-CALDESC:Events for The Township of Perry
REFRESH-INTERVAL;VALUE=DURATION:PT1H
X-Robots-Tag:noindex
X-PUBLISHED-TTL:PT1H
BEGIN:VTIMEZONE
TZID:America/Toronto
BEGIN:DAYLIGHT
TZOFFSETFROM:-0500
TZOFFSETTO:-0400
TZNAME:EDT
DTSTART:20220313T070000
END:DAYLIGHT
BEGIN:STANDARD
TZOFFSETFROM:-0400
TZOFFSETTO:-0500
TZNAME:EST
DTSTART:20221106T060000
END:STANDARD
BEGIN:DAYLIGHT
TZOFFSETFROM:-0500
TZOFFSETTO:-0400
TZNAME:EDT
DTSTART:20230312T070000
END:DAYLIGHT
BEGIN:STANDARD
TZOFFSETFROM:-0400
TZOFFSETTO:-0500
TZNAME:EST
DTSTART:20231105T060000
END:STANDARD
BEGIN:DAYLIGHT
TZOFFSETFROM:-0500
TZOFFSETTO:-0400
TZNAME:EDT
DTSTART:20240310T070000
END:DAYLIGHT
BEGIN:STANDARD
TZOFFSETFROM:-0400
TZOFFSETTO:-0500
TZNAME:EST
DTSTART:20241103T060000
END:STANDARD
END:VTIMEZONE
BEGIN:VEVENT
DTSTART;TZID=America/Toronto:20231003T120000
DTEND;TZID=America/Toronto:20231003T170000
DTSTAMP:20260423T020655
CREATED:20230919T200508Z
LAST-MODIFIED:20230919T200508Z
UID:6613-1696334400-1696352400@townshipofperry.ca
SUMMARY:Municipal Office\, Transfer Station\, Library CLOSED @ Noon
DESCRIPTION:The Municipal Office\, Transfer Station\, and Library is closed starting at 12 p.m. noon on Tuesday October 3\, 2023 until the end of the day for a staff function. We apologize for any inconvenience.
URL:https://townshipofperry.ca/event/municipal-office-transfer-station-library-closed-noon/
CATEGORIES:Events,Meetings
END:VEVENT
BEGIN:VEVENT
DTSTART;TZID=America/Toronto:20231002T190000
DTEND;TZID=America/Toronto:20231002T203000
DTSTAMP:20260423T020655
CREATED:20230717T115931Z
LAST-MODIFIED:20230717T115931Z
UID:6397-1696273200-1696278600@townshipofperry.ca
SUMMARY:Recreation and Culture Committee Meeting @ 7pm
DESCRIPTION:Recreation and Culture Committee Meeting @ 7pm
URL:https://townshipofperry.ca/event/recreation-and-culture-committee-meeting-7pm-3/
CATEGORIES:Meetings
ATTACH;FMTTYPE=image/jpeg:https://townshipofperry.ca/wp-content/uploads/2022/05/TwpPerryLogo-e1652713783977.jpg
END:VEVENT
BEGIN:VEVENT
DTSTART;VALUE=DATE:20230930
DTEND;VALUE=DATE:20231001
DTSTAMP:20260423T020655
CREATED:20230717T120401Z
LAST-MODIFIED:20230926T125218Z
UID:6403-1696032000-1696118399@townshipofperry.ca
SUMMARY:National Day for Truth and Reconciliation
DESCRIPTION:National Day for Truth and Reconciliation is September 30. The Town of Huntsville is hosting a variety of Truth and Reconciliation Events today\, visit their Facebook Page for more information. \nRemember to wear Orange today. For more information on Orange Shirt Day\, click here.  \nThe Downie Wenjack Fund Website also has a variety of programs\, educational information\, and ways you can learn how to move toward Truth and Reconciliation. \nThe Municipal Office Flags will be lowered today to half-mast in recognition and remembrance.
URL:https://townshipofperry.ca/event/national-day-for-truth-and-reconciliation-2/
CATEGORIES:Events,Meetings
ATTACH;FMTTYPE=image/png:https://townshipofperry.ca/wp-content/uploads/2022/09/national-day-for-truth-and-reconciliation-e1664391891713.png
END:VEVENT
BEGIN:VEVENT
DTSTART;TZID=America/Toronto:20230928T130000
DTEND;TZID=America/Toronto:20230928T220000
DTSTAMP:20260423T020655
CREATED:20230926T124218Z
LAST-MODIFIED:20230926T124218Z
UID:6642-1695906000-1695938400@townshipofperry.ca
SUMMARY:British Home Child Day – September 28
DESCRIPTION:The Township of Perry has proclaimed today\, September 28\, British Home Child Day to honour the memory of the British Home Children and their descendants. REMEMBER to leave your Porch Light on overnight in recognition of these children. \nBetween 1869-1948\, over 100\,000 children of all ages\, some as young as 4\, were emigrated from the United Kingdom to Canada. These children were used as farm workers and domestics. It’s estimated that over 10% of the current population in Canada are descended from these Home Children. \nFor more information on British Home Children\, visit:  https://www.britishhomechildren.com/ or https://www.thecanadianencyclopedia.ca/en/article/immigrant-children
URL:https://townshipofperry.ca/event/british-home-child-day-september-28/
CATEGORIES:Events
END:VEVENT
BEGIN:VEVENT
DTSTART;TZID=America/Toronto:20230928T113000
DTEND;TZID=America/Toronto:20230928T140000
DTSTAMP:20260423T020655
CREATED:20230914T172318Z
LAST-MODIFIED:20230914T172318Z
UID:6563-1695900600-1695909600@townshipofperry.ca
SUMMARY:Emsdale Seniors Luncheon
DESCRIPTION:The East Parry Sound Community Support Services will be hosting monthly senior luncheon’s at the Emsdale Community Centre on the Last Thursday of each month\, starting on Thursday September 28\, 2023.\n\n\n\n\n\nRegistration is required\, so please call to sign up – 705-724-6028 or 1-888-521-0000.\n\n\nVisit their Facebook Page for more information.
URL:https://townshipofperry.ca/event/emsdale-seniors-luncheon/
CATEGORIES:Events
END:VEVENT
BEGIN:VEVENT
DTSTART;TZID=America/Toronto:20230928T070000
DTEND;TZID=America/Toronto:20230928T190000
DTSTAMP:20260423T020655
CREATED:20230925T183146Z
LAST-MODIFIED:20230925T183300Z
UID:6637-1695884400-1695927600@townshipofperry.ca
SUMMARY:Saved By The Beep - Test Your Smoke Alarms Day!
DESCRIPTION:Thursday September 28\, 2023 is Ontario’s first Test Your Smoke Alarm Day! \nLast year\, there were 133 fire fatalities in our province\, the most in 20 years. Smoke Alarms can be lifesavers. They give you the precious time needed to safely escape in case of a fire. \nOn September 28\, join us in taking action – test your smoke alarms! \nFeel free to reach out to Graham Stetler\, Fire Prevention Officer\, to request a home visit today at 705-783-4328. \nFor more information\, visit: http://savedbythebeep.ca/ \n#TestYourSmokeAlarmDay
URL:https://townshipofperry.ca/event/saved-by-the-beep-test-your-smoke-alarms-day/
CATEGORIES:Events
END:VEVENT
BEGIN:VEVENT
DTSTART;VALUE=DATE:20230923
DTEND;VALUE=DATE:20230925
DTSTAMP:20260423T020655
CREATED:20230822T111922Z
LAST-MODIFIED:20230822T111922Z
UID:6493-1695427200-1695599999@townshipofperry.ca
SUMMARY:Huntsville Fall Fair
DESCRIPTION:HUNTSVILLE AND DISTRICT AGRICULTURAL SOCIETY FALL FAIR\n\n\n\n\nSeptember 22\, 23\, 24\, 2023 \n407 Ravenscliffe Rd\, Huntsville\, ON P1H 1L7 \nFor more information\, visit their Facebook Page.
URL:https://townshipofperry.ca/event/huntsville-fall-fair/
CATEGORIES:Events
END:VEVENT
BEGIN:VEVENT
DTSTART;VALUE=DATE:20230921
DTEND;VALUE=DATE:20230922
DTSTAMP:20260423T020655
CREATED:20230914T191249Z
LAST-MODIFIED:20230914T191249Z
UID:6570-1695254400-1695340799@townshipofperry.ca
SUMMARY:Emsdale Community Centre Available for Rentals
DESCRIPTION:Starting Thursday September 21\, the Emsdale Community Centre will be available for public rentals! \nVisit our website or contact the Municipal Office at 705-636-5941 or admin@townshipofperry.ca for rental inquiries.
URL:https://townshipofperry.ca/event/emsdale-community-centre-available-for-rentals/
CATEGORIES:Events,Meetings
ATTACH;FMTTYPE=image/jpeg:https://townshipofperry.ca/wp-content/uploads/2022/07/2020-05-22-Perry-Public_Notice-e1658756234566.jpg
END:VEVENT
BEGIN:VEVENT
DTSTART;TZID=America/Toronto:20230920T190000
DTEND;TZID=America/Toronto:20230920T210000
DTSTAMP:20260423T020656
CREATED:20230717T114759Z
LAST-MODIFIED:20230717T114759Z
UID:6385-1695236400-1695243600@townshipofperry.ca
SUMMARY:Council Meeting @ 7 pm
DESCRIPTION:The Regular Meeting of Council is scheduled for 7 p.m. in Council Chambers.
URL:https://townshipofperry.ca/event/council-meeting-7-pm-2/
CATEGORIES:Meetings
ATTACH;FMTTYPE=image/jpeg:https://townshipofperry.ca/wp-content/uploads/2022/05/TwpPerryLogo-e1652713783977.jpg
END:VEVENT
BEGIN:VEVENT
DTSTART;TZID=America/Toronto:20230916T100000
DTEND;TZID=America/Toronto:20230916T150000
DTSTAMP:20260423T020656
CREATED:20230815T133920Z
LAST-MODIFIED:20230815T133920Z
UID:6473-1694858400-1694876400@townshipofperry.ca
SUMMARY:Burks Falls & District Hunger Walk for Food Bank
DESCRIPTION:The Burk’s Falls and District Food Bank is hosting their annual Hunger Walk on Saturday September 16\, 2023.\n\n\n\nMeet at Stan Darling Park in Burk’s Falls at 10:00 a.m. The event runs rain or shine.\n\n\n\nPledge Sheets are available at the Township of Perry Municipal Office.
URL:https://townshipofperry.ca/event/burks-falls-district-hunger-walk-for-food-bank/
CATEGORIES:Events
END:VEVENT
BEGIN:VEVENT
DTSTART;VALUE=DATE:20230915
DTEND;VALUE=DATE:20230919
DTSTAMP:20260423T020656
CREATED:20230725T174455Z
LAST-MODIFIED:20230725T174455Z
UID:6432-1694736000-1695081599@townshipofperry.ca
SUMMARY:Harvest Festival at Screaming Heads
DESCRIPTION:Friday September 15 to Monday September 18 \nScreaming Heads\, near Burk’s Falls \n  \nHarvest Festival is a four-day electronic music-infused journey through the magical lands of Midlothian Castle\, known to many as the Screaming Heads. \nThe location is 265km north of Toronto and near the village of Burks Falls\, Ontario\, Canada. It’s held on the 2nd weekend after Labour Day each September by alienInFlux Events. \nHarvest 2022 saw the best yet. The new and renewed friendships\, lineup\, circus\, stages\, and a last-minute change of weather were each well received. And attendees donated a record $12K to the Burk’s Falls and District Food Bank. The addition of allowing people to now stay till Monday with an ambient music stage created an entirely new feeling throughout the weekend. And the new pines stage is maybe the best of all our stages. We are proud of the respect people in attendance shared for the event and each other with a Leave No Trace reality and thank all for maintaining and leaving the property beautiful and without litter throughout the entire weekend. \nFor details visit their Website.
URL:https://townshipofperry.ca/event/harvest-festival-at-screaming-heads/
CATEGORIES:Events
ATTACH;FMTTYPE=image/jpeg:https://townshipofperry.ca/wp-content/uploads/2022/06/circledeventoncalendar-e1654092768435.jpg
END:VEVENT
BEGIN:VEVENT
DTSTART;TZID=America/Toronto:20230913T190000
DTEND;TZID=America/Toronto:20230913T200000
DTSTAMP:20260423T020656
CREATED:20230717T114950Z
LAST-MODIFIED:20230717T114950Z
UID:6389-1694631600-1694635200@townshipofperry.ca
SUMMARY:Library Board Meeting @ 7pm
DESCRIPTION:Library Board Meeting @ 7pm
URL:https://townshipofperry.ca/event/library-board-meeting-7pm/
CATEGORIES:Meetings
ATTACH;FMTTYPE=image/jpeg:https://townshipofperry.ca/wp-content/uploads/2022/05/TwpPerryLogo-e1652713783977.jpg
END:VEVENT
BEGIN:VEVENT
DTSTART;TZID=America/Toronto:20230912T143000
DTEND;TZID=America/Toronto:20230912T163000
DTSTAMP:20260423T020656
CREATED:20230912T121815Z
LAST-MODIFIED:20230912T121815Z
UID:6556-1694529000-1694536200@townshipofperry.ca
SUMMARY:Office Closed @ 2:30 p.m. for Staff Meeting
DESCRIPTION:Please be advised that the Municipal Office will be closed at 2:30 p.m. on Tuesday September 12\, 2023 for a staff meeting/training.
URL:https://townshipofperry.ca/event/office-closed-230-p-m-for-staff-meeting/
CATEGORIES:Events,Meetings
ATTACH;FMTTYPE=image/jpeg:https://townshipofperry.ca/wp-content/uploads/2022/05/meeting-image-e1652713379375.jpg
END:VEVENT
BEGIN:VEVENT
DTSTART;TZID=America/Toronto:20230911T190000
DTEND;TZID=America/Toronto:20230911T210000
DTSTAMP:20260423T020656
CREATED:20230717T114853Z
LAST-MODIFIED:20230717T114853Z
UID:6387-1694458800-1694466000@townshipofperry.ca
SUMMARY:Recreation and Culture Committee Meeting @ 7pm
DESCRIPTION:Recreation and Culture Committee Meeting @ 7 pm
URL:https://townshipofperry.ca/event/recreation-and-culture-committee-meeting-7pm-2/
CATEGORIES:Meetings
ATTACH;FMTTYPE=image/jpeg:https://townshipofperry.ca/wp-content/uploads/2022/05/TwpPerryLogo-e1652713783977.jpg
END:VEVENT
BEGIN:VEVENT
DTSTART;TZID=America/Toronto:20230909T190000
DTEND;TZID=America/Toronto:20230909T233000
DTSTAMP:20260423T020656
CREATED:20230828T192306Z
LAST-MODIFIED:20230828T192306Z
UID:6526-1694286000-1694302200@townshipofperry.ca
SUMMARY:Outdoor Family Movie Night - Emsdale
DESCRIPTION:Township of Perry Recreation and Culture Committee presents Family Outdoor Movie Night “Spider-Man\, Across the Spider-Verse”! \nWhere: Emsdale Outdoor Covered Rink\, 25 Joseph Street (Emsdale) \nWhen: Saturday September 9\, 2023 \nTime: Dusk \nBRING a blanket and chair. \nPopcorn\, The Banger\, and Muskoka Vending will be available. \n**This event is Rain or Shine**
URL:https://townshipofperry.ca/event/outdoor-family-movie-night-emsdale/
CATEGORIES:Events
END:VEVENT
BEGIN:VEVENT
DTSTART;TZID=America/Toronto:20230909T070000
DTEND;TZID=America/Toronto:20230909T160000
DTSTAMP:20260423T020656
CREATED:20230829T134114Z
LAST-MODIFIED:20230829T134114Z
UID:6530-1694242800-1694275200@townshipofperry.ca
SUMMARY:26th Emsdale Lions Club Fishing Tournament
DESCRIPTION:Saturday September 09\, 2023.\n\nRegistration/Launch Doe Lake Park Katrine\, ON\n\n7:15AM shotgun start / 3 PM finish.\n\nAwards at the Almaguin Golf Course 4 pm (Refreshments available).\n\nHundred dollars per two-person team one team per boat. Bonus for live release special prizes.\n\n\n\nFor more information don’t hesitate to contact us at:\n705-783-6096\nemsdalelions@gmail.com (attention fishing)\nor visit the Facebook Page
URL:https://townshipofperry.ca/event/26th-emsdale-lions-club-fishing-tournament/
CATEGORIES:Events
END:VEVENT
BEGIN:VEVENT
DTSTART;TZID=America/Toronto:20230906T190000
DTEND;TZID=America/Toronto:20230906T210000
DTSTAMP:20260423T020656
CREATED:20230717T114712Z
LAST-MODIFIED:20230717T114712Z
UID:6383-1694026800-1694034000@townshipofperry.ca
SUMMARY:Council Meeting @ 7 pm
DESCRIPTION:The Regular Meeting of Council is scheduled for 7 p.m. in Council Chambers.
URL:https://townshipofperry.ca/event/council-meeting-7-pm/
CATEGORIES:Meetings
ATTACH;FMTTYPE=image/jpeg:https://townshipofperry.ca/wp-content/uploads/2022/05/TwpPerryLogo-e1652713783977.jpg
END:VEVENT
BEGIN:VEVENT
DTSTART;VALUE=DATE:20230904
DTEND;VALUE=DATE:20230905
DTSTAMP:20260423T020656
CREATED:20230822T112356Z
LAST-MODIFIED:20230822T112356Z
UID:6495-1693785600-1693871999@townshipofperry.ca
SUMMARY:Armour Ryerson Burks Falls Fall Fair
DESCRIPTION:Come to the Armour Ryerson Burk’s Falls Agricultural Society Annual Fall Fair on Monday September 4\, 2023. \n220 Centre Street \, Burks Falls\, ON\, Canada\, Ontario \nFor more information\, visit their Facebook Page.
URL:https://townshipofperry.ca/event/armour-ryerson-burks-falls-fall-fair/
CATEGORIES:Events
END:VEVENT
BEGIN:VEVENT
DTSTART;VALUE=DATE:20230904
DTEND;VALUE=DATE:20230905
DTSTAMP:20260423T020656
CREATED:20230717T115640Z
LAST-MODIFIED:20230717T115640Z
UID:6391-1693785600-1693871999@townshipofperry.ca
SUMMARY:Office Closed - Labour Day
DESCRIPTION:The Municipal Office will be CLOSED on Monday September 4\, 2023 for the Labour Day Holiday. The Transfer Station will be OPEN from 8 a.m. to 4 p.m.
URL:https://townshipofperry.ca/event/office-closed-labour-day/
CATEGORIES:Events,Meetings
ATTACH;FMTTYPE=image/jpeg:https://townshipofperry.ca/wp-content/uploads/2022/07/2020-05-22-Perry-Public_Notice-e1658756234566.jpg
END:VEVENT
BEGIN:VEVENT
DTSTART;TZID=America/Toronto:20230902T200000
DTEND;TZID=America/Toronto:20230902T220000
DTSTAMP:20260423T020656
CREATED:20230828T171705Z
LAST-MODIFIED:20230828T171705Z
UID:6522-1693684800-1693692000@townshipofperry.ca
SUMMARY:Fireworks in Burk's Falls
DESCRIPTION:Canada Day (rescheduled) Fireworks in Burk’s Falls \nSaturday September 2\, 2023 at dusk \nKnight Brothers Park – 140 Dimsdale Street \nFor more information\, visit their Facebook Page. \n 
URL:https://townshipofperry.ca/event/fireworks-in-burks-falls/
CATEGORIES:Events
END:VEVENT
BEGIN:VEVENT
DTSTART;TZID=America/Toronto:20230826T093000
DTEND;TZID=America/Toronto:20230826T160000
DTSTAMP:20260423T020656
CREATED:20230717T114208Z
LAST-MODIFIED:20230717T114208Z
UID:6379-1693042200-1693065600@townshipofperry.ca
SUMMARY:Emsdale Agricultural Soceity Fall Fair
DESCRIPTION:Emsdale Agricultural Soceity’s Annual Fall Fair \nWhen: Saturday August 26 \nWhere: Emsdale Fair Grounds\, 25 Joseph St \nWhen: 10 am – 3pm \nFor more information\, visit their Facebook Page. 
URL:https://townshipofperry.ca/event/emsdale-agricultural-soceity-fall-fair/
CATEGORIES:Events
END:VEVENT
BEGIN:VEVENT
DTSTART;TZID=America/Toronto:20230823T180000
DTEND;TZID=America/Toronto:20230823T183000
DTSTAMP:20260423T020656
CREATED:20230307T161008Z
LAST-MODIFIED:20230307T161008Z
UID:5841-1692813600-1692815400@townshipofperry.ca
SUMMARY:Kearney-Perry Joint Waste Management Committee
DESCRIPTION:Meeting begins at 6 p.m. Contact the Municipal Office for more information at 705-636-5941.
URL:https://townshipofperry.ca/event/kearney-perry-joint-waste-management-committee-2/
CATEGORIES:Meetings
ATTACH;FMTTYPE=image/jpeg:https://townshipofperry.ca/wp-content/uploads/2022/05/TwpPerryLogo-e1652713783977.jpg
END:VEVENT
BEGIN:VEVENT
DTSTART;TZID=America/Toronto:20230816T190000
DTEND;TZID=America/Toronto:20230816T210000
DTSTAMP:20260423T020656
CREATED:20230411T153246Z
LAST-MODIFIED:20230411T153246Z
UID:6033-1692212400-1692219600@townshipofperry.ca
SUMMARY:Council Meeting @ 7 p.m. - CANCELLED
DESCRIPTION:Council Meeting @ 7 p.m. – CANCELLED
URL:https://townshipofperry.ca/event/council-meeting-7-p-m-cancelled-2/
CATEGORIES:Meetings
ATTACH;FMTTYPE=image/jpeg:https://townshipofperry.ca/wp-content/uploads/2022/05/TwpPerryLogo-e1652713783977.jpg
END:VEVENT
BEGIN:VEVENT
DTSTART;TZID=America/Toronto:20230816T173000
DTEND;TZID=America/Toronto:20230816T193000
DTSTAMP:20260423T020656
CREATED:20230717T112702Z
LAST-MODIFIED:20230717T112702Z
UID:6368-1692207000-1692214200@townshipofperry.ca
SUMMARY:Grand Opening of Emsdale Community Centre/Library
DESCRIPTION:Grand Opening of Emsdale Community Centre & Library!\n\n\n\nJoin us for the Grand Opening and Ribbon Cutting Ceremony for our new Community Centre and Library in Emsdale. Wednesday August 16\, 2023 from 5:30 p.m. to 7:30 p.m.\n\n\nTour the new facility and have a bite to eat at the BBQ. Cake and light refreshments will also be served.\n\n\n\nWe hope to see you there!
URL:https://townshipofperry.ca/event/grand-opening-of-emsdale-community-centre-library/
CATEGORIES:Events,Meetings
END:VEVENT
BEGIN:VEVENT
DTSTART;TZID=America/Toronto:20230814T190000
DTEND;TZID=America/Toronto:20230814T210000
DTSTAMP:20260423T020656
CREATED:20230717T114613Z
LAST-MODIFIED:20230717T114613Z
UID:6381-1692039600-1692046800@townshipofperry.ca
SUMMARY:Recreation and Culture Committee Meeting @ 7 pm
DESCRIPTION:Recreation and Culture Committee Meeting @ 7 pm
URL:https://townshipofperry.ca/event/recreation-and-culture-committee-meeting-7-pm/
CATEGORIES:Meetings
ATTACH;FMTTYPE=image/jpeg:https://townshipofperry.ca/wp-content/uploads/2022/05/TwpPerryLogo-e1652713783977.jpg
END:VEVENT
BEGIN:VEVENT
DTSTART;VALUE=DATE:20230812
DTEND;VALUE=DATE:20230813
DTSTAMP:20260423T020656
CREATED:20230725T174200Z
LAST-MODIFIED:20230725T174200Z
UID:6430-1691798400-1691884799@townshipofperry.ca
SUMMARY:Sundridge Sunflower Festival
DESCRIPTION:Saturday August 12\, 2023 \nThe Sundridge Sunflower Festival is the largest annual summer festival in the Almaguin area.  Located downtown on the shores of Lake Bernard in beautiful Sundridge\, Ontario this festival features live music\, family activities\, great food and a street market with close to 200 vendors. \nEach year we have grown in size and attendance with the 2022 Sunflower Festival being our largest yet while having an attendance of over 7\,000 people. That means more than 7 times the population of Sundridge came out to enjoy the Sunflower Festival! \nFor all the Sundridge Sunflower Festival details for 2023 stay tuned to this website and LIKE US on Facebook for continual updates about the festival. \nPlease note that vendor registration is now closed as we have reached capacity. Vendors may register for the wait list and we will contact you if a suitable space becomes available for your product and/or services.
URL:https://townshipofperry.ca/event/sundridge-sunflower-festival/
CATEGORIES:Events
ATTACH;FMTTYPE=image/jpeg:https://townshipofperry.ca/wp-content/uploads/2022/06/circledeventoncalendar-e1654092768435.jpg
END:VEVENT
BEGIN:VEVENT
DTSTART;VALUE=DATE:20230810
DTEND;VALUE=DATE:20230811
DTSTAMP:20260423T020656
CREATED:20230803T183254Z
LAST-MODIFIED:20230803T183322Z
UID:6453-1691625600-1691711999@townshipofperry.ca
SUMMARY:Municipal Office Closed for Staff Event
DESCRIPTION:Please be advised that the Municipal Office is closed on Thursday August 10\, 2023 for a staff event. We apologize for any inconvenience.
URL:https://townshipofperry.ca/event/municipal-office-closed-for-staff-event/
CATEGORIES:Events,Meetings
ATTACH;FMTTYPE=image/jpeg:https://townshipofperry.ca/wp-content/uploads/2022/07/2020-05-22-Perry-Public_Notice-e1658756234566.jpg
END:VEVENT
BEGIN:VEVENT
DTSTART;VALUE=DATE:20230807
DTEND;VALUE=DATE:20230808
DTSTAMP:20260423T020656
CREATED:20230725T171611Z
LAST-MODIFIED:20230725T171611Z
UID:6424-1691366400-1691452799@townshipofperry.ca
SUMMARY:Civic Holiday - Municipal Office Closed
DESCRIPTION:The Municipal Office will be CLOSED on Monday August 7 for the civic holiday. The Transfer Station will be open 8am – 4 pm.
URL:https://townshipofperry.ca/event/civic-holiday-municipal-office-closed/
CATEGORIES:Events,Meetings
ATTACH;FMTTYPE=image/jpeg:https://townshipofperry.ca/wp-content/uploads/2022/05/Office-Closed.jpg
END:VEVENT
BEGIN:VEVENT
DTSTART;VALUE=DATE:20230805
DTEND;VALUE=DATE:20230807
DTSTAMP:20260423T020656
CREATED:20230717T113215Z
LAST-MODIFIED:20230717T113215Z
UID:6371-1691193600-1691366399@townshipofperry.ca
SUMMARY:Kearney Regatta
DESCRIPTION:The Kearney Regatta is happening on Saturday August 5 and Sunday August 6\, 2023. Fireworks Display at dusk on Sunday. For more information\, click the link below. \nLink For More Information
URL:https://townshipofperry.ca/event/kearney-regatta/
CATEGORIES:Events
END:VEVENT
BEGIN:VEVENT
DTSTART;TZID=America/Toronto:20230802T190000
DTEND;TZID=America/Toronto:20230802T210000
DTSTAMP:20260423T020656
CREATED:20230411T153122Z
LAST-MODIFIED:20230411T153122Z
UID:6031-1691002800-1691010000@townshipofperry.ca
SUMMARY:Council Meeting @ 7 p.m.
DESCRIPTION:Council Meeting @ 7 p.m.
URL:https://townshipofperry.ca/event/council-meeting-7-p-m-29/
CATEGORIES:Meetings
ATTACH;FMTTYPE=image/jpeg:https://townshipofperry.ca/wp-content/uploads/2022/05/TwpPerryLogo-e1652713783977.jpg
END:VEVENT
END:VCALENDAR