BEGIN:VCALENDAR
VERSION:2.0
PRODID:-//The Township of Perry - ECPv6.15.18//NONSGML v1.0//EN
CALSCALE:GREGORIAN
METHOD:PUBLISH
X-WR-CALNAME:The Township of Perry
X-ORIGINAL-URL:https://townshipofperry.ca
X-WR-CALDESC:Events for The Township of Perry
REFRESH-INTERVAL;VALUE=DURATION:PT1H
X-Robots-Tag:noindex
X-PUBLISHED-TTL:PT1H
BEGIN:VTIMEZONE
TZID:America/Toronto
BEGIN:DAYLIGHT
TZOFFSETFROM:-0500
TZOFFSETTO:-0400
TZNAME:EDT
DTSTART:20220313T070000
END:DAYLIGHT
BEGIN:STANDARD
TZOFFSETFROM:-0400
TZOFFSETTO:-0500
TZNAME:EST
DTSTART:20221106T060000
END:STANDARD
BEGIN:DAYLIGHT
TZOFFSETFROM:-0500
TZOFFSETTO:-0400
TZNAME:EDT
DTSTART:20230312T070000
END:DAYLIGHT
BEGIN:STANDARD
TZOFFSETFROM:-0400
TZOFFSETTO:-0500
TZNAME:EST
DTSTART:20231105T060000
END:STANDARD
BEGIN:DAYLIGHT
TZOFFSETFROM:-0500
TZOFFSETTO:-0400
TZNAME:EDT
DTSTART:20240310T070000
END:DAYLIGHT
BEGIN:STANDARD
TZOFFSETFROM:-0400
TZOFFSETTO:-0500
TZNAME:EST
DTSTART:20241103T060000
END:STANDARD
END:VTIMEZONE
BEGIN:VEVENT
DTSTART;VALUE=DATE:20231101
DTEND;VALUE=DATE:20231108
DTSTAMP:20260423T043132
CREATED:20231016T152306Z
LAST-MODIFIED:20231016T152306Z
UID:6759-1698796800-1699401599@townshipofperry.ca
SUMMARY:Carbon Monoxide (CO) Awareness Week
DESCRIPTION:Each year\, CO Awareness Week runs November 1 to November 7. \nVisit CO Awareness Week Website for more information and tips to keep you and your family safe.
URL:https://townshipofperry.ca/event/carbon-monoxide-co-awareness-week/
CATEGORIES:Events
ATTACH;FMTTYPE=image/png:https://townshipofperry.ca/wp-content/uploads/2022/11/Screen-Shot-2019-11-04-at-4.44.30-AM-e1667314789162.png
END:VEVENT
BEGIN:VEVENT
DTSTART;TZID=America/Toronto:20231031T163000
DTEND;TZID=America/Toronto:20231031T193000
DTSTAMP:20260423T043132
CREATED:20231016T150559Z
LAST-MODIFIED:20231016T150609Z
UID:6744-1698769800-1698780600@townshipofperry.ca
SUMMARY:Halloween for Hunger
DESCRIPTION:The Emsdale Lions Club\, Emsdale Agricultural Society\, and Township of Perry Recreation and Culture Committee present “Halloween for Hunger” \nTuesday October 31\, 2023 from 5 p.m. to 7 p.m. at two locations! \nEmsdale Community Centre (25 Joseph St) \nNovar Community Centre (25 Laurie St) \nRemember to bring a non-perishable item for the local food bank!
URL:https://townshipofperry.ca/event/halloween-for-hunger/
CATEGORIES:Events
END:VEVENT
BEGIN:VEVENT
DTSTART;TZID=America/Toronto:20231028T190000
DTEND;TZID=America/Toronto:20231028T210000
DTSTAMP:20260423T043132
CREATED:20231005T145802Z
LAST-MODIFIED:20231023T130810Z
UID:6672-1698519600-1698526800@townshipofperry.ca
SUMMARY:Junior Halloween Costume Dance Party (for Grade’s 6-8)
DESCRIPTION:The Township of Perry Recreation and Culture Committee is inviting students in grades 6-8 to a Halloween Dance at the Emsdale Community Centre on October 28 from 7-9pm. \nThere is a $2.00 entry fee\, and there will be pizza and treats\, a costume contest\, games & more! \nFor more information\, please contact the Municipal Office.
URL:https://townshipofperry.ca/event/junior-halloween-costume-dance-party-for-grades-6-8/
LOCATION:Emsdale Community Centre\, 25 Joseph Street\, Emsdale\, Ontario\, P0A 1J0\, Canada
CATEGORIES:Events
END:VEVENT
BEGIN:VEVENT
DTSTART;TZID=America/Toronto:20231026T120000
DTEND;TZID=America/Toronto:20231026T140000
DTSTAMP:20260423T043132
CREATED:20231011T132359Z
LAST-MODIFIED:20231011T132359Z
UID:6710-1698321600-1698328800@townshipofperry.ca
SUMMARY:Seniors’ Luncheons (65+) at Emsdale Community Centre
DESCRIPTION:Seniors’ Luncheons (65+) at Emsdale Community Centre \nEast Parry Sound Community Support Services is once again hosting Seniors’ Luncheons at the new Emsdale Community Centre. \nRSVP at least one week in advance to 705-724-6028 or 1-888-521-0000. Cost is $10 per person (cash only).
URL:https://townshipofperry.ca/event/seniors-luncheons-65-at-emsdale-community-centre/
CATEGORIES:Events
ATTACH;FMTTYPE=image/jpeg:https://townshipofperry.ca/wp-content/uploads/2023/10/Seniors-Dinners-2023.jpg
END:VEVENT
BEGIN:VEVENT
DTSTART;TZID=America/Toronto:20231024T190000
DTEND;TZID=America/Toronto:20231024T200000
DTSTAMP:20260423T043132
CREATED:20231023T113557Z
LAST-MODIFIED:20231023T113737Z
UID:6793-1698174000-1698177600@townshipofperry.ca
SUMMARY:Special Council Meeting (Firefighter-Council Meeting) @ 7pm
DESCRIPTION:Location: Perry Township Fire Hall\, Old Government Road\, Emsdale
URL:https://townshipofperry.ca/event/special-council-meeting-firefighter-council-meeting-7pm/
CATEGORIES:Meetings
ATTACH;FMTTYPE=image/jpeg:https://townshipofperry.ca/wp-content/uploads/2022/05/TwpPerryLogo-e1652713783977.jpg
END:VEVENT
BEGIN:VEVENT
DTSTART;VALUE=DATE:20231021
DTEND;VALUE=DATE:20231022
DTSTAMP:20260423T043132
CREATED:20230918T123113Z
LAST-MODIFIED:20230918T123113Z
UID:6594-1697846400-1697932799@townshipofperry.ca
SUMMARY:Oktoberfest Beer Festival in Sprucedale
DESCRIPTION:Oktoberfest Beer Festival in Sprucedale \nSaturday October 21\, 2023 \nTickets $25 in advance only. Contact the McMurrich-Monteith Municipal Office for additional information or ticket information at 705-385-7901.
URL:https://townshipofperry.ca/event/oktoberfest-beer-festival-in-sprucedale/
CATEGORIES:Events
END:VEVENT
BEGIN:VEVENT
DTSTART;TZID=America/Toronto:20231018T190000
DTEND;TZID=America/Toronto:20231018T210000
DTSTAMP:20260423T043132
CREATED:20230717T115841Z
LAST-MODIFIED:20230717T115841Z
UID:6395-1697655600-1697662800@townshipofperry.ca
SUMMARY:Council Meeting @ 7pm
DESCRIPTION:The Regular Meeting of Council will occur at 7 p.m. in Council Chambers.
URL:https://townshipofperry.ca/event/council-meeting-7pm-4/
CATEGORIES:Meetings
ATTACH;FMTTYPE=image/jpeg:https://townshipofperry.ca/wp-content/uploads/2022/05/TwpPerryLogo-e1652713783977.jpg
END:VEVENT
BEGIN:VEVENT
DTSTART;TZID=America/Toronto:20231016T160000
DTEND;TZID=America/Toronto:20231016T180000
DTSTAMP:20260423T043132
CREATED:20231011T132033Z
LAST-MODIFIED:20231011T132033Z
UID:6699-1697472000-1697479200@townshipofperry.ca
SUMMARY:Good News Club Novar aka Novar STEM Club
DESCRIPTION:Good News Club aka Novar STEM Club at the Novar Community Centre \nMondays from 4pm – 6 pm (except holidays and snow days). \nFor more information\, contact Wanda Hunt at 705-789-5554 or wandahunt100@gmail.com \nPOSTER
URL:https://townshipofperry.ca/event/good-news-club-novar-aka-novar-stem-club/
CATEGORIES:Events
END:VEVENT
BEGIN:VEVENT
DTSTART;VALUE=DATE:20231016
DTEND;VALUE=DATE:20231023
DTSTAMP:20260423T043132
CREATED:20231012T200119Z
LAST-MODIFIED:20231012T200119Z
UID:6734-1697414400-1698019199@townshipofperry.ca
SUMMARY:Waste Reduction Week 2023
DESCRIPTION:Visit our Facebook Page for tips and tricks on how to reduce your waste – or visit Circular Economy Month website.
URL:https://townshipofperry.ca/event/waste-reduction-week-2023/
CATEGORIES:Events
ATTACH;FMTTYPE=image/png:https://townshipofperry.ca/wp-content/uploads/2023/10/2023-10-12-Waste-Reduction-Week-2023.png
END:VEVENT
BEGIN:VEVENT
DTSTART;VALUE=DATE:20231015
DTEND;VALUE=DATE:20231022
DTSTAMP:20260423T043132
CREATED:20231012T200251Z
LAST-MODIFIED:20231012T200251Z
UID:6736-1697328000-1697932799@townshipofperry.ca
SUMMARY:Local Government Week 2023
DESCRIPTION:Local Government Week this year runs October 15-21\, 2023.
URL:https://townshipofperry.ca/event/local-government-week-2023/
CATEGORIES:Events
ATTACH;FMTTYPE=image/jpeg:https://townshipofperry.ca/wp-content/uploads/2023/10/2023-10-12-Local-Gov-Week-Facebook-2.jpg
END:VEVENT
BEGIN:VEVENT
DTSTART;TZID=America/Toronto:20231014T170000
DTEND;TZID=America/Toronto:20231014T180000
DTSTAMP:20260423T043132
CREATED:20230918T123425Z
LAST-MODIFIED:20230918T123425Z
UID:6597-1697302800-1697306400@townshipofperry.ca
SUMMARY:Emsdale Agricultural Society Awards Night Ceremony
DESCRIPTION:The Emsdale Agricultural Society is hosting their Awards Night Ceremony on October 14 at 5 p.m. at the Emsdale Community Centre. RSVP to Samantha at 705-571-1122. \nMore information on their Facebook Page: https://www.facebook.com/emsdalefair/
URL:https://townshipofperry.ca/event/emsdale-agricultural-society-awards-night-ceremony/
CATEGORIES:Events
END:VEVENT
BEGIN:VEVENT
DTSTART;TZID=America/Toronto:20231013T183000
DTEND;TZID=America/Toronto:20231013T200000
DTSTAMP:20260423T043132
CREATED:20231012T161756Z
LAST-MODIFIED:20231012T161756Z
UID:6728-1697221800-1697227200@townshipofperry.ca
SUMMARY:Perry Library Trivia Night
DESCRIPTION:Join the Perry Library for Trivia Night at the new Emsdale Community Centre! Contact the Library for more information at 705-636-5454.
URL:https://townshipofperry.ca/event/perry-library-trivia-night/
CATEGORIES:Events
END:VEVENT
BEGIN:VEVENT
DTSTART;TZID=America/Toronto:20231011T190000
DTEND;TZID=America/Toronto:20231011T210000
DTSTAMP:20260423T043132
CREATED:20230717T120015Z
LAST-MODIFIED:20230717T120015Z
UID:6399-1697050800-1697058000@townshipofperry.ca
SUMMARY:Library Board Meeting @ 7pm
DESCRIPTION:Library Board Meeting @ 7pm
URL:https://townshipofperry.ca/event/library-board-meeting-7pm-2/
CATEGORIES:Meetings
ATTACH;FMTTYPE=image/jpeg:https://townshipofperry.ca/wp-content/uploads/2022/05/TwpPerryLogo-e1652713783977.jpg
END:VEVENT
BEGIN:VEVENT
DTSTART;VALUE=DATE:20231009
DTEND;VALUE=DATE:20231010
DTSTAMP:20260423T043132
CREATED:20230717T120231Z
LAST-MODIFIED:20230717T120231Z
UID:6401-1696809600-1696895999@townshipofperry.ca
SUMMARY:Municipal Office Closed
DESCRIPTION:The Municipal Office will be CLOSED on Monday October 9\, 2023 for Thanksgiving Holiday. The Transfer Station will be open 8 am – 4 pm.
URL:https://townshipofperry.ca/event/municipal-office-closed-3/
CATEGORIES:Events,Meetings
ATTACH;FMTTYPE=image/jpeg:https://townshipofperry.ca/wp-content/uploads/2022/07/2020-05-22-Perry-Public_Notice-e1658756234566.jpg
END:VEVENT
BEGIN:VEVENT
DTSTART;VALUE=DATE:20231008
DTEND;VALUE=DATE:20231015
DTSTAMP:20260423T043132
CREATED:20231005T175215Z
LAST-MODIFIED:20231005T183844Z
UID:6676-1696723200-1697327999@townshipofperry.ca
SUMMARY:Fire Prevention Week 2023
DESCRIPTION:Sunday October 8 to Saturday October 14\, 2023 is Fire Prevention Week! Visit our Fire Department webpage or Facebook Page for more information.
URL:https://townshipofperry.ca/event/fire-prevention-week-2023/
CATEGORIES:Events
ATTACH;FMTTYPE=image/png:https://townshipofperry.ca/wp-content/uploads/2023/10/FPW-banner.png
END:VEVENT
BEGIN:VEVENT
DTSTART;TZID=America/Toronto:20231004T190000
DTEND;TZID=America/Toronto:20231004T210000
DTSTAMP:20260423T043132
CREATED:20230717T115759Z
LAST-MODIFIED:20230717T115759Z
UID:6393-1696446000-1696453200@townshipofperry.ca
SUMMARY:Council Meeting @ 7pm
DESCRIPTION:The Regular Meeting of Council will occur at 7 p.m. in Council Chambers.
URL:https://townshipofperry.ca/event/council-meeting-7pm-3/
CATEGORIES:Meetings
ATTACH;FMTTYPE=image/jpeg:https://townshipofperry.ca/wp-content/uploads/2022/05/TwpPerryLogo-e1652713783977.jpg
END:VEVENT
BEGIN:VEVENT
DTSTART;VALUE=DATE:20231004
DTEND;VALUE=DATE:20231005
DTSTAMP:20260423T043132
CREATED:20230919T200343Z
LAST-MODIFIED:20230919T200343Z
UID:6609-1696377600-1696463999@townshipofperry.ca
SUMMARY:Municipal Office Closed
DESCRIPTION:The Municipal Office is CLOSED on Wednesday October 4\, 2023 for a staff training event.
URL:https://townshipofperry.ca/event/municipal-office-closed-4/
CATEGORIES:Events,Meetings
END:VEVENT
BEGIN:VEVENT
DTSTART;TZID=America/Toronto:20231003T120000
DTEND;TZID=America/Toronto:20231003T170000
DTSTAMP:20260423T043132
CREATED:20230919T200508Z
LAST-MODIFIED:20230919T200508Z
UID:6613-1696334400-1696352400@townshipofperry.ca
SUMMARY:Municipal Office\, Transfer Station\, Library CLOSED @ Noon
DESCRIPTION:The Municipal Office\, Transfer Station\, and Library is closed starting at 12 p.m. noon on Tuesday October 3\, 2023 until the end of the day for a staff function. We apologize for any inconvenience.
URL:https://townshipofperry.ca/event/municipal-office-transfer-station-library-closed-noon/
CATEGORIES:Events,Meetings
END:VEVENT
BEGIN:VEVENT
DTSTART;TZID=America/Toronto:20231002T190000
DTEND;TZID=America/Toronto:20231002T203000
DTSTAMP:20260423T043132
CREATED:20230717T115931Z
LAST-MODIFIED:20230717T115931Z
UID:6397-1696273200-1696278600@townshipofperry.ca
SUMMARY:Recreation and Culture Committee Meeting @ 7pm
DESCRIPTION:Recreation and Culture Committee Meeting @ 7pm
URL:https://townshipofperry.ca/event/recreation-and-culture-committee-meeting-7pm-3/
CATEGORIES:Meetings
ATTACH;FMTTYPE=image/jpeg:https://townshipofperry.ca/wp-content/uploads/2022/05/TwpPerryLogo-e1652713783977.jpg
END:VEVENT
BEGIN:VEVENT
DTSTART;VALUE=DATE:20230930
DTEND;VALUE=DATE:20231001
DTSTAMP:20260423T043132
CREATED:20230717T120401Z
LAST-MODIFIED:20230926T125218Z
UID:6403-1696032000-1696118399@townshipofperry.ca
SUMMARY:National Day for Truth and Reconciliation
DESCRIPTION:National Day for Truth and Reconciliation is September 30. The Town of Huntsville is hosting a variety of Truth and Reconciliation Events today\, visit their Facebook Page for more information. \nRemember to wear Orange today. For more information on Orange Shirt Day\, click here.  \nThe Downie Wenjack Fund Website also has a variety of programs\, educational information\, and ways you can learn how to move toward Truth and Reconciliation. \nThe Municipal Office Flags will be lowered today to half-mast in recognition and remembrance.
URL:https://townshipofperry.ca/event/national-day-for-truth-and-reconciliation-2/
CATEGORIES:Events,Meetings
ATTACH;FMTTYPE=image/png:https://townshipofperry.ca/wp-content/uploads/2022/09/national-day-for-truth-and-reconciliation-e1664391891713.png
END:VEVENT
BEGIN:VEVENT
DTSTART;TZID=America/Toronto:20230928T130000
DTEND;TZID=America/Toronto:20230928T220000
DTSTAMP:20260423T043132
CREATED:20230926T124218Z
LAST-MODIFIED:20230926T124218Z
UID:6642-1695906000-1695938400@townshipofperry.ca
SUMMARY:British Home Child Day – September 28
DESCRIPTION:The Township of Perry has proclaimed today\, September 28\, British Home Child Day to honour the memory of the British Home Children and their descendants. REMEMBER to leave your Porch Light on overnight in recognition of these children. \nBetween 1869-1948\, over 100\,000 children of all ages\, some as young as 4\, were emigrated from the United Kingdom to Canada. These children were used as farm workers and domestics. It’s estimated that over 10% of the current population in Canada are descended from these Home Children. \nFor more information on British Home Children\, visit:  https://www.britishhomechildren.com/ or https://www.thecanadianencyclopedia.ca/en/article/immigrant-children
URL:https://townshipofperry.ca/event/british-home-child-day-september-28/
CATEGORIES:Events
END:VEVENT
BEGIN:VEVENT
DTSTART;TZID=America/Toronto:20230928T113000
DTEND;TZID=America/Toronto:20230928T140000
DTSTAMP:20260423T043132
CREATED:20230914T172318Z
LAST-MODIFIED:20230914T172318Z
UID:6563-1695900600-1695909600@townshipofperry.ca
SUMMARY:Emsdale Seniors Luncheon
DESCRIPTION:The East Parry Sound Community Support Services will be hosting monthly senior luncheon’s at the Emsdale Community Centre on the Last Thursday of each month\, starting on Thursday September 28\, 2023.\n\n\n\n\n\nRegistration is required\, so please call to sign up – 705-724-6028 or 1-888-521-0000.\n\n\nVisit their Facebook Page for more information.
URL:https://townshipofperry.ca/event/emsdale-seniors-luncheon/
CATEGORIES:Events
END:VEVENT
BEGIN:VEVENT
DTSTART;TZID=America/Toronto:20230928T070000
DTEND;TZID=America/Toronto:20230928T190000
DTSTAMP:20260423T043132
CREATED:20230925T183146Z
LAST-MODIFIED:20230925T183300Z
UID:6637-1695884400-1695927600@townshipofperry.ca
SUMMARY:Saved By The Beep - Test Your Smoke Alarms Day!
DESCRIPTION:Thursday September 28\, 2023 is Ontario’s first Test Your Smoke Alarm Day! \nLast year\, there were 133 fire fatalities in our province\, the most in 20 years. Smoke Alarms can be lifesavers. They give you the precious time needed to safely escape in case of a fire. \nOn September 28\, join us in taking action – test your smoke alarms! \nFeel free to reach out to Graham Stetler\, Fire Prevention Officer\, to request a home visit today at 705-783-4328. \nFor more information\, visit: http://savedbythebeep.ca/ \n#TestYourSmokeAlarmDay
URL:https://townshipofperry.ca/event/saved-by-the-beep-test-your-smoke-alarms-day/
CATEGORIES:Events
END:VEVENT
BEGIN:VEVENT
DTSTART;VALUE=DATE:20230923
DTEND;VALUE=DATE:20230925
DTSTAMP:20260423T043132
CREATED:20230822T111922Z
LAST-MODIFIED:20230822T111922Z
UID:6493-1695427200-1695599999@townshipofperry.ca
SUMMARY:Huntsville Fall Fair
DESCRIPTION:HUNTSVILLE AND DISTRICT AGRICULTURAL SOCIETY FALL FAIR\n\n\n\n\nSeptember 22\, 23\, 24\, 2023 \n407 Ravenscliffe Rd\, Huntsville\, ON P1H 1L7 \nFor more information\, visit their Facebook Page.
URL:https://townshipofperry.ca/event/huntsville-fall-fair/
CATEGORIES:Events
END:VEVENT
BEGIN:VEVENT
DTSTART;VALUE=DATE:20230921
DTEND;VALUE=DATE:20230922
DTSTAMP:20260423T043132
CREATED:20230914T191249Z
LAST-MODIFIED:20230914T191249Z
UID:6570-1695254400-1695340799@townshipofperry.ca
SUMMARY:Emsdale Community Centre Available for Rentals
DESCRIPTION:Starting Thursday September 21\, the Emsdale Community Centre will be available for public rentals! \nVisit our website or contact the Municipal Office at 705-636-5941 or admin@townshipofperry.ca for rental inquiries.
URL:https://townshipofperry.ca/event/emsdale-community-centre-available-for-rentals/
CATEGORIES:Events,Meetings
ATTACH;FMTTYPE=image/jpeg:https://townshipofperry.ca/wp-content/uploads/2022/07/2020-05-22-Perry-Public_Notice-e1658756234566.jpg
END:VEVENT
BEGIN:VEVENT
DTSTART;TZID=America/Toronto:20230920T190000
DTEND;TZID=America/Toronto:20230920T210000
DTSTAMP:20260423T043132
CREATED:20230717T114759Z
LAST-MODIFIED:20230717T114759Z
UID:6385-1695236400-1695243600@townshipofperry.ca
SUMMARY:Council Meeting @ 7 pm
DESCRIPTION:The Regular Meeting of Council is scheduled for 7 p.m. in Council Chambers.
URL:https://townshipofperry.ca/event/council-meeting-7-pm-2/
CATEGORIES:Meetings
ATTACH;FMTTYPE=image/jpeg:https://townshipofperry.ca/wp-content/uploads/2022/05/TwpPerryLogo-e1652713783977.jpg
END:VEVENT
BEGIN:VEVENT
DTSTART;TZID=America/Toronto:20230916T100000
DTEND;TZID=America/Toronto:20230916T150000
DTSTAMP:20260423T043132
CREATED:20230815T133920Z
LAST-MODIFIED:20230815T133920Z
UID:6473-1694858400-1694876400@townshipofperry.ca
SUMMARY:Burks Falls & District Hunger Walk for Food Bank
DESCRIPTION:The Burk’s Falls and District Food Bank is hosting their annual Hunger Walk on Saturday September 16\, 2023.\n\n\n\nMeet at Stan Darling Park in Burk’s Falls at 10:00 a.m. The event runs rain or shine.\n\n\n\nPledge Sheets are available at the Township of Perry Municipal Office.
URL:https://townshipofperry.ca/event/burks-falls-district-hunger-walk-for-food-bank/
CATEGORIES:Events
END:VEVENT
BEGIN:VEVENT
DTSTART;VALUE=DATE:20230915
DTEND;VALUE=DATE:20230919
DTSTAMP:20260423T043132
CREATED:20230725T174455Z
LAST-MODIFIED:20230725T174455Z
UID:6432-1694736000-1695081599@townshipofperry.ca
SUMMARY:Harvest Festival at Screaming Heads
DESCRIPTION:Friday September 15 to Monday September 18 \nScreaming Heads\, near Burk’s Falls \n  \nHarvest Festival is a four-day electronic music-infused journey through the magical lands of Midlothian Castle\, known to many as the Screaming Heads. \nThe location is 265km north of Toronto and near the village of Burks Falls\, Ontario\, Canada. It’s held on the 2nd weekend after Labour Day each September by alienInFlux Events. \nHarvest 2022 saw the best yet. The new and renewed friendships\, lineup\, circus\, stages\, and a last-minute change of weather were each well received. And attendees donated a record $12K to the Burk’s Falls and District Food Bank. The addition of allowing people to now stay till Monday with an ambient music stage created an entirely new feeling throughout the weekend. And the new pines stage is maybe the best of all our stages. We are proud of the respect people in attendance shared for the event and each other with a Leave No Trace reality and thank all for maintaining and leaving the property beautiful and without litter throughout the entire weekend. \nFor details visit their Website.
URL:https://townshipofperry.ca/event/harvest-festival-at-screaming-heads/
CATEGORIES:Events
ATTACH;FMTTYPE=image/jpeg:https://townshipofperry.ca/wp-content/uploads/2022/06/circledeventoncalendar-e1654092768435.jpg
END:VEVENT
BEGIN:VEVENT
DTSTART;TZID=America/Toronto:20230913T190000
DTEND;TZID=America/Toronto:20230913T200000
DTSTAMP:20260423T043132
CREATED:20230717T114950Z
LAST-MODIFIED:20230717T114950Z
UID:6389-1694631600-1694635200@townshipofperry.ca
SUMMARY:Library Board Meeting @ 7pm
DESCRIPTION:Library Board Meeting @ 7pm
URL:https://townshipofperry.ca/event/library-board-meeting-7pm/
CATEGORIES:Meetings
ATTACH;FMTTYPE=image/jpeg:https://townshipofperry.ca/wp-content/uploads/2022/05/TwpPerryLogo-e1652713783977.jpg
END:VEVENT
BEGIN:VEVENT
DTSTART;TZID=America/Toronto:20230912T143000
DTEND;TZID=America/Toronto:20230912T163000
DTSTAMP:20260423T043132
CREATED:20230912T121815Z
LAST-MODIFIED:20230912T121815Z
UID:6556-1694529000-1694536200@townshipofperry.ca
SUMMARY:Office Closed @ 2:30 p.m. for Staff Meeting
DESCRIPTION:Please be advised that the Municipal Office will be closed at 2:30 p.m. on Tuesday September 12\, 2023 for a staff meeting/training.
URL:https://townshipofperry.ca/event/office-closed-230-p-m-for-staff-meeting/
CATEGORIES:Events,Meetings
ATTACH;FMTTYPE=image/jpeg:https://townshipofperry.ca/wp-content/uploads/2022/05/meeting-image-e1652713379375.jpg
END:VEVENT
END:VCALENDAR