BEGIN:VCALENDAR
VERSION:2.0
PRODID:-//The Township of Perry - ECPv6.15.18//NONSGML v1.0//EN
CALSCALE:GREGORIAN
METHOD:PUBLISH
X-WR-CALNAME:The Township of Perry
X-ORIGINAL-URL:https://townshipofperry.ca
X-WR-CALDESC:Events for The Township of Perry
REFRESH-INTERVAL;VALUE=DURATION:PT1H
X-Robots-Tag:noindex
X-PUBLISHED-TTL:PT1H
BEGIN:VTIMEZONE
TZID:America/Toronto
BEGIN:DAYLIGHT
TZOFFSETFROM:-0500
TZOFFSETTO:-0400
TZNAME:EDT
DTSTART:20220313T070000
END:DAYLIGHT
BEGIN:STANDARD
TZOFFSETFROM:-0400
TZOFFSETTO:-0500
TZNAME:EST
DTSTART:20221106T060000
END:STANDARD
BEGIN:DAYLIGHT
TZOFFSETFROM:-0500
TZOFFSETTO:-0400
TZNAME:EDT
DTSTART:20230312T070000
END:DAYLIGHT
BEGIN:STANDARD
TZOFFSETFROM:-0400
TZOFFSETTO:-0500
TZNAME:EST
DTSTART:20231105T060000
END:STANDARD
BEGIN:DAYLIGHT
TZOFFSETFROM:-0500
TZOFFSETTO:-0400
TZNAME:EDT
DTSTART:20240310T070000
END:DAYLIGHT
BEGIN:STANDARD
TZOFFSETFROM:-0400
TZOFFSETTO:-0500
TZNAME:EST
DTSTART:20241103T060000
END:STANDARD
END:VTIMEZONE
BEGIN:VEVENT
DTSTART;TZID=America/Toronto:20230527T110000
DTEND;TZID=America/Toronto:20230527T140000
DTSTAMP:20260423T162439
CREATED:20230505T154423Z
LAST-MODIFIED:20230505T154435Z
UID:6140-1685185200-1685196000@townshipofperry.ca
SUMMARY:Community Safety Day
DESCRIPTION:Saturday May 27\, 2023 \n11 a.m. to 2 p.m. \nMunicipal Office Gazebo and Parking Lot \n  \nJoin us for a family friendly day to learn more about local services who are prepared to serve you and your family before\, during\, and following an emergency. \nThere will be activities\, food vendors\, prizes\, and more! Stop by one of our Emergency Preparedness Booths – Crime Stoppers\, EMS\, OPP\, CN Rail\, or visit with the Fire Department Sparky and Sawyer the Crisis Response Dog. \nView our poster for more information.
URL:https://townshipofperry.ca/event/community-safety-day/
CATEGORIES:Events
END:VEVENT
BEGIN:VEVENT
DTSTART;TZID=America/Toronto:20230527T090000
DTEND;TZID=America/Toronto:20230527T140000
DTSTAMP:20260423T162439
CREATED:20230331T144515Z
LAST-MODIFIED:20230331T144515Z
UID:5917-1685178000-1685196000@townshipofperry.ca
SUMMARY:Back to Nature Sale
DESCRIPTION:Back to Nature Sale hosted the Emsdale Agricultural Society \nSaturday May 27 from 9 a.m. to 2 p.m. \nNovar Community Centre
URL:https://townshipofperry.ca/event/back-to-nature-sale/
CATEGORIES:Events
END:VEVENT
BEGIN:VEVENT
DTSTART;TZID=America/Toronto:20230522T080000
DTEND;TZID=America/Toronto:20230522T160000
DTSTAMP:20260423T162439
CREATED:20230411T134302Z
LAST-MODIFIED:20230411T134538Z
UID:5983-1684742400-1684771200@townshipofperry.ca
SUMMARY:Transfer Station OPEN 8 a.m. to 4 p.m.
DESCRIPTION:Transfer Station OPEN 8 a.m. to 4 p.m.
URL:https://townshipofperry.ca/event/transfer-station-open-8-a-m-tp-4-p-m/
CATEGORIES:Events,Meetings
ATTACH;FMTTYPE=image/jpeg:https://townshipofperry.ca/wp-content/uploads/2022/05/TwpPerryLogo-e1652713783977.jpg
END:VEVENT
BEGIN:VEVENT
DTSTART;VALUE=DATE:20230522
DTEND;VALUE=DATE:20230523
DTSTAMP:20260423T162439
CREATED:20230411T134349Z
LAST-MODIFIED:20230516T200352Z
UID:5985-1684713600-1684799999@townshipofperry.ca
SUMMARY:Municipal Office & Library Closed - Victoria Day
DESCRIPTION:Municipal Office & Library CLOSED – Victoria Day \nThe Transfer Station OPEN – 8 a.m. to 4 p.m.
URL:https://townshipofperry.ca/event/municipal-office-library-closed-victoria-day/
CATEGORIES:Events,Meetings
ATTACH;FMTTYPE=image/jpeg:https://townshipofperry.ca/wp-content/uploads/2022/05/VictoriaDay-e1652713510104.jpg
END:VEVENT
BEGIN:VEVENT
DTSTART;VALUE=DATE:20230520
DTEND;VALUE=DATE:20230521
DTSTAMP:20260423T162439
CREATED:20230517T215812Z
LAST-MODIFIED:20230517T215820Z
UID:6196-1684540800-1684627199@townshipofperry.ca
SUMMARY:Library CLOSED
DESCRIPTION:The Library is CLOSED in celebration of Victoria Day.
URL:https://townshipofperry.ca/event/library-closed/
CATEGORIES:Events,Meetings
ATTACH;FMTTYPE=image/jpeg:https://townshipofperry.ca/wp-content/uploads/2022/05/VictoriaDay-e1652713510104.jpg
END:VEVENT
BEGIN:VEVENT
DTSTART;TZID=America/Toronto:20230517T190000
DTEND;TZID=America/Toronto:20230517T210000
DTSTAMP:20260423T162439
CREATED:20230411T133425Z
LAST-MODIFIED:20230411T133425Z
UID:5975-1684350000-1684357200@townshipofperry.ca
SUMMARY:Council Meeting @ 7 p.m.
DESCRIPTION:To view the Agenda or Minutes\, visit our Agendas and Minutes Webpage.
URL:https://townshipofperry.ca/event/council-meeting-7-p-m-25/
CATEGORIES:Meetings
ATTACH;FMTTYPE=image/jpeg:https://townshipofperry.ca/wp-content/uploads/2022/05/TwpPerryLogo-e1652713783977.jpg
END:VEVENT
BEGIN:VEVENT
DTSTART;VALUE=DATE:20230515
DTEND;VALUE=DATE:20230516
DTSTAMP:20260423T162439
CREATED:20230510T132604Z
LAST-MODIFIED:20230510T132604Z
UID:6159-1684108800-1684195199@townshipofperry.ca
SUMMARY:Load Restrictions Lifted
DESCRIPTION:Please be advised that load restrictions will be lifted on all Township roads on Monday May 15\, 2023. \n 
URL:https://townshipofperry.ca/event/load-restrictions-lifted/
CATEGORIES:Events
ATTACH;FMTTYPE=image/jpeg:https://townshipofperry.ca/wp-content/uploads/2022/05/TwpPerryLogo-e1652713783977.jpg
END:VEVENT
BEGIN:VEVENT
DTSTART;TZID=America/Toronto:20230509T143000
DTEND;TZID=America/Toronto:20230509T163000
DTSTAMP:20260423T162439
CREATED:20230411T134654Z
LAST-MODIFIED:20230411T134654Z
UID:5988-1683642600-1683649800@townshipofperry.ca
SUMMARY:Municipal Office Closed @ 2:30 p.m. - Staff Training
DESCRIPTION:Municipal Office Closed 2:30 p.m. to 4:30 p.m. – Staff Training/Meeting
URL:https://townshipofperry.ca/event/municipal-office-closed-230-p-m-staff-training-4/
CATEGORIES:Meetings
ATTACH;FMTTYPE=image/jpeg:https://townshipofperry.ca/wp-content/uploads/2022/05/TwpPerryLogo-e1652713783977.jpg
END:VEVENT
BEGIN:VEVENT
DTSTART;TZID=America/Toronto:20230507T113000
DTEND;TZID=America/Toronto:20230507T143000
DTSTAMP:20260423T162439
CREATED:20230411T131351Z
LAST-MODIFIED:20230411T131351Z
UID:5962-1683459000-1683469800@townshipofperry.ca
SUMMARY:Hike for Hospice Huntsville
DESCRIPTION:Hike for Hospice Huntsville \nSunday May 7 \n11:45 a.m. \nRiver Mill Park\, Huntsville \nPlease register no later than April 28 at 705-789-6878 or info@hospicehuntsville.com \nHike – Donate – Get Involved \nPoster
URL:https://townshipofperry.ca/event/hike-for-hospice-huntsville/
CATEGORIES:Events
END:VEVENT
BEGIN:VEVENT
DTSTART;VALUE=DATE:20230507
DTEND;VALUE=DATE:20230514
DTSTAMP:20260423T162439
CREATED:20230411T134212Z
LAST-MODIFIED:20230411T134212Z
UID:5981-1683417600-1684022399@townshipofperry.ca
SUMMARY:Emergency Preparedness Week 2023
DESCRIPTION:Emergency Preparedness Week 2023\nMay 7-13\, 2023 \nEveryone has a role to play in an emergency. EP Week is an opportunity for you to take action to ensure you are prepared to protect yourself\, your family and your community during an emergency. This year\, the theme is Be Prepared. Know Your Risks. The intent of the theme is to encourage Canadians to understand the risks in their area and learn what actions they can take to protect themselves and their families. \nStay tuned for more information!
URL:https://townshipofperry.ca/event/emergency-preparedness-week-2023/
CATEGORIES:Events,Meetings
ATTACH;FMTTYPE=image/jpeg:https://townshipofperry.ca/wp-content/uploads/2022/05/Public-Notice-e1658755788594.jpg
END:VEVENT
BEGIN:VEVENT
DTSTART;TZID=America/Toronto:20230505T190000
DTEND;TZID=America/Toronto:20230505T210000
DTSTAMP:20260423T162439
CREATED:20230202T142249Z
LAST-MODIFIED:20230202T142249Z
UID:5734-1683313200-1683320400@townshipofperry.ca
SUMMARY:Trivia Night
DESCRIPTION:Come by and join Trivia Night! \nThe first Friday of the month at 7 p.m. at the Parish of the Good Shepherd Anglican Church in Emsdale (2190 Hwy 592). \nHosted by the Perry Township Public Library and Parish of the Good Shepherd Church. For more information\, contact the Perry Township Public Library at 705-636-5454.
URL:https://townshipofperry.ca/event/trivia-night-7/
CATEGORIES:Events
END:VEVENT
BEGIN:VEVENT
DTSTART;TZID=America/Toronto:20230503T190000
DTEND;TZID=America/Toronto:20230503T210000
DTSTAMP:20260423T162439
CREATED:20230411T133346Z
LAST-MODIFIED:20230411T133346Z
UID:5973-1683140400-1683147600@townshipofperry.ca
SUMMARY:Council Meeting @ 7 p.m.
DESCRIPTION:To view the Agenda or Minutes\, visit our Agendas and Minutes Webpage.
URL:https://townshipofperry.ca/event/council-meeting-7-p-m-24/
CATEGORIES:Meetings
ATTACH;FMTTYPE=image/jpeg:https://townshipofperry.ca/wp-content/uploads/2022/05/TwpPerryLogo-e1652713783977.jpg
END:VEVENT
BEGIN:VEVENT
DTSTART;TZID=America/Toronto:20230501T080000
DTEND;TZID=America/Toronto:20230501T170000
DTSTAMP:20260423T162439
CREATED:20230411T133451Z
LAST-MODIFIED:20230411T133451Z
UID:5977-1682928000-1682960400@townshipofperry.ca
SUMMARY:Recreation and Culture Committee Meeting @ 7 p.m.
DESCRIPTION:Recreation and Culture Committee Meeting @ 7 p.m.
URL:https://townshipofperry.ca/event/recreation-and-culture-committee-meeting-7-p-m-13/
CATEGORIES:Meetings
ATTACH;FMTTYPE=image/jpeg:https://townshipofperry.ca/wp-content/uploads/2022/05/TwpPerryLogo-e1652713783977.jpg
END:VEVENT
BEGIN:VEVENT
DTSTART;VALUE=DATE:20230501
DTEND;VALUE=DATE:20230502
DTSTAMP:20260423T162439
CREATED:20230411T133606Z
LAST-MODIFIED:20230411T133606Z
UID:5979-1682899200-1682985599@townshipofperry.ca
SUMMARY:Transfer Station Summer Hours Begin
DESCRIPTION:Spring/Summer Hours\n\n\n\n\n\nSunday: 8:00 a.m. – 4:00 p.m. \nMonday: 8:00 a.m. – 4:00 p.m. \nTuesday: 8:00 a.m. – 4:00 p.m. \nWednesday: CLOSED \nThursday: CLOSED \nFriday: 8:00 a.m. – 4:00 p.m. \nSaturday: 8:00 a.m. – 4:00 p.m.
URL:https://townshipofperry.ca/event/transfer-station-summer-hours-begin-2/
CATEGORIES:Events,Meetings
ATTACH;FMTTYPE=image/jpeg:https://townshipofperry.ca/wp-content/uploads/2022/07/2020-05-22-Perry-Public_Notice-e1658756234566.jpg
END:VEVENT
BEGIN:VEVENT
DTSTART;TZID=America/Toronto:20230430T110000
DTEND;TZID=America/Toronto:20230430T170000
DTSTAMP:20260423T162439
CREATED:20230411T130925Z
LAST-MODIFIED:20230411T131037Z
UID:5956-1682852400-1682874000@townshipofperry.ca
SUMMARY:Feed Your Soul Holistic Event
DESCRIPTION:Feed Your Soul Holistic Event \nSunday April 30 \n11 a.m. to 5 p.m. \nBurk’s Falls\, Armour\, and Ryerson Memorial Arena \n220 Centre Street\, Burk’s Falls \nFree Admission \nPoster
URL:https://townshipofperry.ca/event/feed-your-soul-holistic-event/
CATEGORIES:Events
END:VEVENT
BEGIN:VEVENT
DTSTART;TZID=America/Toronto:20230429T083000
DTEND;TZID=America/Toronto:20230429T110000
DTSTAMP:20260423T162439
CREATED:20230420T194740Z
LAST-MODIFIED:20230420T195719Z
UID:6082-1682757000-1682766000@townshipofperry.ca
SUMMARY:Community Clean Up Day
DESCRIPTION:COMMUNITY CLEAN-UP DAY POSTPONED UNTIL SATURDAY APRIL 29 \n  \nPerry Township Recreation and Culture Committee Community cleanup. \nWe will be meeting at the Township Office parking lot/gazebo area between 8:30am and 9:00am to sign in and take a group picture before we start. \nContact the Perry Township office at 705-636-5941 or email admin@townshipofperry.ca if you have any questions or would like more information.
URL:https://townshipofperry.ca/event/community-clean-up-day-2/
CATEGORIES:Events
END:VEVENT
BEGIN:VEVENT
DTSTART;VALUE=DATE:20230428
DTEND;VALUE=DATE:20230429
DTSTAMP:20260423T162439
CREATED:20230420T160320Z
LAST-MODIFIED:20230420T160320Z
UID:6077-1682640000-1682726399@townshipofperry.ca
SUMMARY:WSIB Day of Mourning
DESCRIPTION:April 28 is WSIB Day of Mourning.\n\n\n\nIn 1984\, the Canadian Labour Congress established April 28th as the National Day of Mourning in Canada to remember and honour those who have died\, been injured or suffered illness in the workplace.\n\nThe Day of Mourning\, also known as Workers’ Memorial Day\, is officially recognized in about 100 countries worldwide.\n\n\n\nFor more information\, visit https://www.wsibdayofmourning.ca/fr
URL:https://townshipofperry.ca/event/wsib-day-of-mourning/
CATEGORIES:Events,Meetings
END:VEVENT
BEGIN:VEVENT
DTSTART;VALUE=DATE:20230425
DTEND;VALUE=DATE:20230426
DTSTAMP:20260423T162439
CREATED:20221213T193955Z
LAST-MODIFIED:20221213T193955Z
UID:5576-1682380800-1682467199@townshipofperry.ca
SUMMARY:Tax Installment Due Date #2
DESCRIPTION:Tax Installment Due Date #2
URL:https://townshipofperry.ca/event/tax-installment-due-date-2/
CATEGORIES:Events
ATTACH;FMTTYPE=image/jpeg:https://townshipofperry.ca/wp-content/uploads/2022/05/TwpPerryLogo-e1652713783977.jpg
END:VEVENT
BEGIN:VEVENT
DTSTART;TZID=America/Toronto:20230422T130000
DTEND;TZID=America/Toronto:20230422T160000
DTSTAMP:20260423T162439
CREATED:20230411T125242Z
LAST-MODIFIED:20230411T125242Z
UID:5953-1682168400-1682179200@townshipofperry.ca
SUMMARY:Kearney Lions Maple Syrup Sale
DESCRIPTION:Kearney Lions Maple Syrup Sale \nLions Park Pavilion – Saturday April 22 from 1 p.m. to 4 p.m. \nCurbside Pick Up \nTo order\, please call Lions Blair & Carol @ 705-788-4440 \nPoster
URL:https://townshipofperry.ca/event/kearney-lions-maple-syrup-sale/
CATEGORIES:Events
END:VEVENT
BEGIN:VEVENT
DTSTART;TZID=America/Toronto:20230422T080000
DTEND;TZID=America/Toronto:20230422T130000
DTSTAMP:20260423T162439
CREATED:20230406T165610Z
LAST-MODIFIED:20230420T195749Z
UID:5941-1682150400-1682168400@townshipofperry.ca
SUMMARY:COMMUNITY CLEAN-UP DAY! - POSTPONED UNTIL APRIL 29
DESCRIPTION:COMMUNITY CLEAN-UP DAY POSTPONED UNTIL SATURDAY APRIL 29 \n  \nPerry Township Recreation and Culture Committee Community cleanup. \nWe will be meeting at the Township Office parking lot/gazebo area between 8:30am and 9:00am to sign in and take a group picture before we start. \nContact the Perry Township office at 705-636-5941 or email admin@townshipofperry.ca if you have any questions or would like more information. \n 
URL:https://townshipofperry.ca/event/community-clean-up-day/
CATEGORIES:Events
END:VEVENT
BEGIN:VEVENT
DTSTART;TZID=America/Toronto:20230420T190000
DTEND;TZID=America/Toronto:20230420T200000
DTSTAMP:20260423T162439
CREATED:20230411T132327Z
LAST-MODIFIED:20230411T132327Z
UID:5971-1682017200-1682020800@townshipofperry.ca
SUMMARY:Building Muskoka’s Next Hospitals – Huntsville Active Living Centre April 20 @ 7 p.m.
DESCRIPTION:Building Muskoka’s Next Hospitals \nJoin Us at a Community Information Session to learn more! \nWe will review our planning journey and our progress to date\, update you on the site selection process for a new location of the South Muskoka Memorial Hospital\, and present the preferred property in Bracebridge. Click on the Poster for Dates\, Time\, and Locations. \nPOSTER \nBuilding Muskoka’s Next Hospitals – Dwight Community Centre April 17 @ 7 p.m. \nBuilding Muskoka’s Next Hospitals – Armour\, Ryerson & Burk’s Falls Arena Hall April 19 @ 7 p.m. \nBuilding Muskoka’s Next Hospitals – Huntsville Active Living Centre April 20 @ 7 p.m. \nBuilding Muskoka’s Next Hospitals – Virtually April 27 @ 7 p.m.
URL:https://townshipofperry.ca/event/building-muskokas-next-hospitals-huntsville-active-living-centre-april-20-7-p-m/
CATEGORIES:Events
ATTACH;FMTTYPE=image/jpeg:https://townshipofperry.ca/wp-content/uploads/2023/04/Hospital-e1681219162264.jpg
END:VEVENT
BEGIN:VEVENT
DTSTART;TZID=America/Toronto:20230419T190000
DTEND;TZID=America/Toronto:20230419T210000
DTSTAMP:20260423T162439
CREATED:20221213T193546Z
LAST-MODIFIED:20221213T193546Z
UID:5564-1681930800-1681938000@townshipofperry.ca
SUMMARY:Council Meeting @ 7 p.m.
DESCRIPTION:To view the Agenda or Minutes\, visit our Agendas and Minutes Webpage.
URL:https://townshipofperry.ca/event/council-meeting-7-p-m-23/
CATEGORIES:Meetings
ATTACH;FMTTYPE=image/jpeg:https://townshipofperry.ca/wp-content/uploads/2022/05/TwpPerryLogo-e1652713783977.jpg
END:VEVENT
BEGIN:VEVENT
DTSTART;TZID=America/Toronto:20230419T190000
DTEND;TZID=America/Toronto:20230419T200000
DTSTAMP:20260423T162439
CREATED:20230411T132246Z
LAST-MODIFIED:20230411T132246Z
UID:5969-1681930800-1681934400@townshipofperry.ca
SUMMARY:Building Muskoka’s Next Hospitals - Armour\, Ryerson & Burk’s Falls Arena Hall April 19 @ 7 p.m.
DESCRIPTION:Building Muskoka’s Next Hospitals \nJoin Us at a Community Information Session to learn more! \nWe will review our planning journey and our progress to date\, update you on the site selection process for a new location of the South Muskoka Memorial Hospital\, and present the preferred property in Bracebridge. Click on the Poster for Dates\, Time\, and Locations. \nPOSTER \nBuilding Muskoka’s Next Hospitals – Dwight Community Centre April 17 @ 7 p.m. \nBuilding Muskoka’s Next Hospitals – Armour\, Ryerson & Burk’s Falls Arena Hall April 19 @ 7 p.m. \nBuilding Muskoka’s Next Hospitals – Huntsville Active Living Centre April 20 @ 7 p.m. \nBuilding Muskoka’s Next Hospitals – Virtually April 27 @ 7 p.m.
URL:https://townshipofperry.ca/event/building-muskokas-next-hospitals-armour-ryerson-burks-falls-arena-hall-april-19-7-p-m/
CATEGORIES:Events
ATTACH;FMTTYPE=image/jpeg:https://townshipofperry.ca/wp-content/uploads/2023/04/Hospital-e1681219162264.jpg
END:VEVENT
BEGIN:VEVENT
DTSTART;TZID=America/Toronto:20230419T180000
DTEND;TZID=America/Toronto:20230419T190000
DTSTAMP:20260423T162439
CREATED:20230327T125054Z
LAST-MODIFIED:20230327T125054Z
UID:5894-1681927200-1681930800@townshipofperry.ca
SUMMARY:Preliminary Budget Discussion
DESCRIPTION:On-Going\, moving from the March 15\, 2023 Budget Meeting.
URL:https://townshipofperry.ca/event/preliminary-budget-discussion/
CATEGORIES:Meetings
ATTACH;FMTTYPE=image/jpeg:https://townshipofperry.ca/wp-content/uploads/2022/05/TwpPerryLogo-e1652713783977.jpg
END:VEVENT
BEGIN:VEVENT
DTSTART;TZID=America/Toronto:20230417T190000
DTEND;TZID=America/Toronto:20230417T200000
DTSTAMP:20260423T162439
CREATED:20230411T132215Z
LAST-MODIFIED:20230411T132215Z
UID:5966-1681758000-1681761600@townshipofperry.ca
SUMMARY:Building Muskoka’s Next Hospitals - Dwight Community Centre April 17 @ 7 p.m.
DESCRIPTION:Building Muskoka’s Next Hospitals \nJoin Us at a Community Information Session to learn more! \nWe will review our planning journey and our progress to date\, update you on the site selection process for a new location of the South Muskoka Memorial Hospital\, and present the preferred property in Bracebridge. Click on the Poster for Dates\, Time\, and Locations. \nPOSTER \nBuilding Muskoka’s Next Hospitals – Dwight Community Centre April 17 @ 7 p.m. \nBuilding Muskoka’s Next Hospitals – Armour\, Ryerson & Burk’s Falls Arena Hall April 19 @ 7 p.m. \nBuilding Muskoka’s Next Hospitals – Huntsville Active Living Centre April 20 @ 7 p.m. \nBuilding Muskoka’s Next Hospitals – Virtually April 27 @ 7 p.m.
URL:https://townshipofperry.ca/event/building-muskokas-next-hospitals-dwight-community-centre-april-17-7-p-m/
CATEGORIES:Events
ATTACH;FMTTYPE=image/jpeg:https://townshipofperry.ca/wp-content/uploads/2023/04/Hospital-e1681219162264.jpg
END:VEVENT
BEGIN:VEVENT
DTSTART;TZID=America/Toronto:20230414T190000
DTEND;TZID=America/Toronto:20230414T210000
DTSTAMP:20260423T162439
CREATED:20230202T142130Z
LAST-MODIFIED:20230202T142130Z
UID:5732-1681498800-1681506000@townshipofperry.ca
SUMMARY:Trivia Night
DESCRIPTION:Come by and join Trivia Night! \nThe first Friday of the month at 7 p.m. at the Parish of the Good Shepherd Anglican Church in Emsdale (2190 Hwy 592). \nHosted by the Perry Township Public Library and Parish of the Good Shepherd Church. For more information\, contact the Perry Township Public Library at 705-636-5454.
URL:https://townshipofperry.ca/event/trivia-night-6/
CATEGORIES:Events
END:VEVENT
BEGIN:VEVENT
DTSTART;TZID=America/Toronto:20230413T143000
DTEND;TZID=America/Toronto:20230413T163000
DTSTAMP:20260423T162439
CREATED:20221213T193710Z
LAST-MODIFIED:20230411T123300Z
UID:5568-1681396200-1681403400@townshipofperry.ca
SUMMARY:Municipal Office Closed @ 2:30 p.m. - Staff Training
DESCRIPTION:Municipal Office Closed @ 2:30 p.m. for Staff Training.
URL:https://townshipofperry.ca/event/municipal-office-closed-230-p-m-staff-training-3/
CATEGORIES:Events,Meetings
ATTACH;FMTTYPE=image/jpeg:https://townshipofperry.ca/wp-content/uploads/2022/05/TwpPerryLogo-e1652713783977.jpg
END:VEVENT
BEGIN:VEVENT
DTSTART;TZID=America/Toronto:20230410T080000
DTEND;TZID=America/Toronto:20230410T120000
DTSTAMP:20260423T162439
CREATED:20221213T193913Z
LAST-MODIFIED:20221213T193913Z
UID:5574-1681113600-1681128000@townshipofperry.ca
SUMMARY:Transfer Station Open 8 a.m. to 12 p.m.
DESCRIPTION:Transfer Station Open 8 a.m. to 12 p.m.
URL:https://townshipofperry.ca/event/transfer-station-open-8-a-m-to-12-p-m/
CATEGORIES:Events,Meetings
ATTACH;FMTTYPE=image/jpeg:https://townshipofperry.ca/wp-content/uploads/2022/05/TwpPerryLogo-e1652713783977.jpg
END:VEVENT
BEGIN:VEVENT
DTSTART;VALUE=DATE:20230410
DTEND;VALUE=DATE:20230411
DTSTAMP:20260423T162439
CREATED:20230327T124357Z
LAST-MODIFIED:20230327T124357Z
UID:5890-1681084800-1681171199@townshipofperry.ca
SUMMARY:Transfer Station OPEN
DESCRIPTION:The Transfer Station is OPEN on Monday April 10 from 8 a.m. to 12 p.m.
URL:https://townshipofperry.ca/event/transfer-station-open-2/
CATEGORIES:Events,Meetings
ATTACH;FMTTYPE=image/png:https://townshipofperry.ca/wp-content/uploads/2022/05/Open-Sign-e1653501650941.png
END:VEVENT
BEGIN:VEVENT
DTSTART;VALUE=DATE:20230410
DTEND;VALUE=DATE:20230411
DTSTAMP:20260423T162439
CREATED:20230327T124251Z
LAST-MODIFIED:20230327T124251Z
UID:5888-1681084800-1681171199@townshipofperry.ca
SUMMARY:Municipal Office and Library Closed - EASTER MONDAY
DESCRIPTION:The Municipal Office and Library is CLOSED on Monday April 10\, 2023. The Transfer Station is OPEN from 8 a.m. to 12 p.m.
URL:https://townshipofperry.ca/event/municipal-office-and-library-closed-easter-monday/
CATEGORIES:Events,Meetings
END:VEVENT
END:VCALENDAR