BEGIN:VCALENDAR
VERSION:2.0
PRODID:-//The Township of Perry - ECPv6.15.18//NONSGML v1.0//EN
CALSCALE:GREGORIAN
METHOD:PUBLISH
X-WR-CALNAME:The Township of Perry
X-ORIGINAL-URL:https://townshipofperry.ca
X-WR-CALDESC:Events for The Township of Perry
REFRESH-INTERVAL;VALUE=DURATION:PT1H
X-Robots-Tag:noindex
X-PUBLISHED-TTL:PT1H
BEGIN:VTIMEZONE
TZID:America/Toronto
BEGIN:DAYLIGHT
TZOFFSETFROM:-0500
TZOFFSETTO:-0400
TZNAME:EDT
DTSTART:20220313T070000
END:DAYLIGHT
BEGIN:STANDARD
TZOFFSETFROM:-0400
TZOFFSETTO:-0500
TZNAME:EST
DTSTART:20221106T060000
END:STANDARD
BEGIN:DAYLIGHT
TZOFFSETFROM:-0500
TZOFFSETTO:-0400
TZNAME:EDT
DTSTART:20230312T070000
END:DAYLIGHT
BEGIN:STANDARD
TZOFFSETFROM:-0400
TZOFFSETTO:-0500
TZNAME:EST
DTSTART:20231105T060000
END:STANDARD
BEGIN:DAYLIGHT
TZOFFSETFROM:-0500
TZOFFSETTO:-0400
TZNAME:EDT
DTSTART:20240310T070000
END:DAYLIGHT
BEGIN:STANDARD
TZOFFSETFROM:-0400
TZOFFSETTO:-0500
TZNAME:EST
DTSTART:20241103T060000
END:STANDARD
END:VTIMEZONE
BEGIN:VEVENT
DTSTART;TZID=America/Toronto:20230302T153000
DTEND;TZID=America/Toronto:20230302T160000
DTSTAMP:20260424T063800
CREATED:20230217T123041Z
LAST-MODIFIED:20230217T123041Z
UID:5777-1677771000-1677772800@townshipofperry.ca
SUMMARY:Deadline for Applications - Property Standards Committee
DESCRIPTION:Call for Committee Members\n\n\n\nWe are currently seeking individuals to become Members on our Property Standards Committee!\n\n\n\nThe deadline to apply is 4 p.m. on Thursday March 2.\n\n\n\nVisit our website for more information and to apply: https://townshipofperry.ca/employment-opportunities/
URL:https://townshipofperry.ca/event/deadline-for-applications-property-standards-committee/
CATEGORIES:Events
ATTACH;FMTTYPE=image/png:https://townshipofperry.ca/wp-content/uploads/2023/02/2023-02-09-Call-for-Members-Property-Standards-1-e1676637014833.png
END:VEVENT
BEGIN:VEVENT
DTSTART;TZID=America/Toronto:20230301T190000
DTEND;TZID=America/Toronto:20230301T210000
DTSTAMP:20260424T063800
CREATED:20221213T193228Z
LAST-MODIFIED:20221213T193228Z
UID:5554-1677697200-1677704400@townshipofperry.ca
SUMMARY:Council Meeting @ 7 p.m.
DESCRIPTION:To view the Agenda or Minutes\, visit our Agendas and Minutes Webpage.
URL:https://townshipofperry.ca/event/council-meeting-7-p-m-20/
CATEGORIES:Meetings
ATTACH;FMTTYPE=image/jpeg:https://townshipofperry.ca/wp-content/uploads/2022/05/TwpPerryLogo-e1652713783977.jpg
END:VEVENT
BEGIN:VEVENT
DTSTART;VALUE=DATE:20230225
DTEND;VALUE=DATE:20230226
DTSTAMP:20260424T063800
CREATED:20221213T193147Z
LAST-MODIFIED:20221213T193147Z
UID:5552-1677283200-1677369599@townshipofperry.ca
SUMMARY:Tax Installment Due Date #1
DESCRIPTION:
URL:https://townshipofperry.ca/event/tax-installment-due-date-1-2/
CATEGORIES:Events,Meetings
ATTACH;FMTTYPE=image/jpeg:https://townshipofperry.ca/wp-content/uploads/2022/05/TwpPerryLogo-e1652713783977.jpg
END:VEVENT
BEGIN:VEVENT
DTSTART;VALUE=DATE:20230224
DTEND;VALUE=DATE:20230227
DTSTAMP:20260424T063800
CREATED:20230112T210639Z
LAST-MODIFIED:20230112T210639Z
UID:5678-1677196800-1677455999@townshipofperry.ca
SUMMARY:Katrine Winter Karnival
DESCRIPTION:February 24\, 25\, 26\, 2023 \nVisit their Facebook Page for more information on the 2023 event!
URL:https://townshipofperry.ca/event/katrine-winter-karnival/
CATEGORIES:Events
END:VEVENT
BEGIN:VEVENT
DTSTART;TZID=America/Toronto:20230220T130000
DTEND;TZID=America/Toronto:20230220T160000
DTSTAMP:20260424T063800
CREATED:20221213T193023Z
LAST-MODIFIED:20230215T151011Z
UID:5548-1676898000-1676908800@townshipofperry.ca
SUMMARY:Family Day Skate Event - Novar Community Park
DESCRIPTION:Join the RCC at their FAMILY SKATE EVENT on Monday February 20!\n\n\n\nStop by the Novar Outdoor Rink and Community Park from 1 p.m. to 4 p.m. for a bonfire\, hotdogs\, music\, hot chocolate\, and games!\n\nRemember to bring a folding camp chair and a reusable mug for hot chocolate.\n\n\n\n**skating availability is weather permitting\n\n\nView the Full Poster Here\n 
URL:https://townshipofperry.ca/event/family-day-skate-event-novar-community-park/
CATEGORIES:Events
ATTACH;FMTTYPE=image/jpeg:https://townshipofperry.ca/wp-content/uploads/2023/01/family-ice-skating-outside-restricted-e1673557682180.jpg
END:VEVENT
BEGIN:VEVENT
DTSTART;VALUE=DATE:20230220
DTEND;VALUE=DATE:20230221
DTSTAMP:20260424T063800
CREATED:20221213T193105Z
LAST-MODIFIED:20230209T131331Z
UID:5550-1676851200-1676937599@townshipofperry.ca
SUMMARY:All Municipal Buildings Closed - Family Day
DESCRIPTION:The Municipal Office\, Library\, and Transfer Station is CLOSED for the Family Day Holiday.
URL:https://townshipofperry.ca/event/all-municipal-buildings-closed-family-day-2/
CATEGORIES:Events,Meetings
END:VEVENT
BEGIN:VEVENT
DTSTART;TZID=America/Toronto:20230217T080000
DTEND;TZID=America/Toronto:20230217T170000
DTSTAMP:20260424T063800
CREATED:20230210T155513Z
LAST-MODIFIED:20230210T155904Z
UID:5754-1676620800-1676653200@townshipofperry.ca
SUMMARY:Random Act of Kindness Day 2023
DESCRIPTION:Celebrate Random Acts of Kindness Week from February 14 to February 20! It’s a celebration of all the ways we can become a positive influence in each other’s lives. Even one small act of kindness can mean a great deal to somebody. \nYour kindness might make a world of a difference to somebody. This is the best week for you to show your support for the cause and help out someone in need. \nYou can also encourage others to spread kindness by talking about the week on social media or in your circle of friends. The more people who get behind the kindness cause\, the more we can do to change the world. \nFor more information\, videos\, RAK ideas\, colouring pages\, and more – visit the RAK website. \n#makekindnessthenorm
URL:https://townshipofperry.ca/event/random-act-of-kindness-day-2023/
CATEGORIES:Events
ATTACH;FMTTYPE=image/png:https://townshipofperry.ca/wp-content/uploads/2023/02/2023-02-10-MakeKindnessNorm2023.png
END:VEVENT
BEGIN:VEVENT
DTSTART;TZID=America/Toronto:20230215T190000
DTEND;TZID=America/Toronto:20230215T210000
DTSTAMP:20260424T063800
CREATED:20221213T192818Z
LAST-MODIFIED:20221213T192818Z
UID:5542-1676487600-1676494800@townshipofperry.ca
SUMMARY:Council Meeting @ 7 p.m.
DESCRIPTION:To view the Agenda or Minutes\, visit our Agendas and Minutes Webpage.
URL:https://townshipofperry.ca/event/council-meeting-7-p-m-19/
CATEGORIES:Meetings
ATTACH;FMTTYPE=image/jpeg:https://townshipofperry.ca/wp-content/uploads/2022/05/TwpPerryLogo-e1652713783977.jpg
END:VEVENT
BEGIN:VEVENT
DTSTART;TZID=America/Toronto:20230214T143000
DTEND;TZID=America/Toronto:20230214T163000
DTSTAMP:20260424T063800
CREATED:20221213T192939Z
LAST-MODIFIED:20221213T192939Z
UID:5546-1676385000-1676392200@townshipofperry.ca
SUMMARY:Municipal Office Closed @ 2:30 p.m. - Staff Training
DESCRIPTION:Municipal Office Closed @ 2:30 p.m. for Staff Training.
URL:https://townshipofperry.ca/event/municipal-office-closed-230-p-m-staff-training/
CATEGORIES:Events,Meetings
ATTACH;FMTTYPE=image/jpeg:https://townshipofperry.ca/wp-content/uploads/2022/05/TwpPerryLogo-e1652713783977.jpg
END:VEVENT
BEGIN:VEVENT
DTSTART;TZID=America/Toronto:20230212T180000
DTEND;TZID=America/Toronto:20230212T220000
DTSTAMP:20260424T063800
CREATED:20230131T152202Z
LAST-MODIFIED:20230131T152202Z
UID:5718-1676224800-1676239200@townshipofperry.ca
SUMMARY:Superbowl Night at Kearney Legion\, Branch 276
DESCRIPTION:Join the Kearney Legion on Sunday February 12\, 2023 to watch Super Bowl LVII (Kansas City Chiefs vs. Philadelphia Eagles). Game starts at 6:30 p.m. For more information\, contact the Legion at 705-636-5889.
URL:https://townshipofperry.ca/event/superbowl-night-at-kearney-legion-branch-276/
CATEGORIES:Events
END:VEVENT
BEGIN:VEVENT
DTSTART;VALUE=DATE:20230211
DTEND;VALUE=DATE:20230213
DTSTAMP:20260424T063800
CREATED:20230131T150407Z
LAST-MODIFIED:20230131T150407Z
UID:5714-1676073600-1676246399@townshipofperry.ca
SUMMARY:Kearney Dog Sled Races
DESCRIPTION:Every year in February\, Kearney Ontario (located about 10 minutes east of Emsdale\, Perry Township) is the host to Ontario’s largest dog sledding event.  Mushers and their teams travel from all across Canada and the northern States to attend the annual races.  Race Day will consist of several different category races\, family activities\, local attractions and award ceremonies. \nFor more information\, visit: https://kearneydogsledraces.ca/
URL:https://townshipofperry.ca/event/kearney-dog-sled-races/
CATEGORIES:Events
END:VEVENT
BEGIN:VEVENT
DTSTART;TZID=America/Toronto:20230208T173000
DTEND;TZID=America/Toronto:20230208T193000
DTSTAMP:20260424T063800
CREATED:20230131T145204Z
LAST-MODIFIED:20230131T145237Z
UID:5712-1675877400-1675884600@townshipofperry.ca
SUMMARY:Breaking the Code – S.A.C. Family Literacy Night at Evergreen
DESCRIPTION:Breaking the Code – S.A.C. Family Literacy Night at Evergreen \nFamilies are invited to join Evergreen Height’s S.A.C. on Wednesday February 8\, 2023 at 5:30 p.m. Shop the Scholastic Book Fair\, Enjoy Hot Chocolate & Cookies\, and participate in an Author Presentation from Martha Attema. \nFor more information\, visit Evergreen Height’s Education Centre Facebook Page: https://www.facebook.com/EVGeagles \n**Inclement Weather Date: Wednesday February 15\, 2023
URL:https://townshipofperry.ca/event/breaking-the-code-s-a-c-family-literacy-night-at-evergreen/
CATEGORIES:Events
END:VEVENT
BEGIN:VEVENT
DTSTART;TZID=America/Toronto:20230206T190000
DTEND;TZID=America/Toronto:20230206T200000
DTSTAMP:20260424T063800
CREATED:20221213T192855Z
LAST-MODIFIED:20221213T192855Z
UID:5544-1675710000-1675713600@townshipofperry.ca
SUMMARY:Recreation and Culture Committee Meeting @ 7 p.m.
DESCRIPTION:Recreation and Culture Committee Meeting @ 7 p.m.
URL:https://townshipofperry.ca/event/recreation-and-culture-committee-meeting-7-p-m-10/
CATEGORIES:Meetings
ATTACH;FMTTYPE=image/jpeg:https://townshipofperry.ca/wp-content/uploads/2022/05/TwpPerryLogo-e1652713783977.jpg
END:VEVENT
BEGIN:VEVENT
DTSTART;TZID=America/Toronto:20230203T190000
DTEND;TZID=America/Toronto:20230203T210000
DTSTAMP:20260424T063800
CREATED:20230202T141509Z
LAST-MODIFIED:20230202T141509Z
UID:5728-1675450800-1675458000@townshipofperry.ca
SUMMARY:Trivia Night
DESCRIPTION:Come by and join Trivia Night! \nThe first Friday of the month at 7 p.m. at the Parish of the Good Shepherd Anglican Church in Emsdale (2190 Hwy 592). \nHosted by the Perry Township Public Library and Parish of the Good Shepherd Church. For more information\, contact the Perry Township Public Library at 705-636-5454.
URL:https://townshipofperry.ca/event/trivia-night-4/
CATEGORIES:Events
END:VEVENT
BEGIN:VEVENT
DTSTART;TZID=America/Toronto:20230201T190000
DTEND;TZID=America/Toronto:20230201T200000
DTSTAMP:20260424T063800
CREATED:20221213T192736Z
LAST-MODIFIED:20221213T192736Z
UID:5540-1675278000-1675281600@townshipofperry.ca
SUMMARY:Council Meeting @ 7 p.m.
DESCRIPTION:To view the Agenda or Minutes\, visit our Agendas and Minutes Webpage.
URL:https://townshipofperry.ca/event/council-meeting-7-p-m-18/
CATEGORIES:Meetings
ATTACH;FMTTYPE=image/jpeg:https://townshipofperry.ca/wp-content/uploads/2022/05/TwpPerryLogo-e1652713783977.jpg
END:VEVENT
BEGIN:VEVENT
DTSTART;VALUE=DATE:20230129
DTEND;VALUE=DATE:20230130
DTSTAMP:20260424T063800
CREATED:20230109T163755Z
LAST-MODIFIED:20230109T163755Z
UID:5665-1674950400-1675036799@townshipofperry.ca
SUMMARY:Smoke Alarm Inspection Blitz
DESCRIPTION:Head’s Up Perry Township! \nAs part of our Fire Prevention Program\, starting early in 2023\, the Perry Township Fire Department will be going door-to-door to check residential Smoke Alarms and answer any questions you or your family may have on Fire Prevention and Safety. \nFire Fighters will be out in the community the weekend of Saturday January 14 and Sunday January 15 and the weekend of Saturday January 28 and Sunday January 29 to check Smoke Alarms (fire fighters will be carrying photo I.D.). \nIf you would like to schedule an appointment for the Smoke Alarm check\, please contact Graham Stetler\, Fire Prevention Officer\, directly at 705-783-4328.
URL:https://townshipofperry.ca/event/smoke-alarm-inspection-blitz-4/
CATEGORIES:Events
ATTACH;FMTTYPE=image/png:https://townshipofperry.ca/wp-content/uploads/2023/01/Smoke-Alarm-Inspection-e1673282002547.png
END:VEVENT
BEGIN:VEVENT
DTSTART;VALUE=DATE:20230128
DTEND;VALUE=DATE:20230129
DTSTAMP:20260424T063800
CREATED:20230109T163653Z
LAST-MODIFIED:20230109T163653Z
UID:5663-1674864000-1674950399@townshipofperry.ca
SUMMARY:Smoke Alarm Inspection Blitz
DESCRIPTION:Head’s Up Perry Township! \nAs part of our Fire Prevention Program\, starting early in 2023\, the Perry Township Fire Department will be going door-to-door to check residential Smoke Alarms and answer any questions you or your family may have on Fire Prevention and Safety. \nFire Fighters will be out in the community the weekend of Saturday January 14 and Sunday January 15 and the weekend of Saturday January 28 and Sunday January 29 to check Smoke Alarms (fire fighters will be carrying photo I.D.). \nIf you would like to schedule an appointment for the Smoke Alarm check\, please contact Graham Stetler\, Fire Prevention Officer\, directly at 705-783-4328.
URL:https://townshipofperry.ca/event/smoke-alarm-inspection-blitz-3/
CATEGORIES:Events
ATTACH;FMTTYPE=image/png:https://townshipofperry.ca/wp-content/uploads/2023/01/Smoke-Alarm-Inspection-e1673282002547.png
END:VEVENT
BEGIN:VEVENT
DTSTART;VALUE=DATE:20230121
DTEND;VALUE=DATE:20230123
DTSTAMP:20260424T063800
CREATED:20230110T181021Z
LAST-MODIFIED:20230110T181040Z
UID:5668-1674259200-1674431999@townshipofperry.ca
SUMMARY:26th Annual WINTERFEST - Burk's Falls\, Armour\, Ryerson
DESCRIPTION:After a two-year hiatus\, the Burk’s Falls\, Armour\, and Ryerson WINTERFEST is back. \nWhen: Saturday January 21 & Sunday January 22 \nWhere: Burk’s Falls \nActivities: Bowling\, Family Dance\, Ice Skating\, Winter Games\, Sleigh Rides \nFor more information\, please visit the Winterfest Facebook Page. \n 
URL:https://townshipofperry.ca/event/burks-falls-armour-and-ryerson-winterfest/
CATEGORIES:Events
END:VEVENT
BEGIN:VEVENT
DTSTART;TZID=America/Toronto:20230119T190000
DTEND;TZID=America/Toronto:20230119T203000
DTSTAMP:20260424T063800
CREATED:20230103T210158Z
LAST-MODIFIED:20230103T210158Z
UID:5629-1674154800-1674160200@townshipofperry.ca
SUMMARY:Open House: Building Muskoka's Next Hospitals
DESCRIPTION:Building Muskoka’s Next Hospitals \nHuntsville – Monday January 16 at Active Living Centre – 7 p.m. to 8:30 p.m. \nBurk’s Falls – Wednesday January 18 at Armour\, Ryerson\, and Burk’s Falls Arena – 7 p.m. to 8:30 p.m. \nDwight – Thursday January 19 at Dwight Community Centre – 7 p.m. to 8:30 p.m. \nMAHC is excited to hold a series of six (6) in-person Community Open Houses from January 16 to 21\, 2023\, and virtual sessions on January 23 and January 25\, 2023. For more information on various dates\, locations\, and times\, please visit MAHC’s website: https://www.mahc.ca/en/about-mahc/Stay-Connected.aspx \nPoster Information and Details
URL:https://townshipofperry.ca/event/open-house-building-muskokas-next-hospitals-3/
CATEGORIES:Events,Meetings
ATTACH;FMTTYPE=image/png:https://townshipofperry.ca/wp-content/uploads/2023/01/MAHC-e1672779494799.png
END:VEVENT
BEGIN:VEVENT
DTSTART;TZID=America/Toronto:20230118T190000
DTEND;TZID=America/Toronto:20230118T210000
DTSTAMP:20260424T063800
CREATED:20221213T192414Z
LAST-MODIFIED:20221213T192414Z
UID:5534-1674068400-1674075600@townshipofperry.ca
SUMMARY:Council Meeting @ 7 p.m.
DESCRIPTION:To view the Agenda or Minutes\, visit our Agendas and Minutes Webpage.
URL:https://townshipofperry.ca/event/council-meeting-7-p-m-17/
CATEGORIES:Meetings
ATTACH;FMTTYPE=image/jpeg:https://townshipofperry.ca/wp-content/uploads/2022/05/TwpPerryLogo-e1652713783977.jpg
END:VEVENT
BEGIN:VEVENT
DTSTART;TZID=America/Toronto:20230118T190000
DTEND;TZID=America/Toronto:20230118T203000
DTSTAMP:20260424T063800
CREATED:20230103T205918Z
LAST-MODIFIED:20230103T205932Z
UID:5624-1674068400-1674073800@townshipofperry.ca
SUMMARY:Open House: Building Muskoka's Next Hospitals
DESCRIPTION:Building Muskoka’s Next Hospitals\n\n\nHuntsville – Monday January 16 at Active Living Centre – 7 p.m. to 8:30 p.m.\nBurk’s Falls – Wednesday January 18 at Armour\, Ryerson\, and Burk’s Falls Arena – 7 p.m. to 8:30 p.m.\nDwight – Thursday January 19 at Dwight Community Centre – 7 p.m. to 8:30 p.m.\n\n\nMAHC is excited to hold a series of six (6) in-person Community Open Houses from January 16 to 21\, 2023\, and virtual sessions on January 23 and January 25\, 2023. For more information on various dates\, locations\, and times\, please visit MAHC’s website: https://www.mahc.ca/en/about-mahc/Stay-Connected.aspx\n\n\nPoster Information and Details\n 
URL:https://townshipofperry.ca/event/open-house-building-muskokas-next-hospitals/
CATEGORIES:Events,Meetings
ATTACH;FMTTYPE=image/png:https://townshipofperry.ca/wp-content/uploads/2023/01/MAHC-e1672779494799.png
END:VEVENT
BEGIN:VEVENT
DTSTART;TZID=America/Toronto:20230116T190000
DTEND;TZID=America/Toronto:20230116T203000
DTSTAMP:20260424T063800
CREATED:20230103T210106Z
LAST-MODIFIED:20230103T210106Z
UID:5627-1673895600-1673901000@townshipofperry.ca
SUMMARY:Open House: Building Muskoka's Next Hospitals
DESCRIPTION:Building Muskoka’s Next Hospitals \nHuntsville – Monday January 16 at Active Living Centre – 7 p.m. to 8:30 p.m. \nBurk’s Falls – Wednesday January 18 at Armour\, Ryerson\, and Burk’s Falls Arena – 7 p.m. to 8:30 p.m. \nDwight – Thursday January 19 at Dwight Community Centre – 7 p.m. to 8:30 p.m. \nMAHC is excited to hold a series of six (6) in-person Community Open Houses from January 16 to 21\, 2023\, and virtual sessions on January 23 and January 25\, 2023. For more information on various dates\, locations\, and times\, please visit MAHC’s website: https://www.mahc.ca/en/about-mahc/Stay-Connected.aspx \nPoster Information and Details
URL:https://townshipofperry.ca/event/open-house-building-muskokas-next-hospitals-2/
CATEGORIES:Events,Meetings
ATTACH;FMTTYPE=image/png:https://townshipofperry.ca/wp-content/uploads/2023/01/MAHC-e1672779494799.png
END:VEVENT
BEGIN:VEVENT
DTSTART;TZID=America/Toronto:20230116T183000
DTEND;TZID=America/Toronto:20230116T200000
DTSTAMP:20260424T063800
CREATED:20230105T131726Z
LAST-MODIFIED:20230105T131726Z
UID:5632-1673893800-1673899200@townshipofperry.ca
SUMMARY:Almaguin Climate Change Group EVENT
DESCRIPTION:Join the Almaguin Climate Change Group on Monday January 16 from 6:30 p.m. to 8 p.m. at the Armour\, Ryerson\, and Burk’s Falls Arena. \nDetails: \n6:30 to 7 pm: Several e-cars will be on display. You are invited to talk to the owners about their satisfaction with the cars and have a look at one up close. \n7 to 8 pm: There will be information presented with time to discuss how we can stop the use of fossil fuel. There will be ample time for questions about electrification of cars \, trucks\, and equipment. \nIf you have any questions\, call: 795-380-2325
URL:https://townshipofperry.ca/event/almaguin-climate-change-group-event/
CATEGORIES:Events
ATTACH;FMTTYPE=image/jpeg:https://townshipofperry.ca/wp-content/uploads/2022/07/2020-05-22-Perry-Public_Notice-e1658756234566.jpg
END:VEVENT
BEGIN:VEVENT
DTSTART;VALUE=DATE:20230115
DTEND;VALUE=DATE:20230116
DTSTAMP:20260424T063800
CREATED:20230109T163550Z
LAST-MODIFIED:20230109T163550Z
UID:5661-1673740800-1673827199@townshipofperry.ca
SUMMARY:Smoke Alarm Inspection Blitz
DESCRIPTION:Head’s Up Perry Township! \nAs part of our Fire Prevention Program\, starting early in 2023\, the Perry Township Fire Department will be going door-to-door to check residential Smoke Alarms and answer any questions you or your family may have on Fire Prevention and Safety. \nFire Fighters will be out in the community the weekend of Saturday January 14 and Sunday January 15 and the weekend of Saturday January 28 and Sunday January 29 to check Smoke Alarms (fire fighters will be carrying photo I.D.). \nIf you would like to schedule an appointment for the Smoke Alarm check\, please contact Graham Stetler\, Fire Prevention Officer\, directly at 705-783-4328.
URL:https://townshipofperry.ca/event/smoke-alarm-inspection-blitz-2/
CATEGORIES:Events
ATTACH;FMTTYPE=image/png:https://townshipofperry.ca/wp-content/uploads/2023/01/Smoke-Alarm-Inspection-e1673282002547.png
END:VEVENT
BEGIN:VEVENT
DTSTART;VALUE=DATE:20230114
DTEND;VALUE=DATE:20230115
DTSTAMP:20260424T063800
CREATED:20230109T163450Z
LAST-MODIFIED:20230109T163450Z
UID:5659-1673654400-1673740799@townshipofperry.ca
SUMMARY:Smoke Alarm Inspection Blitz
DESCRIPTION:Head’s Up Perry Township! \nAs part of our Fire Prevention Program\, starting early in 2023\, the Perry Township Fire Department will be going door-to-door to check residential Smoke Alarms and answer any questions you or your family may have on Fire Prevention and Safety. \nFire Fighters will be out in the community the weekend of Saturday January 14 and Sunday January 15 and the weekend of Saturday January 28 and Sunday January 29 to check Smoke Alarms (fire fighters will be carrying photo I.D.). \nIf you would like to schedule an appointment for the Smoke Alarm check\, please contact Graham Stetler\, Fire Prevention Officer\, directly at 705-783-4328.
URL:https://townshipofperry.ca/event/smoke-alarm-inspection-blitz/
CATEGORIES:Events
ATTACH;FMTTYPE=image/png:https://townshipofperry.ca/wp-content/uploads/2023/01/Smoke-Alarm-Inspection-e1673282002547.png
END:VEVENT
BEGIN:VEVENT
DTSTART;TZID=America/Toronto:20230110T143000
DTEND;TZID=America/Toronto:20230110T163000
DTSTAMP:20260424T063800
CREATED:20221213T192631Z
LAST-MODIFIED:20221213T192631Z
UID:5538-1673361000-1673368200@townshipofperry.ca
SUMMARY:Municipal Office Closed - Staff Training @ 2:30 p.m.
DESCRIPTION:The Municipal Office is closed for Staff Training @ 2:30 p.m.
URL:https://townshipofperry.ca/event/municipal-office-closed-staff-training-230-p-m/
CATEGORIES:Events,Meetings
ATTACH;FMTTYPE=image/jpeg:https://townshipofperry.ca/wp-content/uploads/2022/05/TwpPerryLogo-e1652713783977.jpg
END:VEVENT
BEGIN:VEVENT
DTSTART;TZID=America/Toronto:20230109T190000
DTEND;TZID=America/Toronto:20230109T200000
DTSTAMP:20260424T063800
CREATED:20221213T192502Z
LAST-MODIFIED:20221213T192532Z
UID:5536-1673290800-1673294400@townshipofperry.ca
SUMMARY:Recreation and Culture Committee Meeting @ 7 p.m.
DESCRIPTION:
URL:https://townshipofperry.ca/event/recreation-and-culture-committee-meeting-7-p-m-9/
CATEGORIES:Meetings
ATTACH;FMTTYPE=image/jpeg:https://townshipofperry.ca/wp-content/uploads/2022/05/TwpPerryLogo-e1652713783977.jpg
END:VEVENT
BEGIN:VEVENT
DTSTART;TZID=America/Toronto:20230107T100000
DTEND;TZID=America/Toronto:20230107T130000
DTSTAMP:20260424T063800
CREATED:20230105T133102Z
LAST-MODIFIED:20230105T133102Z
UID:5634-1673085600-1673096400@townshipofperry.ca
SUMMARY:Emsdale Agricultural Society Annual Meeting
DESCRIPTION:Date: Saturday January 7 \nLocation: Novar Community Centre\, 25 Laurie Street \nTime: 10 a.m. \nEveryone is welcome to attend. For more information\, please visit their Facebook Page.
URL:https://townshipofperry.ca/event/emsdale-agricultural-society-annual-meeting/
CATEGORIES:Events
END:VEVENT
BEGIN:VEVENT
DTSTART;TZID=America/Toronto:20230106T190000
DTEND;TZID=America/Toronto:20230106T200000
DTSTAMP:20260424T063800
CREATED:20221025T184547Z
LAST-MODIFIED:20221025T184547Z
UID:5344-1673031600-1673035200@townshipofperry.ca
SUMMARY:Trivia Night
DESCRIPTION:Come by and join Trivia Night! \nThe first Friday of the month at 7 p.m. at the Parish of the Good Shepherd Anglican Church in Emsdale (2190 Hwy 592). \nHosted by the Perry Township Public Library and Parish of the Good Shepherd Church. For more information\, contact the Perry Township Public Library at 705-636-5454.
URL:https://townshipofperry.ca/event/trivia-night-3/
CATEGORIES:Events
END:VEVENT
BEGIN:VEVENT
DTSTART;TZID=America/Toronto:20230104T190000
DTEND;TZID=America/Toronto:20230104T200000
DTSTAMP:20260424T063800
CREATED:20221213T192231Z
LAST-MODIFIED:20221213T192231Z
UID:5532-1672858800-1672862400@townshipofperry.ca
SUMMARY:Regular Council Meeting - CANCELLED
DESCRIPTION:
URL:https://townshipofperry.ca/event/regular-council-meeting-cancelled/
CATEGORIES:Meetings
ATTACH;FMTTYPE=image/jpeg:https://townshipofperry.ca/wp-content/uploads/2022/05/TwpPerryLogo-e1652713783977.jpg
END:VEVENT
END:VCALENDAR