BEGIN:VCALENDAR
VERSION:2.0
PRODID:-//The Township of Perry - ECPv6.15.18//NONSGML v1.0//EN
CALSCALE:GREGORIAN
METHOD:PUBLISH
X-WR-CALNAME:The Township of Perry
X-ORIGINAL-URL:https://townshipofperry.ca
X-WR-CALDESC:Events for The Township of Perry
REFRESH-INTERVAL;VALUE=DURATION:PT1H
X-Robots-Tag:noindex
X-PUBLISHED-TTL:PT1H
BEGIN:VTIMEZONE
TZID:America/Toronto
BEGIN:DAYLIGHT
TZOFFSETFROM:-0500
TZOFFSETTO:-0400
TZNAME:EDT
DTSTART:20210314T070000
END:DAYLIGHT
BEGIN:STANDARD
TZOFFSETFROM:-0400
TZOFFSETTO:-0500
TZNAME:EST
DTSTART:20211107T060000
END:STANDARD
BEGIN:DAYLIGHT
TZOFFSETFROM:-0500
TZOFFSETTO:-0400
TZNAME:EDT
DTSTART:20220313T070000
END:DAYLIGHT
BEGIN:STANDARD
TZOFFSETFROM:-0400
TZOFFSETTO:-0500
TZNAME:EST
DTSTART:20221106T060000
END:STANDARD
BEGIN:DAYLIGHT
TZOFFSETFROM:-0500
TZOFFSETTO:-0400
TZNAME:EDT
DTSTART:20230312T070000
END:DAYLIGHT
BEGIN:STANDARD
TZOFFSETFROM:-0400
TZOFFSETTO:-0500
TZNAME:EST
DTSTART:20231105T060000
END:STANDARD
BEGIN:DAYLIGHT
TZOFFSETFROM:-0500
TZOFFSETTO:-0400
TZNAME:EDT
DTSTART:20240310T070000
END:DAYLIGHT
BEGIN:STANDARD
TZOFFSETFROM:-0400
TZOFFSETTO:-0500
TZNAME:EST
DTSTART:20241103T060000
END:STANDARD
END:VTIMEZONE
BEGIN:VEVENT
DTSTART;VALUE=DATE:20221228
DTEND;VALUE=DATE:20221230
DTSTAMP:20260424T162009
CREATED:20220726T145142Z
LAST-MODIFIED:20220726T145142Z
UID:4937-1672185600-1672358399@townshipofperry.ca
SUMMARY:Transfer Station Closed
DESCRIPTION:Transfer Station Closed
URL:https://townshipofperry.ca/event/transfer-station-closed-6/
CATEGORIES:Events,Meetings
END:VEVENT
BEGIN:VEVENT
DTSTART;TZID=America/Toronto:20221227T080000
DTEND;TZID=America/Toronto:20221227T160000
DTSTAMP:20260424T162009
CREATED:20220726T145014Z
LAST-MODIFIED:20220726T145014Z
UID:4933-1672128000-1672156800@townshipofperry.ca
SUMMARY:Transfer Station Open 8am-4pm
DESCRIPTION:Transfer Station Open 8am-4pm
URL:https://townshipofperry.ca/event/transfer-station-open-8am-4pm-4/
CATEGORIES:Events,Meetings
ATTACH;FMTTYPE=image/jpeg:https://townshipofperry.ca/wp-content/uploads/2022/05/TwpPerryLogo-e1652713783977.jpg
END:VEVENT
BEGIN:VEVENT
DTSTART;VALUE=DATE:20221227
DTEND;VALUE=DATE:20230103
DTSTAMP:20260424T162009
CREATED:20220726T145101Z
LAST-MODIFIED:20220726T145101Z
UID:4935-1672099200-1672703999@townshipofperry.ca
SUMMARY:Municipal Office and Library Closed
DESCRIPTION:Municipal Office and Library Closed
URL:https://townshipofperry.ca/event/municipal-office-and-library-closed-4/
CATEGORIES:Events,Meetings
END:VEVENT
BEGIN:VEVENT
DTSTART;VALUE=DATE:20221226
DTEND;VALUE=DATE:20221227
DTSTAMP:20260424T162009
CREATED:20220726T144931Z
LAST-MODIFIED:20220726T144931Z
UID:4931-1672012800-1672099199@townshipofperry.ca
SUMMARY:Boxing Day
DESCRIPTION:Boxing Day
URL:https://townshipofperry.ca/event/boxing-day/
CATEGORIES:Events,Meetings
END:VEVENT
BEGIN:VEVENT
DTSTART;VALUE=DATE:20221226
DTEND;VALUE=DATE:20221227
DTSTAMP:20260424T162009
CREATED:20220726T144902Z
LAST-MODIFIED:20220726T144902Z
UID:4929-1672012800-1672099199@townshipofperry.ca
SUMMARY:All Municipal Buildings Closed
DESCRIPTION:All Municipal Buildings Closed
URL:https://townshipofperry.ca/event/all-municipal-buildings-closed-7/
CATEGORIES:Events,Meetings
END:VEVENT
BEGIN:VEVENT
DTSTART;VALUE=DATE:20221225
DTEND;VALUE=DATE:20221226
DTSTAMP:20260424T162009
CREATED:20220726T144832Z
LAST-MODIFIED:20220726T144832Z
UID:4927-1671926400-1672012799@townshipofperry.ca
SUMMARY:Christmas Day
DESCRIPTION:Christmas Day
URL:https://townshipofperry.ca/event/christmas-day/
CATEGORIES:Events,Meetings
END:VEVENT
BEGIN:VEVENT
DTSTART;VALUE=DATE:20221225
DTEND;VALUE=DATE:20221226
DTSTAMP:20260424T162009
CREATED:20220726T144759Z
LAST-MODIFIED:20220726T144759Z
UID:4925-1671926400-1672012799@townshipofperry.ca
SUMMARY:All Municipal Buildings Closed
DESCRIPTION:All Municipal Buildings Closed
URL:https://townshipofperry.ca/event/all-municipal-buildings-closed-6/
CATEGORIES:Events,Meetings
END:VEVENT
BEGIN:VEVENT
DTSTART;TZID=America/Toronto:20221224T080000
DTEND;TZID=America/Toronto:20221224T120000
DTSTAMP:20260424T162009
CREATED:20220726T144655Z
LAST-MODIFIED:20220726T144655Z
UID:4921-1671868800-1671883200@townshipofperry.ca
SUMMARY:Transfer Station Open 8am-12pm
DESCRIPTION:Transfer Station Open 8am-12pm
URL:https://townshipofperry.ca/event/transfer-station-open-8am-12pm-7/
CATEGORIES:Events,Meetings
ATTACH;FMTTYPE=image/jpeg:https://townshipofperry.ca/wp-content/uploads/2022/05/TwpPerryLogo-e1652713783977.jpg
END:VEVENT
BEGIN:VEVENT
DTSTART;VALUE=DATE:20221224
DTEND;VALUE=DATE:20221225
DTSTAMP:20260424T162009
CREATED:20220726T144727Z
LAST-MODIFIED:20220726T144727Z
UID:4923-1671840000-1671926399@townshipofperry.ca
SUMMARY:Christmas Eve
DESCRIPTION:Christmas Eve
URL:https://townshipofperry.ca/event/christmas-eve/
CATEGORIES:Events,Meetings
END:VEVENT
BEGIN:VEVENT
DTSTART;TZID=America/Toronto:20221223T120000
DTEND;TZID=America/Toronto:20221223T160000
DTSTAMP:20260424T162009
CREATED:20220726T144528Z
LAST-MODIFIED:20220726T144528Z
UID:4917-1671796800-1671811200@townshipofperry.ca
SUMMARY:Transfer Station Open 12pm-4pm
DESCRIPTION:Transfer Station Open 12pm-4pm
URL:https://townshipofperry.ca/event/transfer-station-open-12pm-4pm-4/
CATEGORIES:Events,Meetings
ATTACH;FMTTYPE=image/jpeg:https://townshipofperry.ca/wp-content/uploads/2022/05/TwpPerryLogo-e1652713783977.jpg
END:VEVENT
BEGIN:VEVENT
DTSTART;TZID=America/Toronto:20221223T083000
DTEND;TZID=America/Toronto:20221223T123000
DTSTAMP:20260424T162009
CREATED:20220726T144616Z
LAST-MODIFIED:20220726T144616Z
UID:4919-1671784200-1671798600@townshipofperry.ca
SUMMARY:Municipal Office and Library Closed @ 12:30 p.m.
DESCRIPTION:Municipal Office and Library Closed @ 12:30 p.m.
URL:https://townshipofperry.ca/event/municipal-office-and-library-closed-1230-p-m/
CATEGORIES:Events,Meetings
ATTACH;FMTTYPE=image/jpeg:https://townshipofperry.ca/wp-content/uploads/2022/05/TwpPerryLogo-e1652713783977.jpg
END:VEVENT
BEGIN:VEVENT
DTSTART;VALUE=DATE:20221222
DTEND;VALUE=DATE:20221223
DTSTAMP:20260424T162009
CREATED:20220726T144435Z
LAST-MODIFIED:20220726T144435Z
UID:4915-1671667200-1671753599@townshipofperry.ca
SUMMARY:Transfer Station CLOSED
DESCRIPTION:Transfer Station CLOSED
URL:https://townshipofperry.ca/event/transfer-station-closed-5/
CATEGORIES:Events,Meetings
ATTACH;FMTTYPE=image/jpeg:https://townshipofperry.ca/wp-content/uploads/2022/05/TwpPerryLogo-e1652713783977.jpg
END:VEVENT
BEGIN:VEVENT
DTSTART;TZID=America/Toronto:20221221T190000
DTEND;TZID=America/Toronto:20221221T210000
DTSTAMP:20260424T162009
CREATED:20220726T143928Z
LAST-MODIFIED:20220726T143928Z
UID:4904-1671649200-1671656400@townshipofperry.ca
SUMMARY:Council Meeting @ 7 p.m.
DESCRIPTION:Council Meeting @ 7 p.m.
URL:https://townshipofperry.ca/event/council-meeting-7-p-m-16/
CATEGORIES:Meetings
ATTACH;FMTTYPE=image/jpeg:https://townshipofperry.ca/wp-content/uploads/2022/05/TwpPerryLogo-e1652713783977.jpg
END:VEVENT
BEGIN:VEVENT
DTSTART;VALUE=DATE:20221221
DTEND;VALUE=DATE:20221222
DTSTAMP:20260424T162009
CREATED:20220726T144406Z
LAST-MODIFIED:20220726T144406Z
UID:4913-1671580800-1671667199@townshipofperry.ca
SUMMARY:Transfer Station CLOSED
DESCRIPTION:Transfer Station CLOSED
URL:https://townshipofperry.ca/event/transfer-station-closed-4/
CATEGORIES:Events,Meetings
ATTACH;FMTTYPE=image/jpeg:https://townshipofperry.ca/wp-content/uploads/2022/05/TwpPerryLogo-e1652713783977.jpg
END:VEVENT
BEGIN:VEVENT
DTSTART;TZID=America/Toronto:20221220T120000
DTEND;TZID=America/Toronto:20221220T160000
DTSTAMP:20260424T162009
CREATED:20220726T144331Z
LAST-MODIFIED:20220726T144331Z
UID:4911-1671537600-1671552000@townshipofperry.ca
SUMMARY:Transfer Station Open 12pm-4pm
DESCRIPTION:Transfer Station Open 12pm-4pm
URL:https://townshipofperry.ca/event/transfer-station-open-12pm-4pm-3/
CATEGORIES:Events,Meetings
ATTACH;FMTTYPE=image/jpeg:https://townshipofperry.ca/wp-content/uploads/2022/05/TwpPerryLogo-e1652713783977.jpg
END:VEVENT
BEGIN:VEVENT
DTSTART;TZID=America/Toronto:20221219T080000
DTEND;TZID=America/Toronto:20221219T120000
DTSTAMP:20260424T162009
CREATED:20220726T144254Z
LAST-MODIFIED:20220726T144254Z
UID:4909-1671436800-1671451200@townshipofperry.ca
SUMMARY:Transfer Station Open 8am-12pm
DESCRIPTION:Transfer Station Open 8am-12pm
URL:https://townshipofperry.ca/event/transfer-station-open-8am-12pm-6/
CATEGORIES:Events,Meetings
ATTACH;FMTTYPE=image/jpeg:https://townshipofperry.ca/wp-content/uploads/2022/05/TwpPerryLogo-e1652713783977.jpg
END:VEVENT
BEGIN:VEVENT
DTSTART;TZID=America/Toronto:20221218T080000
DTEND;TZID=America/Toronto:20221218T160000
DTSTAMP:20260424T162009
CREATED:20220726T144214Z
LAST-MODIFIED:20220726T144214Z
UID:4906-1671350400-1671379200@townshipofperry.ca
SUMMARY:Transfer Station Open 8am-4pm
DESCRIPTION:Transfer Station Open 8am-4pm
URL:https://townshipofperry.ca/event/transfer-station-open-8am-4pm-3/
CATEGORIES:Events,Meetings
ATTACH;FMTTYPE=image/jpeg:https://townshipofperry.ca/wp-content/uploads/2022/05/TwpPerryLogo-e1652713783977.jpg
END:VEVENT
BEGIN:VEVENT
DTSTART;TZID=America/Toronto:20221217T170000
DTEND;TZID=America/Toronto:20221217T190000
DTSTAMP:20260424T162009
CREATED:20221122T163112Z
LAST-MODIFIED:20221122T163112Z
UID:5446-1671296400-1671303600@townshipofperry.ca
SUMMARY:Christmas Seniors Dinner - for Perry Township Residents
DESCRIPTION:You’re a cordially invited to join the Lions Club on Saturday December 17 at 5 p.m. for our annual Christmas Dinner for the The seniors of Perry Township. \nSeating is limited so please RVSP as soon as possible.\nLion Martin 705-783-6096\nLion Jim 705-783-9163
URL:https://townshipofperry.ca/event/christmas-seniors-dinner-for-perry-township-residents/
CATEGORIES:Events
END:VEVENT
BEGIN:VEVENT
DTSTART;TZID=America/Toronto:20221217T083000
DTEND;TZID=America/Toronto:20221217T103000
DTSTAMP:20260424T162009
CREATED:20221122T162523Z
LAST-MODIFIED:20221122T162523Z
UID:5444-1671265800-1671273000@townshipofperry.ca
SUMMARY:Emsdale Lions Club Children's Breakfast With Santa
DESCRIPTION:The Emsdale Lions Club cordially invite you to Breakfast with Santa on Saturday December 17 from\n8:30am to 10:30am\n\nPhoto op available with Santa. Mrs. Claus will be on site to help.\n\nPlease RVSP by Wednesday December 14 so Santa knows who is coming.\nName and age of child.\nLion Martin 705-783-6096\nLion Jim 705-783-9163
URL:https://townshipofperry.ca/event/emsdale-lions-club-childrens-breakfast-with-santa/
CATEGORIES:Events
END:VEVENT
BEGIN:VEVENT
DTSTART;TZID=America/Toronto:20221216T083000
DTEND;TZID=America/Toronto:20221216T163000
DTSTAMP:20260424T162009
CREATED:20221122T174736Z
LAST-MODIFIED:20221122T174736Z
UID:5452-1671179400-1671208200@townshipofperry.ca
SUMMARY:Best Decorated Yard and Christmas Light Display
DESCRIPTION:Last Day to Register \nOnce again for 2022\, the Township of Perry’s Recreation and Culture Committee presents “Best Decorated Yard and Best Christmas Light” Display Contest! \nEmail us your address to enter into the contest and to be part of the tour map by Friday December 16\, 2022 to admin@townshipofperry.ca.
URL:https://townshipofperry.ca/event/best-decorated-yard-and-christmas-light-display/
CATEGORIES:Events
END:VEVENT
BEGIN:VEVENT
DTSTART;TZID=America/Toronto:20221215T190000
DTEND;TZID=America/Toronto:20221215T210000
DTSTAMP:20260424T162009
CREATED:20221117T134423Z
LAST-MODIFIED:20221117T134423Z
UID:5435-1671130800-1671138000@townshipofperry.ca
SUMMARY:"Home for the Holidays" Concert - Katrine Community Centre
DESCRIPTION:Home for the Holidays Concert at the Katrine Community Centre \nThursday December 15\, 2022 from 7 p.m. to 9 p.m. \nTickets: $15 \n(Bar and Snacks sold separately) \nTickets are available at the Katrine General Store\, Burk’s Falls Library\, Township of Armour Office\, and Gallery on Main Burk’s Falls.
URL:https://townshipofperry.ca/event/home-for-the-holidays-concert-katrine-community-centre/
CATEGORIES:Events
END:VEVENT
BEGIN:VEVENT
DTSTART;TZID=America/Toronto:20221213T143000
DTEND;TZID=America/Toronto:20221213T163000
DTSTAMP:20260424T162009
CREATED:20220726T143835Z
LAST-MODIFIED:20220726T143835Z
UID:4902-1670941800-1670949000@townshipofperry.ca
SUMMARY:Municipal Office at 2:30 p.m.
DESCRIPTION:The Municipal Office will be closed at 2:30 p.m. for staff training/meeting.
URL:https://townshipofperry.ca/event/municipal-office-at-230-p-m/
CATEGORIES:Meetings
ATTACH;FMTTYPE=image/jpeg:https://townshipofperry.ca/wp-content/uploads/2022/05/TwpPerryLogo-e1652713783977.jpg
END:VEVENT
BEGIN:VEVENT
DTSTART;TZID=America/Toronto:20221210T120000
DTEND;TZID=America/Toronto:20221210T150000
DTSTAMP:20260424T162009
CREATED:20221117T133231Z
LAST-MODIFIED:20221117T133231Z
UID:5430-1670673600-1670684400@townshipofperry.ca
SUMMARY:Novar Firefighter Food Drive
DESCRIPTION:Donations will be collected at Hope’s Clover Farm on Saturday December 10\, 2022\, beginning at 12 noon.
URL:https://townshipofperry.ca/event/novar-firefighter-food-drive/
CATEGORIES:Events
END:VEVENT
BEGIN:VEVENT
DTSTART;TZID=America/Toronto:20221209T160000
DTEND;TZID=America/Toronto:20221209T200000
DTSTAMP:20260424T162009
CREATED:20221123T203510Z
LAST-MODIFIED:20221123T203510Z
UID:5460-1670601600-1670616000@townshipofperry.ca
SUMMARY:Winter Wonderland Christmas Walk
DESCRIPTION:Join Eastholme Home For The Aged Winter Wonderland Christmas Walk on Friday December 9\, 2022 from 4 p.m. to 8 p.m. for an old-fashioned Christmas Market in the front lot and Christmas Walk through their display of lights around the property. Remember to Dress Warm! \n  \nAddress: 62 Big Bend Ave\, Powassan \nDate: Friday December 9 \nTime: 4 p.m. – 8 p.m.
URL:https://townshipofperry.ca/event/winter-wonderland-christmas-walk/
CATEGORIES:Events
END:VEVENT
BEGIN:VEVENT
DTSTART;TZID=America/Toronto:20221207T190000
DTEND;TZID=America/Toronto:20221207T210000
DTSTAMP:20260424T162009
CREATED:20220726T143730Z
LAST-MODIFIED:20220726T143730Z
UID:4900-1670439600-1670446800@townshipofperry.ca
SUMMARY:Council Meeting @ 7 p.m.
DESCRIPTION:Council Meeting @ 7 p.m.
URL:https://townshipofperry.ca/event/council-meeting-7-p-m-15/
CATEGORIES:Meetings
ATTACH;FMTTYPE=image/jpeg:https://townshipofperry.ca/wp-content/uploads/2022/05/TwpPerryLogo-e1652713783977.jpg
END:VEVENT
BEGIN:VEVENT
DTSTART;TZID=America/Toronto:20221207T170000
DTEND;TZID=America/Toronto:20221207T200000
DTSTAMP:20260424T162009
CREATED:20221110T203917Z
LAST-MODIFIED:20221110T203917Z
UID:5410-1670432400-1670443200@townshipofperry.ca
SUMMARY:Firefighter Food Drive - Project Porchlight
DESCRIPTION:Project Porchlight – Please have your non-perishable donation ready for Pick Up by our volunteer firefighters. Pick Up will begin at 5 p.m. \nPick Up will occur in South Almaguin\, including Emsdale. Novar will have a separate donation day. \nMore details to follow.
URL:https://townshipofperry.ca/event/firefighter-food-drive-project-porchlight/
CATEGORIES:Events
END:VEVENT
BEGIN:VEVENT
DTSTART;TZID=America/Toronto:20221206T080000
DTEND;TZID=America/Toronto:20221206T163000
DTSTAMP:20260424T162009
CREATED:20221024T152804Z
LAST-MODIFIED:20221024T152814Z
UID:5317-1670313600-1670344200@townshipofperry.ca
SUMMARY:Change of Hours of Operation - Municipal Office\, Library\, and Transfer Station
DESCRIPTION:NOTICE TO RESIDENTS  \nPlease see below temporary change in Hours of Operation for Tuesday December 6\, 2022: \nTransfer Station \nOPEN: 8 a.m. to 12 p.m. \nMunicipal Office & Library  \nCLOSED: 12 p.m. to 4:30 p.m.
URL:https://townshipofperry.ca/event/change-of-hours-of-operation-municipal-office-library-and-transfer-station/
CATEGORIES:Events,Meetings
ATTACH;FMTTYPE=image/jpeg:https://townshipofperry.ca/wp-content/uploads/2022/05/Office-Closed.jpg
END:VEVENT
BEGIN:VEVENT
DTSTART;TZID=America/Toronto:20221205T190000
DTEND;TZID=America/Toronto:20221205T200000
DTSTAMP:20260424T162009
CREATED:20220726T143647Z
LAST-MODIFIED:20220726T143647Z
UID:4898-1670266800-1670270400@townshipofperry.ca
SUMMARY:Recreation and Culture Committee Meeting @ 7 p.m.
DESCRIPTION:Recreation and Culture Committee Meeting @ 7 p.m.
URL:https://townshipofperry.ca/event/recreation-and-culture-committee-meeting-7-p-m-8/
CATEGORIES:Meetings
ATTACH;FMTTYPE=image/jpeg:https://townshipofperry.ca/wp-content/uploads/2022/05/TwpPerryLogo-e1652713783977.jpg
END:VEVENT
BEGIN:VEVENT
DTSTART;TZID=America/Toronto:20221203T180000
DTEND;TZID=America/Toronto:20221203T200000
DTSTAMP:20260424T162009
CREATED:20221102T145808Z
LAST-MODIFIED:20221102T145829Z
UID:5374-1670090400-1670097600@townshipofperry.ca
SUMMARY:Burk's Falls Santa Claus Parade
DESCRIPTION:Burk’s Falls Santa Claus Parade \nSaturday December 3\, 2022 \n6:30 p.m. \nHutson St. through Ontario St.\, and Yonge St. to the Legion \n  \nTo register a float or decorating contest\, please contact Danika McCann at 705-787-5398 for visit their Facebook Page.
URL:https://townshipofperry.ca/event/burks-falls-santa-claus-parade/
CATEGORIES:Events
END:VEVENT
BEGIN:VEVENT
DTSTART;TZID=America/Toronto:20221203T100000
DTEND;TZID=America/Toronto:20221203T150000
DTSTAMP:20260424T162009
CREATED:20221024T154618Z
LAST-MODIFIED:20221118T135839Z
UID:5325-1670061600-1670079600@townshipofperry.ca
SUMMARY:Burk's Falls & Area Arts Show
DESCRIPTION:POSTPONED Until December 3\, 2022 \nBurk’s Falls Arts and Crafts Club 2nd Art & Craft Show \nKatrine Community Centre \nSaturday November 19 from 10 a.m. to 4 p.m. \nSunday November 20 from 10 a.m. to 2 p.m. \n  \nShow will display the work from 30 club members. \n 
URL:https://townshipofperry.ca/event/burks-falls-area-arts-show/
CATEGORIES:Events
END:VEVENT
END:VCALENDAR