BEGIN:VCALENDAR
VERSION:2.0
PRODID:-//The Township of Perry - ECPv6.15.18//NONSGML v1.0//EN
CALSCALE:GREGORIAN
METHOD:PUBLISH
X-WR-CALNAME:The Township of Perry
X-ORIGINAL-URL:https://townshipofperry.ca
X-WR-CALDESC:Events for The Township of Perry
REFRESH-INTERVAL;VALUE=DURATION:PT1H
X-Robots-Tag:noindex
X-PUBLISHED-TTL:PT1H
BEGIN:VTIMEZONE
TZID:America/Toronto
BEGIN:DAYLIGHT
TZOFFSETFROM:-0500
TZOFFSETTO:-0400
TZNAME:EDT
DTSTART:20210314T070000
END:DAYLIGHT
BEGIN:STANDARD
TZOFFSETFROM:-0400
TZOFFSETTO:-0500
TZNAME:EST
DTSTART:20211107T060000
END:STANDARD
BEGIN:DAYLIGHT
TZOFFSETFROM:-0500
TZOFFSETTO:-0400
TZNAME:EDT
DTSTART:20220313T070000
END:DAYLIGHT
BEGIN:STANDARD
TZOFFSETFROM:-0400
TZOFFSETTO:-0500
TZNAME:EST
DTSTART:20221106T060000
END:STANDARD
BEGIN:DAYLIGHT
TZOFFSETFROM:-0500
TZOFFSETTO:-0400
TZNAME:EDT
DTSTART:20230312T070000
END:DAYLIGHT
BEGIN:STANDARD
TZOFFSETFROM:-0400
TZOFFSETTO:-0500
TZNAME:EST
DTSTART:20231105T060000
END:STANDARD
END:VTIMEZONE
BEGIN:VEVENT
DTSTART;TZID=America/Toronto:20221207T190000
DTEND;TZID=America/Toronto:20221207T210000
DTSTAMP:20260424T225956
CREATED:20220726T143730Z
LAST-MODIFIED:20220726T143730Z
UID:4900-1670439600-1670446800@townshipofperry.ca
SUMMARY:Council Meeting @ 7 p.m.
DESCRIPTION:Council Meeting @ 7 p.m.
URL:https://townshipofperry.ca/event/council-meeting-7-p-m-15/
CATEGORIES:Meetings
ATTACH;FMTTYPE=image/jpeg:https://townshipofperry.ca/wp-content/uploads/2022/05/TwpPerryLogo-e1652713783977.jpg
END:VEVENT
BEGIN:VEVENT
DTSTART;TZID=America/Toronto:20221207T170000
DTEND;TZID=America/Toronto:20221207T200000
DTSTAMP:20260424T225956
CREATED:20221110T203917Z
LAST-MODIFIED:20221110T203917Z
UID:5410-1670432400-1670443200@townshipofperry.ca
SUMMARY:Firefighter Food Drive - Project Porchlight
DESCRIPTION:Project Porchlight – Please have your non-perishable donation ready for Pick Up by our volunteer firefighters. Pick Up will begin at 5 p.m. \nPick Up will occur in South Almaguin\, including Emsdale. Novar will have a separate donation day. \nMore details to follow.
URL:https://townshipofperry.ca/event/firefighter-food-drive-project-porchlight/
CATEGORIES:Events
END:VEVENT
BEGIN:VEVENT
DTSTART;TZID=America/Toronto:20221206T080000
DTEND;TZID=America/Toronto:20221206T163000
DTSTAMP:20260424T225956
CREATED:20221024T152804Z
LAST-MODIFIED:20221024T152814Z
UID:5317-1670313600-1670344200@townshipofperry.ca
SUMMARY:Change of Hours of Operation - Municipal Office\, Library\, and Transfer Station
DESCRIPTION:NOTICE TO RESIDENTS  \nPlease see below temporary change in Hours of Operation for Tuesday December 6\, 2022: \nTransfer Station \nOPEN: 8 a.m. to 12 p.m. \nMunicipal Office & Library  \nCLOSED: 12 p.m. to 4:30 p.m.
URL:https://townshipofperry.ca/event/change-of-hours-of-operation-municipal-office-library-and-transfer-station/
CATEGORIES:Events,Meetings
ATTACH;FMTTYPE=image/jpeg:https://townshipofperry.ca/wp-content/uploads/2022/05/Office-Closed.jpg
END:VEVENT
BEGIN:VEVENT
DTSTART;TZID=America/Toronto:20221205T190000
DTEND;TZID=America/Toronto:20221205T200000
DTSTAMP:20260424T225956
CREATED:20220726T143647Z
LAST-MODIFIED:20220726T143647Z
UID:4898-1670266800-1670270400@townshipofperry.ca
SUMMARY:Recreation and Culture Committee Meeting @ 7 p.m.
DESCRIPTION:Recreation and Culture Committee Meeting @ 7 p.m.
URL:https://townshipofperry.ca/event/recreation-and-culture-committee-meeting-7-p-m-8/
CATEGORIES:Meetings
ATTACH;FMTTYPE=image/jpeg:https://townshipofperry.ca/wp-content/uploads/2022/05/TwpPerryLogo-e1652713783977.jpg
END:VEVENT
BEGIN:VEVENT
DTSTART;TZID=America/Toronto:20221203T180000
DTEND;TZID=America/Toronto:20221203T200000
DTSTAMP:20260424T225956
CREATED:20221102T145808Z
LAST-MODIFIED:20221102T145829Z
UID:5374-1670090400-1670097600@townshipofperry.ca
SUMMARY:Burk's Falls Santa Claus Parade
DESCRIPTION:Burk’s Falls Santa Claus Parade \nSaturday December 3\, 2022 \n6:30 p.m. \nHutson St. through Ontario St.\, and Yonge St. to the Legion \n  \nTo register a float or decorating contest\, please contact Danika McCann at 705-787-5398 for visit their Facebook Page.
URL:https://townshipofperry.ca/event/burks-falls-santa-claus-parade/
CATEGORIES:Events
END:VEVENT
BEGIN:VEVENT
DTSTART;TZID=America/Toronto:20221203T100000
DTEND;TZID=America/Toronto:20221203T150000
DTSTAMP:20260424T225956
CREATED:20221024T154618Z
LAST-MODIFIED:20221118T135839Z
UID:5325-1670061600-1670079600@townshipofperry.ca
SUMMARY:Burk's Falls & Area Arts Show
DESCRIPTION:POSTPONED Until December 3\, 2022 \nBurk’s Falls Arts and Crafts Club 2nd Art & Craft Show \nKatrine Community Centre \nSaturday November 19 from 10 a.m. to 4 p.m. \nSunday November 20 from 10 a.m. to 2 p.m. \n  \nShow will display the work from 30 club members. \n 
URL:https://townshipofperry.ca/event/burks-falls-area-arts-show/
CATEGORIES:Events
END:VEVENT
BEGIN:VEVENT
DTSTART;TZID=America/Toronto:20221203T090000
DTEND;TZID=America/Toronto:20221203T150000
DTSTAMP:20260424T225956
CREATED:20221117T133850Z
LAST-MODIFIED:20221117T133935Z
UID:5432-1670058000-1670079600@townshipofperry.ca
SUMMARY:Sprucedale's "A Handmade Holiday Market"
DESCRIPTION:McMurrich-Monteith Firefighters are hosting a “Handmade Holiday Market” on Saturday December 3\, 2022 from 9 a.m. to 3 p.m. at the Sprucedale Community Centre.
URL:https://townshipofperry.ca/event/sprucedales-a-handmade-holiday-market/
CATEGORIES:Events
END:VEVENT
BEGIN:VEVENT
DTSTART;TZID=America/Toronto:20221202T190000
DTEND;TZID=America/Toronto:20221202T200000
DTSTAMP:20260424T225956
CREATED:20221025T184452Z
LAST-MODIFIED:20221025T184452Z
UID:5342-1670007600-1670011200@townshipofperry.ca
SUMMARY:Trivia Night
DESCRIPTION:Come by and join Trivia Night! \nThe first Friday of the month at 7 p.m. at the Parish of the Good Shepherd Anglican Church in Emsdale (2190 Hwy 592). \nHosted by the Perry Township Public Library and Parish of the Good Shepherd Church. For more information\, contact the Perry Township Public Library at 705-636-5454.
URL:https://townshipofperry.ca/event/trivia-night-2/
CATEGORIES:Events
END:VEVENT
BEGIN:VEVENT
DTSTART;TZID=America/Toronto:20221130T183000
DTEND;TZID=America/Toronto:20221130T200000
DTSTAMP:20260424T225956
CREATED:20221129T183105Z
LAST-MODIFIED:20221129T183227Z
UID:5466-1669833000-1669838400@townshipofperry.ca
SUMMARY:Almaguin Climate Change Action Event
DESCRIPTION:Almaguin Climate Change Action Event \nDate: Wednesday November 30 from 6:30 p.m. to 8 p.m. \nLocation: Burk’s Falls Arena
URL:https://townshipofperry.ca/event/almaguin-climate-change-action-event/
CATEGORIES:Events
ATTACH;FMTTYPE=image/jpeg:https://townshipofperry.ca/wp-content/uploads/2022/05/meeting-group-e1653941141316.jpg
END:VEVENT
BEGIN:VEVENT
DTSTART;TZID=America/Toronto:20221128T173000
DTEND;TZID=America/Toronto:20221128T210000
DTSTAMP:20260424T225956
CREATED:20221101T155855Z
LAST-MODIFIED:20221101T155855Z
UID:5361-1669656600-1669669200@townshipofperry.ca
SUMMARY:4th Annual RED Gala Event
DESCRIPTION:Join the Women’s Own Resource Centre and Almaguin Chamber of Commerce for their 4th Annual RED Gala “Partnership\, Perseverance\, and Prosperity” on Monday November 28\, 2022 at the SSJ Arena (14 Albert St. N.\, Sundridge). Doors open at 5:30 p.m. \nTickets are $20. Please RSVP by November 21\, 2022 at 12 p.m. to info@womensownresource.org \nFor full details\, view the Poster.
URL:https://townshipofperry.ca/event/4th-annual-red-gala-event/
CATEGORIES:Events
END:VEVENT
BEGIN:VEVENT
DTSTART;TZID=America/Toronto:20221126T090000
DTEND;TZID=America/Toronto:20221126T140000
DTSTAMP:20260424T225956
CREATED:20220920T120924Z
LAST-MODIFIED:20220920T120924Z
UID:5140-1669453200-1669471200@townshipofperry.ca
SUMMARY:Emsdale Agricultural Society - Christmas Craft & Goodies Sale
DESCRIPTION:Get the Christmas Shopping started by #FollowtheFarmertotheChristmasSale Gifts Crafts\, Vendors\, Goodies of all types . Light Lunch. Stocking Stuffers\, plus so much more.\n\nNovar Community Centre\, 25 Laurie Street\nSaturday November 26\, 2022\n9 a.m. to 2 p.m.\n\nAll proceeds to remain in the community.\n\nFor more information\, email emsdaleagriculturesociety@gmail.ca (attention Christmas Sale) or visit the Emsdale Agricultural Society Facebook Page.
URL:https://townshipofperry.ca/event/emsdale-agricultural-society-christmas-craft-goodies-sale/
CATEGORIES:Events
END:VEVENT
BEGIN:VEVENT
DTSTART;TZID=America/Toronto:20221126T090000
DTEND;TZID=America/Toronto:20221126T140000
DTSTAMP:20260424T225956
CREATED:20220920T120229Z
LAST-MODIFIED:20220920T120229Z
UID:5138-1669453200-1669471200@townshipofperry.ca
SUMMARY:Emsdale Agricultural Society: Photos with Mr. & Mrs. Claus
DESCRIPTION:The Emsdale Agricultural Society is proud to announce that Mr. and Mrs. Claus will be at the Novar Community Centre on Saturday November 26 from 9 a.m. to 2 p.m. for PHOTOS! To book\, please contact Samantha at 705-571-1122. \nPhoto Sessions will be 20 minute intervals with the cost of $10. Pre-registration required for your photos to be emailed to you. \nVisit the Emsdale Agricultural Society Facebook Page for more information.
URL:https://townshipofperry.ca/event/emsdale-agricultural-society-photos-with-mr-mrs-claus/
CATEGORIES:Events
END:VEVENT
BEGIN:VEVENT
DTSTART;TZID=America/Toronto:20221125T183000
DTEND;TZID=America/Toronto:20221125T203000
DTSTAMP:20260424T225956
CREATED:20221102T150053Z
LAST-MODIFIED:20221102T150053Z
UID:5377-1669401000-1669408200@townshipofperry.ca
SUMMARY:Huntsville Santa Claus Parade
DESCRIPTION:Huntsville Santa Claus Parade \nFriday November 25\, 2022 \n7 p.m. \nMain Street & King William Street\, Huntsville \nFor more information\, visit their website.
URL:https://townshipofperry.ca/event/huntsville-santa-claus-parade/
CATEGORIES:Events
END:VEVENT
BEGIN:VEVENT
DTSTART;TZID=America/Toronto:20221124T080000
DTEND;TZID=America/Toronto:20221124T180000
DTSTAMP:20260424T225956
CREATED:20221024T200959Z
LAST-MODIFIED:20221024T200959Z
UID:5333-1669276800-1669312800@townshipofperry.ca
SUMMARY:Deadline for Board & Committee Applications
DESCRIPTION:Interested in joining one of the Township’s various Boards and Committees? Submit your application by 4 p.m. today\, November 24\, 2022. Information can be found on our Employment Opportunities page.
URL:https://townshipofperry.ca/event/deadline-for-board-committee-applications/
CATEGORIES:Events,Meetings
ATTACH;FMTTYPE=image/jpeg:https://townshipofperry.ca/wp-content/uploads/2022/10/join-us-e1666642152562.jpg
END:VEVENT
BEGIN:VEVENT
DTSTART;TZID=America/Toronto:20221119T090000
DTEND;TZID=America/Toronto:20221119T140000
DTSTAMP:20260424T225956
CREATED:20221024T154016Z
LAST-MODIFIED:20221024T154016Z
UID:5322-1668848400-1668866400@townshipofperry.ca
SUMMARY:Kearney Legion Christmas Bazaar
DESCRIPTION:Join the Kearney Legion Branch 276 (58 Park Road\, Kearney) for their Christmas Bazaar on Saturday November 19\, 2022 from 9 a.m. to 2 p.m.
URL:https://townshipofperry.ca/event/kearney-legion-christmas-bazaar/
CATEGORIES:Events
END:VEVENT
BEGIN:VEVENT
DTSTART;TZID=America/Toronto:20221116T190000
DTEND;TZID=America/Toronto:20221116T210000
DTSTAMP:20260424T225956
CREATED:20220726T143502Z
LAST-MODIFIED:20220726T143502Z
UID:4896-1668625200-1668632400@townshipofperry.ca
SUMMARY:Council Meeting @ 7 p.m.
DESCRIPTION:Council Meeting @ 7 p.m.
URL:https://townshipofperry.ca/event/council-meeting-7-p-m-14/
CATEGORIES:Meetings
ATTACH;FMTTYPE=image/jpeg:https://townshipofperry.ca/wp-content/uploads/2022/05/TwpPerryLogo-e1652713783977.jpg
END:VEVENT
BEGIN:VEVENT
DTSTART;VALUE=DATE:20221115
DTEND;VALUE=DATE:20221116
DTSTAMP:20260424T225956
CREATED:20220726T143426Z
LAST-MODIFIED:20220726T143426Z
UID:4894-1668470400-1668556799@townshipofperry.ca
SUMMARY:New Term of Council Begins
DESCRIPTION:New Term of Council Begins
URL:https://townshipofperry.ca/event/new-term-of-council-begins/
CATEGORIES:Events,Meetings
ATTACH;FMTTYPE=image/jpeg:https://townshipofperry.ca/wp-content/uploads/2022/05/TwpPerryLogo-e1652713783977.jpg
END:VEVENT
BEGIN:VEVENT
DTSTART;TZID=America/Toronto:20221112T090000
DTEND;TZID=America/Toronto:20221112T150000
DTSTAMP:20260424T225956
CREATED:20221102T131851Z
LAST-MODIFIED:20221102T131851Z
UID:5370-1668243600-1668265200@townshipofperry.ca
SUMMARY:Artisan Handcrafted Snowflake Festival
DESCRIPTION:Artisan Handcrafted Snowflake Festival \nWhere: Legacy Centre\, 44 Commercial Drive\, Burk’s Falls \nWhen: Saturday November 12\, 2022 \nTime: 9 a.m. to 3 p.m. \n  \n*Limited vendor spaces are still available. For vendor information\, call 705-203-0115.
URL:https://townshipofperry.ca/event/artisan-handcrafted-snowflake-festival/
CATEGORIES:Events
END:VEVENT
BEGIN:VEVENT
DTSTART;TZID=America/Toronto:20221111T103000
DTEND;TZID=America/Toronto:20221111T130000
DTSTAMP:20260424T225956
CREATED:20221024T153348Z
LAST-MODIFIED:20221024T153348Z
UID:5319-1668162600-1668171600@townshipofperry.ca
SUMMARY:Remembrance Day Services
DESCRIPTION:Remembrance Day Services \n  \nEmsdale Cenotaph (Joseph St\, Emsdale) \nFriday November 11\, 2022 at 10:50 a.m. \n  \nKearney Legion (58 Park Rd\, Kearney) \nFriday November 11\, 2022 at 11 a.m.
URL:https://townshipofperry.ca/event/remembrance-day-services/
CATEGORIES:Events
END:VEVENT
BEGIN:VEVENT
DTSTART;VALUE=DATE:20221111
DTEND;VALUE=DATE:20221112
DTSTAMP:20260424T225956
CREATED:20220726T143351Z
LAST-MODIFIED:20220726T143351Z
UID:4892-1668124800-1668211199@townshipofperry.ca
SUMMARY:All Municipal Buildings Closed
DESCRIPTION:All Municipal Buildings Closed for Remembrance Day.
URL:https://townshipofperry.ca/event/all-municipal-buildings-closed-5/
CATEGORIES:Events,Meetings
ATTACH;FMTTYPE=image/jpeg:https://townshipofperry.ca/wp-content/uploads/2022/05/TwpPerryLogo-e1652713783977.jpg
END:VEVENT
BEGIN:VEVENT
DTSTART;TZID=America/Toronto:20221108T143000
DTEND;TZID=America/Toronto:20221108T163000
DTSTAMP:20260424T225956
CREATED:20220726T143308Z
LAST-MODIFIED:20220726T143308Z
UID:4890-1667917800-1667925000@townshipofperry.ca
SUMMARY:Municipal Office Closed @ 2:30p.m.
DESCRIPTION:The Municipal Office will be closed at 2:30 p.m. for staff training/meeting.
URL:https://townshipofperry.ca/event/municipal-office-closed-230p-m/
CATEGORIES:Meetings
ATTACH;FMTTYPE=image/jpeg:https://townshipofperry.ca/wp-content/uploads/2022/05/TwpPerryLogo-e1652713783977.jpg
END:VEVENT
BEGIN:VEVENT
DTSTART;TZID=America/Toronto:20221107T190000
DTEND;TZID=America/Toronto:20221107T210000
DTSTAMP:20260424T225956
CREATED:20220726T143206Z
LAST-MODIFIED:20220726T143206Z
UID:4888-1667847600-1667854800@townshipofperry.ca
SUMMARY:Recreation and Culture Committee Meeting @ 7 p.m.
DESCRIPTION:Recreation and Culture Committee Meeting @ 7 p.m.
URL:https://townshipofperry.ca/event/recreation-and-culture-committee-meeting-7-p-m-7/
CATEGORIES:Meetings
ATTACH;FMTTYPE=image/jpeg:https://townshipofperry.ca/wp-content/uploads/2022/05/TwpPerryLogo-e1652713783977.jpg
END:VEVENT
BEGIN:VEVENT
DTSTART;VALUE=DATE:20221106
DTEND;VALUE=DATE:20221107
DTSTAMP:20260424T225956
CREATED:20220726T143114Z
LAST-MODIFIED:20220726T143114Z
UID:4885-1667692800-1667779199@townshipofperry.ca
SUMMARY:Time Change: Fall Back
DESCRIPTION:Remember to move your clocks back one-hour. In addition\, check and change the batteries in your smoke detector and carbon monoxide alarms.
URL:https://townshipofperry.ca/event/time-change-fall-back/
CATEGORIES:Events
END:VEVENT
BEGIN:VEVENT
DTSTART;TZID=America/Toronto:20221105T090000
DTEND;TZID=America/Toronto:20221105T163000
DTSTAMP:20260424T225956
CREATED:20221017T121020Z
LAST-MODIFIED:20221017T121020Z
UID:5270-1667638800-1667665800@townshipofperry.ca
SUMMARY:Hate Free Muskoka Seminar Event
DESCRIPTION:Join a panel of 4 experts and participate to “Recognize and Respond to Hate in Our Community: An Event to Prevent Hate” \nWhere: Rene M. Caisse Theatre\, Bracebridge \nWhen: Saturday November 5\, 2022 \nTime: 9 a.m. to 4:30 p.m. \nLunch is included. Registration is optional\, but encouraged. Families welcome. \nFor more information\, view the poster. \n 
URL:https://townshipofperry.ca/event/hate-free-muskoka-seminar-event/
CATEGORIES:Events
END:VEVENT
BEGIN:VEVENT
DTSTART;TZID=America/Toronto:20221104T190000
DTEND;TZID=America/Toronto:20221104T200000
DTSTAMP:20260424T225956
CREATED:20221025T184413Z
LAST-MODIFIED:20221025T184413Z
UID:5339-1667588400-1667592000@townshipofperry.ca
SUMMARY:Trivia Night
DESCRIPTION:Come by and join Trivia Night! \nThe first Friday of the month at 7 p.m. at the Parish of the Good Shepherd Anglican Church in Emsdale (2190 Hwy 592). \nHosted by the Perry Township Public Library and Parish of the Good Shepherd Church. For more information\, contact the Perry Township Public Library at 705-636-5454.
URL:https://townshipofperry.ca/event/trivia-night/
CATEGORIES:Events
END:VEVENT
BEGIN:VEVENT
DTSTART;TZID=America/Toronto:20221102T190000
DTEND;TZID=America/Toronto:20221102T210000
DTSTAMP:20260424T225956
CREATED:20220726T142856Z
LAST-MODIFIED:20220726T142856Z
UID:4883-1667415600-1667422800@townshipofperry.ca
SUMMARY:Council Meeting @ 7 p.m.
DESCRIPTION:Council Meeting @ 7 p.m.
URL:https://townshipofperry.ca/event/council-meeting-7-p-m-13/
CATEGORIES:Meetings
ATTACH;FMTTYPE=image/jpeg:https://townshipofperry.ca/wp-content/uploads/2022/05/TwpPerryLogo-e1652713783977.jpg
END:VEVENT
BEGIN:VEVENT
DTSTART;VALUE=DATE:20221101
DTEND;VALUE=DATE:20221108
DTSTAMP:20260424T225956
CREATED:20221101T150000Z
LAST-MODIFIED:20221101T150011Z
UID:5357-1667260800-1667865599@townshipofperry.ca
SUMMARY:Carbon Monoxide Awareness Week
DESCRIPTION:November 1-7 is Carbon Monoxide Awareness Week across Ontario. For more information\, visit our Fire Department Page.
URL:https://townshipofperry.ca/event/carbon-monoxide-awareness-week-8/
CATEGORIES:Events
ATTACH;FMTTYPE=image/png:https://townshipofperry.ca/wp-content/uploads/2022/11/Screen-Shot-2019-11-04-at-4.44.30-AM-e1667314789162.png
END:VEVENT
BEGIN:VEVENT
DTSTART;VALUE=DATE:20221101
DTEND;VALUE=DATE:20221102
DTSTAMP:20260424T225956
CREATED:20221101T134732Z
LAST-MODIFIED:20221101T134732Z
UID:5354-1667260800-1667347199@townshipofperry.ca
SUMMARY:Daytime Burning Now Permitted
DESCRIPTION:Daytime Burning is permitted between November 1 and March 31. For more information\, visit our Fire Rating page.
URL:https://townshipofperry.ca/event/daytime-burning-now-permitted/
CATEGORIES:Events
ATTACH;FMTTYPE=image/jpeg:https://townshipofperry.ca/wp-content/uploads/2022/07/2020-05-22-Perry-Public_Notice-e1658756234566.jpg
END:VEVENT
BEGIN:VEVENT
DTSTART;TZID=America/Toronto:20221031T170000
DTEND;TZID=America/Toronto:20221031T193000
DTSTAMP:20260424T225956
CREATED:20220726T142649Z
LAST-MODIFIED:20221004T114246Z
UID:4881-1667235600-1667244600@townshipofperry.ca
SUMMARY:Halloween for Hunger
DESCRIPTION:The Emsdale Agricultural Society\, Emsdale Lions Club\, and Perry Recreation and Culture Committee invites you to join them on Monday October 31\, 2022 from 5 p.m. to 7:30 p.m. for HALLOWEEN FOR HUNGER. \nLocations will be at the Novar Community Centre (25 Laurie Street) and the Good Parish Anglican Church in Emsdale (2190 Hwy 592). \nAccepting canned goods for the Food Bank. Hot Dogs & Hot Chocolate will be available at both locations. \nView the poster!
URL:https://townshipofperry.ca/event/halloween/
CATEGORIES:Events
END:VEVENT
BEGIN:VEVENT
DTSTART;TZID=America/Toronto:20221030T153000
DTEND;TZID=America/Toronto:20221030T163000
DTSTAMP:20260424T225956
CREATED:20221004T115447Z
LAST-MODIFIED:20221004T115447Z
UID:5216-1667143800-1667147400@townshipofperry.ca
SUMMARY:Novar Park Pick Up Basketball
DESCRIPTION:Come join Councillor Joe Lumley Sunday evenings this fall at the Novar Community Park for basketball fun! \nGames will be played on Sunday nights (weather permitting) starting September 18th. All ages are welcome\, and the games will run from 3:30 p.m. to 4:30 p.m. \nPlease note this is not an organized sport program\, but simply a show up and play system. Hope to see you there! \nPick Up Basketball Poster
URL:https://townshipofperry.ca/event/novar-park-pick-up-basketball-4/
CATEGORIES:Events
ATTACH;FMTTYPE=image/jpeg:https://townshipofperry.ca/wp-content/uploads/2022/09/Basketball.jpg
END:VEVENT
END:VCALENDAR