BEGIN:VCALENDAR
VERSION:2.0
PRODID:-//The Township of Perry - ECPv6.15.18//NONSGML v1.0//EN
CALSCALE:GREGORIAN
METHOD:PUBLISH
X-WR-CALNAME:The Township of Perry
X-ORIGINAL-URL:https://townshipofperry.ca
X-WR-CALDESC:Events for The Township of Perry
REFRESH-INTERVAL;VALUE=DURATION:PT1H
X-Robots-Tag:noindex
X-PUBLISHED-TTL:PT1H
BEGIN:VTIMEZONE
TZID:America/Toronto
BEGIN:DAYLIGHT
TZOFFSETFROM:-0500
TZOFFSETTO:-0400
TZNAME:EDT
DTSTART:20230312T070000
END:DAYLIGHT
BEGIN:STANDARD
TZOFFSETFROM:-0400
TZOFFSETTO:-0500
TZNAME:EST
DTSTART:20231105T060000
END:STANDARD
BEGIN:DAYLIGHT
TZOFFSETFROM:-0500
TZOFFSETTO:-0400
TZNAME:EDT
DTSTART:20240310T070000
END:DAYLIGHT
BEGIN:STANDARD
TZOFFSETFROM:-0400
TZOFFSETTO:-0500
TZNAME:EST
DTSTART:20241103T060000
END:STANDARD
BEGIN:DAYLIGHT
TZOFFSETFROM:-0500
TZOFFSETTO:-0400
TZNAME:EDT
DTSTART:20250309T070000
END:DAYLIGHT
BEGIN:STANDARD
TZOFFSETFROM:-0400
TZOFFSETTO:-0500
TZNAME:EST
DTSTART:20251102T060000
END:STANDARD
END:VTIMEZONE
BEGIN:VEVENT
DTSTART;TZID=America/Toronto:20241202T190000
DTEND;TZID=America/Toronto:20241202T200000
DTSTAMP:20260423T214940
CREATED:20240827T150626Z
LAST-MODIFIED:20240827T150626Z
UID:8339-1733166000-1733169600@townshipofperry.ca
SUMMARY:Recreation and Culture Committee Meeting @ 7pm
DESCRIPTION:Recreation and Culture Committee Meeting @ 7pm
URL:https://townshipofperry.ca/event/recreation-and-culture-committee-meeting-7pm-7/
CATEGORIES:Meetings
ATTACH;FMTTYPE=image/jpeg:https://townshipofperry.ca/wp-content/uploads/2022/05/TwpPerryLogo-e1652713783977.jpg
END:VEVENT
BEGIN:VEVENT
DTSTART;TZID=America/Toronto:20241201T170000
DTEND;TZID=America/Toronto:20241201T190000
DTSTAMP:20260423T214940
CREATED:20241118T182806Z
LAST-MODIFIED:20241121T161757Z
UID:8797-1733072400-1733079600@townshipofperry.ca
SUMMARY:Emsdale Park - Christmas Tree Lighting Ceremony
DESCRIPTION:SAVE THE DATE!\n\n\n\nJoin the Perry Township Recreation & Culture Committee for their first annual Christmas Tree Lighting Ceremony – in both Emsdale and Novar.\n\n\n\nSunday December 1\, 2024: Emsdale Tree Lighting – Emsdale Community Park\, 5PM-7PM\n\n\n\nSunday December 7\, 2024: Novar Tree Lighting – Novar Community Park\, 5PM-7 PM\n\n\n\nMore details to follow!
URL:https://townshipofperry.ca/event/emsdale-park-christmas-tree-lighting-ceremony/
CATEGORIES:Events
END:VEVENT
BEGIN:VEVENT
DTSTART;TZID=America/Toronto:20241130T180000
DTEND;TZID=America/Toronto:20241130T230000
DTSTAMP:20260423T214940
CREATED:20240925T145332Z
LAST-MODIFIED:20240925T145337Z
UID:8525-1732989600-1733007600@townshipofperry.ca
SUMMARY:Armour Gala
DESCRIPTION:Amour Gala \nSaturday November 30\, 2024 \n6PM \nFor more information please visit the Katrine Community Centre Facebook Page.
URL:https://townshipofperry.ca/event/amour-gala/
CATEGORIES:Events
END:VEVENT
BEGIN:VEVENT
DTSTART;TZID=America/Toronto:20241130T110000
DTEND;TZID=America/Toronto:20241130T200000
DTSTAMP:20260423T214940
CREATED:20240912T142902Z
LAST-MODIFIED:20240912T142902Z
UID:8460-1732964400-1732996800@townshipofperry.ca
SUMMARY:Muskoka Christmas Market - Downtown Huntsville
DESCRIPTION:Muskoka Christmas Market – Downtown Huntsville \nMain Street\, Huntsville \n 
URL:https://townshipofperry.ca/event/muskoka-christmas-market-downtown-huntsville/
CATEGORIES:Events
END:VEVENT
BEGIN:VEVENT
DTSTART;TZID=America/Toronto:20241130T100000
DTEND;TZID=America/Toronto:20241130T140000
DTSTAMP:20260423T214940
CREATED:20241121T162122Z
LAST-MODIFIED:20241121T162122Z
UID:8846-1732960800-1732975200@townshipofperry.ca
SUMMARY:Kids Craft: Decorate Christmas Ornament
DESCRIPTION:Kids Craft: Decorate Christmas Ornament \nSaturday November 30\, 2024 \nEmsdale Community Centre\, 10AM to 2PM \nFREE to attend
URL:https://townshipofperry.ca/event/kids-craft-decorate-christmas-ornament/
CATEGORIES:Events
END:VEVENT
BEGIN:VEVENT
DTSTART;TZID=America/Toronto:20241130T100000
DTEND;TZID=America/Toronto:20241130T140000
DTSTAMP:20260423T214940
CREATED:20241104T212505Z
LAST-MODIFIED:20241104T212505Z
UID:8746-1732960800-1732975200@townshipofperry.ca
SUMMARY:Kearney's Christmas Fun Fair
DESCRIPTION:Kearney’s Christmas Fun Fair \nSaturday November 30\, 2024 \nKearney Community Centre \n9AM to 2PM
URL:https://townshipofperry.ca/event/kearneys-christmas-fun-fair/
CATEGORIES:Events
END:VEVENT
BEGIN:VEVENT
DTSTART;TZID=America/Toronto:20241130T100000
DTEND;TZID=America/Toronto:20241130T140000
DTSTAMP:20260423T214940
CREATED:20240924T124315Z
LAST-MODIFIED:20241022T132227Z
UID:8490-1732960800-1732975200@townshipofperry.ca
SUMMARY:Emsdale Agricultural Soceity Christmas Craft Sale
DESCRIPTION:Christmas Craft Sale \nEmsdale Community Centre \nSaturday November 30 from 10 AM to 2 PM \n 
URL:https://townshipofperry.ca/event/christmas-craft-sale/
CATEGORIES:Events
END:VEVENT
BEGIN:VEVENT
DTSTART;TZID=America/Toronto:20241129T190000
DTEND;TZID=America/Toronto:20241129T210000
DTSTAMP:20260423T214940
CREATED:20241009T171437Z
LAST-MODIFIED:20241009T171437Z
UID:8607-1732906800-1732914000@townshipofperry.ca
SUMMARY:Huntsville Santa Claus Parade
DESCRIPTION:Huntsville Santa Claus Parade \nFriday November 29\, starting at 7 PM \nMain Street\, Huntsville
URL:https://townshipofperry.ca/event/huntsville-santa-claus-parade-3/
CATEGORIES:Events
END:VEVENT
BEGIN:VEVENT
DTSTART;TZID=America/Toronto:20241129T120000
DTEND;TZID=America/Toronto:20241129T163000
DTSTAMP:20260423T214940
CREATED:20241118T130322Z
LAST-MODIFIED:20241118T130322Z
UID:8791-1732881600-1732897800@townshipofperry.ca
SUMMARY:All Municipal Facilities Closed @ 12 PM - Staff Holiday Luncheon
DESCRIPTION:Notice \nThe Municipal Office\, Transfer Station\, and Library will be CLOSED on Friday November 29\, 2024 from 12 PM to 4:30PM for our annual Staff Holiday Gathering.
URL:https://townshipofperry.ca/event/all-municipal-facilities-closed-12-pm-staff-holiday-luncheon/
CATEGORIES:Events,Meetings
END:VEVENT
BEGIN:VEVENT
DTSTART;VALUE=DATE:20241129
DTEND;VALUE=DATE:20241201
DTSTAMP:20260423T214940
CREATED:20240912T142035Z
LAST-MODIFIED:20240912T142035Z
UID:8454-1732838400-1733011199@townshipofperry.ca
SUMMARY:Burk's Falls Holiday Craft Market
DESCRIPTION:Burk’s Falls Holiday Craft Market \nArena\, Burk’s Falls \nFriday November 29 & Saturday November 30
URL:https://townshipofperry.ca/event/burks-falls-holiday-craft-market/
CATEGORIES:Events
END:VEVENT
BEGIN:VEVENT
DTSTART;TZID=America/Toronto:20241128T130000
DTEND;TZID=America/Toronto:20241128T140000
DTSTAMP:20260423T214940
CREATED:20241104T212251Z
LAST-MODIFIED:20241104T212251Z
UID:8744-1732798800-1732802400@townshipofperry.ca
SUMMARY:Adult Book Club
DESCRIPTION:Adult Book Club \nContact the Library at 705-636-5454.
URL:https://townshipofperry.ca/event/adult-book-club-5/
CATEGORIES:Events
ATTACH;FMTTYPE=image/jpeg:https://townshipofperry.ca/wp-content/uploads/2024/01/book-club.jpg
END:VEVENT
BEGIN:VEVENT
DTSTART;TZID=America/Toronto:20241128T120000
DTEND;TZID=America/Toronto:20241128T140000
DTSTAMP:20260423T214940
CREATED:20241112T142003Z
LAST-MODIFIED:20241112T142003Z
UID:8771-1732795200-1732802400@townshipofperry.ca
SUMMARY:Emsdale Seniors Luncheon
DESCRIPTION:Emsdale Seniors Luncheon \nThursday November 28 \nEmsdale Community Centre\, 25 Joseph Street\, Emsdale \n$10 per person \nCall to register to reserve your sport at 705-724-6028.
URL:https://townshipofperry.ca/event/emsdale-seniors-luncheon-6/
CATEGORIES:Events
END:VEVENT
BEGIN:VEVENT
DTSTART;TZID=America/Toronto:20241123T110000
DTEND;TZID=America/Toronto:20241123T113000
DTSTAMP:20260423T214940
CREATED:20241104T211744Z
LAST-MODIFIED:20241104T211744Z
UID:8738-1732359600-1732361400@townshipofperry.ca
SUMMARY:Knit & Crochet Club
DESCRIPTION:Knit & Crochet Club \nContact the Library at 705-636-5454.
URL:https://townshipofperry.ca/event/knit-crochet-club/
CATEGORIES:Events
ATTACH;FMTTYPE=image/jpeg:https://townshipofperry.ca/wp-content/uploads/2024/01/crochest.jpg
END:VEVENT
BEGIN:VEVENT
DTSTART;TZID=America/Toronto:20241123T100000
DTEND;TZID=America/Toronto:20241123T150000
DTSTAMP:20260423T214940
CREATED:20241022T145049Z
LAST-MODIFIED:20241022T145049Z
UID:8662-1732356000-1732374000@townshipofperry.ca
SUMMARY:Burk's Falls Art Club Christmas Sale
DESCRIPTION:Burk’s Falls Art Club Christmas Sale \nSaturday November 23 \nBurk’s Falls Legion\, 9 Mary Street \n10AM to 3PM
URL:https://townshipofperry.ca/event/burks-falls-art-club-christmas-sale/
CATEGORIES:Events
END:VEVENT
BEGIN:VEVENT
DTSTART;TZID=America/Toronto:20241123T090000
DTEND;TZID=America/Toronto:20241123T150000
DTSTAMP:20260423T214940
CREATED:20240912T144457Z
LAST-MODIFIED:20240912T144457Z
UID:8462-1732352400-1732374000@townshipofperry.ca
SUMMARY:Sundridge Christmas Vendor Market
DESCRIPTION:Sundridge Christmas Vendor Market \nSaturday November 23\, 2024
URL:https://townshipofperry.ca/event/sundridge-christmas-vendor-market/
CATEGORIES:Events
END:VEVENT
BEGIN:VEVENT
DTSTART;TZID=America/Toronto:20241122T190000
DTEND;TZID=America/Toronto:20241122T200000
DTSTAMP:20260423T214940
CREATED:20240930T144107Z
LAST-MODIFIED:20240930T144107Z
UID:8550-1732302000-1732305600@townshipofperry.ca
SUMMARY:Adult Craft Night @ Library "Wreath Making"
DESCRIPTION:Adult Craft Night @ Library “Wreath Making” \n$25 per person \nContact the Library for more information at 705-636-5454.
URL:https://townshipofperry.ca/event/adult-craft-night-library-wreath-making/
CATEGORIES:Events
END:VEVENT
BEGIN:VEVENT
DTSTART;TZID=America/Toronto:20241121T160000
DTEND;TZID=America/Toronto:20241121T180000
DTSTAMP:20260423T214940
CREATED:20241120T143931Z
LAST-MODIFIED:20241120T143931Z
UID:8813-1732204800-1732212000@townshipofperry.ca
SUMMARY:2024 Christmas Light & Decoration Contest OPEN
DESCRIPTION:2024 Christmas Light & Decoration Contest OPEN \nRegister by Wednesday December 11\, 2024 to participate! Free to register **open to Perry Residents Only \nEmail: admin@townshipofperry.ca
URL:https://townshipofperry.ca/event/2024-christmas-light-decoration-contest-open/
CATEGORIES:Events
END:VEVENT
BEGIN:VEVENT
DTSTART;TZID=America/Toronto:20241121T153000
DTEND;TZID=America/Toronto:20241121T160000
DTSTAMP:20260423T214940
CREATED:20241104T211504Z
LAST-MODIFIED:20241104T211504Z
UID:8734-1732203000-1732204800@townshipofperry.ca
SUMMARY:Gaming Club
DESCRIPTION:Gaming Club \nContact the Library at 705-636-5454.
URL:https://townshipofperry.ca/event/gaming-club-3/
CATEGORIES:Events
ATTACH;FMTTYPE=image/jpeg:https://townshipofperry.ca/wp-content/uploads/2024/01/game-night.jpg
END:VEVENT
BEGIN:VEVENT
DTSTART;TZID=America/Toronto:20241120T190000
DTEND;TZID=America/Toronto:20241120T203000
DTSTAMP:20260423T214940
CREATED:20240827T145918Z
LAST-MODIFIED:20240827T145918Z
UID:8327-1732129200-1732134600@townshipofperry.ca
SUMMARY:Council Meeting @ 7pm
DESCRIPTION:Council Meeting @ 7pm
URL:https://townshipofperry.ca/event/council-meeting-7pm-11/
CATEGORIES:Meetings
ATTACH;FMTTYPE=image/jpeg:https://townshipofperry.ca/wp-content/uploads/2022/05/TwpPerryLogo-e1652713783977.jpg
END:VEVENT
BEGIN:VEVENT
DTSTART;TZID=America/Toronto:20241120T160000
DTEND;TZID=America/Toronto:20241120T163000
DTSTAMP:20260423T214940
CREATED:20241030T132110Z
LAST-MODIFIED:20241030T132110Z
UID:8698-1732118400-1732120200@townshipofperry.ca
SUMMARY:Deadline to Apply for Library Board
DESCRIPTION:Today\, November 20 at 4pm\, is the deadline to apply to join the Perry Township Public Library Board (1 position available) \nVisit Municipal Services – Employment Opportunities to download the application form and additional information.
URL:https://townshipofperry.ca/event/deadline-to-apply-for-library-board/
CATEGORIES:Events,Meetings
END:VEVENT
BEGIN:VEVENT
DTSTART;TZID=America/Toronto:20241116T100000
DTEND;TZID=America/Toronto:20241116T140000
DTSTAMP:20260423T214940
CREATED:20240925T145509Z
LAST-MODIFIED:20240925T145509Z
UID:8528-1731751200-1731765600@townshipofperry.ca
SUMMARY:Armour Rec Annual Christmas Market
DESCRIPTION:Armour Rec Annual Christmas Market \nSaturday November 16\, 2024 \nKatrine Community Centre \n10AM-2PM \nFor more information please visit the Katrine Community Centre Facebook Page.
URL:https://townshipofperry.ca/event/armour-rec-annual-christmas-market/
CATEGORIES:Events
END:VEVENT
BEGIN:VEVENT
DTSTART;TZID=America/Toronto:20241116T090000
DTEND;TZID=America/Toronto:20241116T160000
DTSTAMP:20260423T214940
CREATED:20241010T115542Z
LAST-MODIFIED:20241010T115542Z
UID:8616-1731747600-1731772800@townshipofperry.ca
SUMMARY:Huntsville Legion Christmas Market
DESCRIPTION:Huntsville Legion Christmas Market \nSaturday November 16: 9AM to 4PM \nHuntsville Legion
URL:https://townshipofperry.ca/event/huntsville-legion-christmas-market/
CATEGORIES:Events
END:VEVENT
BEGIN:VEVENT
DTSTART;TZID=America/Toronto:20241116T090000
DTEND;TZID=America/Toronto:20241116T140000
DTSTAMP:20260423T214940
CREATED:20240930T142751Z
LAST-MODIFIED:20240930T142751Z
UID:8537-1731747600-1731765600@townshipofperry.ca
SUMMARY:Kearney Legion Christmas Bazaar
DESCRIPTION:Kearney Legion Christmas Bazaar \nSaturday November 16\, 2024 \n9AM to 2PM \n 
URL:https://townshipofperry.ca/event/kearney-legion-christmas-bazaar-2/
CATEGORIES:Events
END:VEVENT
BEGIN:VEVENT
DTSTART;TZID=America/Toronto:20241115T100000
DTEND;TZID=America/Toronto:20241115T120000
DTSTAMP:20260423T214940
CREATED:20240930T144208Z
LAST-MODIFIED:20241113T130114Z
UID:8552-1731664800-1731672000@townshipofperry.ca
SUMMARY:PA Day Movie @ Library Showing 'Paddington (2014)'
DESCRIPTION:PA Day Movie @ Library \nContact the Library for more information at 705-636-5454.
URL:https://townshipofperry.ca/event/pa-day-movie-library-2/
CATEGORIES:Events
END:VEVENT
BEGIN:VEVENT
DTSTART;TZID=America/Toronto:20241114T153000
DTEND;TZID=America/Toronto:20241114T160000
DTSTAMP:20260423T214940
CREATED:20241104T211404Z
LAST-MODIFIED:20241104T211404Z
UID:8732-1731598200-1731600000@townshipofperry.ca
SUMMARY:Lego Club
DESCRIPTION:Lego Club \nContact the Library at 705-636-5454.
URL:https://townshipofperry.ca/event/lego-club-6/
CATEGORIES:Events
ATTACH;FMTTYPE=image/jpeg:https://townshipofperry.ca/wp-content/uploads/2024/01/lego.jpg
END:VEVENT
BEGIN:VEVENT
DTSTART;TZID=America/Toronto:20241113T190000
DTEND;TZID=America/Toronto:20241113T200000
DTSTAMP:20260423T214940
CREATED:20240827T154740Z
LAST-MODIFIED:20240827T155007Z
UID:8343-1731524400-1731528000@townshipofperry.ca
SUMMARY:Library Board Meeting @ 7pm
DESCRIPTION:Library Board Meeting @ 7pm
URL:https://townshipofperry.ca/event/library-board-meeting-7pm-4/
CATEGORIES:Meetings
ATTACH;FMTTYPE=image/jpeg:https://townshipofperry.ca/wp-content/uploads/2023/03/PerryTownshipLibrary-e1678111660835.jpg
END:VEVENT
BEGIN:VEVENT
DTSTART;VALUE=DATE:20241112
DTEND;VALUE=DATE:20241117
DTSTAMP:20260423T214940
CREATED:20241104T211920Z
LAST-MODIFIED:20241112T142402Z
UID:8740-1731369600-1731801599@townshipofperry.ca
SUMMARY:Letters to Santa at the Library!
DESCRIPTION:Letters to Santa at the Library. \nStop by the library during regular hours and write your letter to Santa. Contact the Library for information at 705-636-5454.
URL:https://townshipofperry.ca/event/letters-to-santa-at-the-library/
CATEGORIES:Events
END:VEVENT
BEGIN:VEVENT
DTSTART;TZID=America/Toronto:20241111T110000
DTEND;TZID=America/Toronto:20241111T123000
DTSTAMP:20260423T214940
CREATED:20241002T152156Z
LAST-MODIFIED:20241002T152156Z
UID:8560-1731322800-1731328200@townshipofperry.ca
SUMMARY:Remembrance Day Service - Kearney Legion
DESCRIPTION:Remembrance Day Service – Kearney Legion \nMonday November 11\, 2024 @ 11 AM \n58 Park Street\, Kearney
URL:https://townshipofperry.ca/event/remembrance-day-service-kearney-legion/
CATEGORIES:Events
END:VEVENT
BEGIN:VEVENT
DTSTART;TZID=America/Toronto:20241111T110000
DTEND;TZID=America/Toronto:20241111T113000
DTSTAMP:20260423T214940
CREATED:20241030T120448Z
LAST-MODIFIED:20241030T120448Z
UID:8692-1731322800-1731324600@townshipofperry.ca
SUMMARY:Remembrance Day Service - Emsdale Cenotaph
DESCRIPTION:Remembrance Day Service – Emsdale Cenotaph (near 25 Joseph St) \nMonday November 11 \n10:55 AM
URL:https://townshipofperry.ca/event/remembrance-day-service-emsdale-cenotaph/
CATEGORIES:Events
END:VEVENT
BEGIN:VEVENT
DTSTART;VALUE=DATE:20241111
DTEND;VALUE=DATE:20241112
DTSTAMP:20260423T214940
CREATED:20241002T152338Z
LAST-MODIFIED:20241022T132051Z
UID:8562-1731283200-1731369599@townshipofperry.ca
SUMMARY:All Municipal Buildings CLOSED
DESCRIPTION:All Municipal Buildings CLOSED in honour of Remembrance Day \nThe Library\, Municipal Office\, Information Centre\, and Transfer Station will be CLOSED on Monday November 11.
URL:https://townshipofperry.ca/event/all-municipal-buildings-closed-8/
CATEGORIES:Events,Meetings
END:VEVENT
END:VCALENDAR