BEGIN:VCALENDAR
VERSION:2.0
PRODID:-//The Township of Perry - ECPv6.15.18//NONSGML v1.0//EN
CALSCALE:GREGORIAN
METHOD:PUBLISH
X-WR-CALNAME:The Township of Perry
X-ORIGINAL-URL:https://townshipofperry.ca
X-WR-CALDESC:Events for The Township of Perry
REFRESH-INTERVAL;VALUE=DURATION:PT1H
X-Robots-Tag:noindex
X-PUBLISHED-TTL:PT1H
BEGIN:VTIMEZONE
TZID:America/Toronto
BEGIN:DAYLIGHT
TZOFFSETFROM:-0500
TZOFFSETTO:-0400
TZNAME:EDT
DTSTART:20210314T070000
END:DAYLIGHT
BEGIN:STANDARD
TZOFFSETFROM:-0400
TZOFFSETTO:-0500
TZNAME:EST
DTSTART:20211107T060000
END:STANDARD
BEGIN:DAYLIGHT
TZOFFSETFROM:-0500
TZOFFSETTO:-0400
TZNAME:EDT
DTSTART:20220313T070000
END:DAYLIGHT
BEGIN:STANDARD
TZOFFSETFROM:-0400
TZOFFSETTO:-0500
TZNAME:EST
DTSTART:20221106T060000
END:STANDARD
BEGIN:DAYLIGHT
TZOFFSETFROM:-0500
TZOFFSETTO:-0400
TZNAME:EDT
DTSTART:20230312T070000
END:DAYLIGHT
BEGIN:STANDARD
TZOFFSETFROM:-0400
TZOFFSETTO:-0500
TZNAME:EST
DTSTART:20231105T060000
END:STANDARD
END:VTIMEZONE
BEGIN:VTIMEZONE
TZID:UTC
BEGIN:STANDARD
TZOFFSETFROM:+0000
TZOFFSETTO:+0000
TZNAME:UTC
DTSTART:20210101T000000
END:STANDARD
END:VTIMEZONE
BEGIN:VEVENT
DTSTART;TZID=America/Toronto:20221011T143000
DTEND;TZID=America/Toronto:20221011T163000
DTSTAMP:20260425T112837
CREATED:20220726T142028Z
LAST-MODIFIED:20220726T142539Z
UID:4873-1665498600-1665505800@townshipofperry.ca
SUMMARY:Municipal Office CLOSED @ 2:30 p.m.
DESCRIPTION:The Municipal Office will be CLOSED at 2:30 p.m. for staff meeting/training.
URL:https://townshipofperry.ca/event/municipal-office-closed-230-p-m-5/
CATEGORIES:Meetings
ATTACH;FMTTYPE=image/jpeg:https://townshipofperry.ca/wp-content/uploads/2022/05/TwpPerryLogo-e1652713783977.jpg
END:VEVENT
BEGIN:VEVENT
DTSTART;TZID=America/Toronto:20221010T080000
DTEND;TZID=America/Toronto:20221010T160000
DTSTAMP:20260425T112837
CREATED:20220726T141936Z
LAST-MODIFIED:20220726T141936Z
UID:4871-1665388800-1665417600@townshipofperry.ca
SUMMARY:Transfer Station OPEN
DESCRIPTION:The Transfer Station is OPEN today from 8 a.m. to 4 p.m.
URL:https://townshipofperry.ca/event/transfer-station-open/
CATEGORIES:Events,Meetings
ATTACH;FMTTYPE=image/jpeg:https://townshipofperry.ca/wp-content/uploads/2022/05/TwpPerryLogo-e1652713783977.jpg
END:VEVENT
BEGIN:VEVENT
DTSTART;VALUE=DATE:20221010
DTEND;VALUE=DATE:20221011
DTSTAMP:20260425T112837
CREATED:20220726T141851Z
LAST-MODIFIED:20220726T141851Z
UID:4869-1665360000-1665446399@townshipofperry.ca
SUMMARY:Municipal Office and Library CLOSED
DESCRIPTION:The Municipal Office and Library are CLOSED for Thanksgiving. The Transfer Station is open from 8 a.m. to 4 p.m.
URL:https://townshipofperry.ca/event/municipal-office-and-library-closed-3/
CATEGORIES:Events,Meetings
ATTACH;FMTTYPE=image/jpeg:https://townshipofperry.ca/wp-content/uploads/2022/05/TwpPerryLogo-e1652713783977.jpg
END:VEVENT
BEGIN:VEVENT
DTSTART;TZID=America/Toronto:20221009T153000
DTEND;TZID=America/Toronto:20221009T163000
DTSTAMP:20260425T112837
CREATED:20220916T201156Z
LAST-MODIFIED:20221004T115120Z
UID:5159-1665329400-1665333000@townshipofperry.ca
SUMMARY:CANCELLED Novar Park Pick Up Basketball
DESCRIPTION:DUE TO THANKSGIVING WEEKEND \nCome join Councillor Joe Lumley Sunday evenings this fall at the Novar Community Park for basketball fun! \nGames will be played on Sunday nights (weather permitting) starting September 18th. All ages are welcome\, and the games will run from 3:30 p.m. to 4:30 p.m. \nPlease note this is not an organized sport program\, but simply a show up and play system. Hope to see you there! \nPick Up Basketball Poster \n 
URL:https://townshipofperry.ca/event/novar-park-pick-up-basketball-2022-10-09/
CATEGORIES:Events
ATTACH;FMTTYPE=image/jpeg:https://townshipofperry.ca/wp-content/uploads/2022/09/Basketball.jpg
END:VEVENT
BEGIN:VEVENT
DTSTART;VALUE=DATE:20221009
DTEND;VALUE=DATE:20221016
DTSTAMP:20260425T112837
CREATED:20220726T141755Z
LAST-MODIFIED:20221004T120248Z
UID:4867-1665273600-1665878399@townshipofperry.ca
SUMMARY:Fire Prevention Week
DESCRIPTION:Fire Prevention Week runs from October 9\, 2022 to October 15\, 2022. Visit our Fire Department Page for more information.
URL:https://townshipofperry.ca/event/fire-prevention-week/
CATEGORIES:Events,Meetings
END:VEVENT
BEGIN:VEVENT
DTSTART;TZID=America/Toronto:20221008T100000
DTEND;TZID=America/Toronto:20221008T140000
DTSTAMP:20260425T112837
CREATED:20221004T192707Z
LAST-MODIFIED:20221004T192707Z
UID:5227-1665223200-1665237600@townshipofperry.ca
SUMMARY:Dessert Pie Sale (hosted by Parish of the Good Shepherd Anglican Church)
DESCRIPTION:Dessert Pie Sale (hosted by Parish of the Good Shepherd Anglican Church) \nKearney Community Centre Lobby\n10am to 2pm\nAssorted 4 inch Pies\n$5.00 each\nSaturday October 8th\, 2022 \nView the Poster!
URL:https://townshipofperry.ca/event/dessert-pie-sale-hosted-by-parish-of-the-good-shepherd-anglican-church/
CATEGORIES:Events
END:VEVENT
BEGIN:VEVENT
DTSTART;TZID=America/Toronto:20221005T190000
DTEND;TZID=America/Toronto:20221005T210000
DTSTAMP:20260425T112837
CREATED:20220726T141343Z
LAST-MODIFIED:20220726T141601Z
UID:4861-1664996400-1665003600@townshipofperry.ca
SUMMARY:Council Meeting @ 7 p.m.
DESCRIPTION:Council Meeting @ 7 p.m.
URL:https://townshipofperry.ca/event/council-meeting-7-p-m-11/
CATEGORIES:Meetings
ATTACH;FMTTYPE=image/jpeg:https://townshipofperry.ca/wp-content/uploads/2022/05/TwpPerryLogo-e1652713783977.jpg
END:VEVENT
BEGIN:VEVENT
DTSTART;TZID=America/Toronto:20221004T120000
DTEND;TZID=America/Toronto:20221004T163000
DTSTAMP:20260425T112837
CREATED:20220920T113738Z
LAST-MODIFIED:20220920T113738Z
UID:5131-1664884800-1664901000@townshipofperry.ca
SUMMARY:Change of Hours: Staff Appreciation BBQ
DESCRIPTION:NOTICE: Change in Hours of Operation \nThe Transfer Station\, Municipal Office\, and Library will be CLOSED from 12:00 p.m. until 4:30 p.m. on \nTuesday October 4\, 2022 for a Staff Barbeque. \nWe apologize for any inconvenience this may cause. \n Staff & Council
URL:https://townshipofperry.ca/event/change-of-hours-staff-appreciation-bbq/
CATEGORIES:Events,Meetings
ATTACH;FMTTYPE=image/jpeg:https://townshipofperry.ca/wp-content/uploads/2022/05/Office-Closed.jpg
END:VEVENT
BEGIN:VEVENT
DTSTART;TZID=America/Toronto:20221003T190000
DTEND;TZID=America/Toronto:20221003T200000
DTSTAMP:20260425T112837
CREATED:20220726T141512Z
LAST-MODIFIED:20220726T141512Z
UID:4865-1664823600-1664827200@townshipofperry.ca
SUMMARY:Recreation and Culture Committee Meeting @ 7 p.m.
DESCRIPTION:Recreation and Culture Committee Meeting @ 7 p.m.
URL:https://townshipofperry.ca/event/recreation-and-culture-committee-meeting-7-p-m-6/
CATEGORIES:Meetings
ATTACH;FMTTYPE=image/jpeg:https://townshipofperry.ca/wp-content/uploads/2022/05/TwpPerryLogo-e1652713783977.jpg
END:VEVENT
BEGIN:VEVENT
DTSTART;VALUE=DATE:20220930
DTEND;VALUE=DATE:20221001
DTSTAMP:20260425T112837
CREATED:20220726T141146Z
LAST-MODIFIED:20220928T190539Z
UID:4859-1664496000-1664582399@townshipofperry.ca
SUMMARY:National Day for Truth and Reconciliation
DESCRIPTION:In anticipation of National Day for Truth and Reconciliation on September 30\, the Township of Perry encourages residents to learn more about reconciliation by visiting the National Centre for Truth and Reconciliation website or participating in nearby community events. \nThe Township of Perry Municipal Office\, Library\, and Transfer Station will remain OPEN on Friday September 30. However\, we are encouraging all our staff to reflect on the importance of today and encouraging everyone to participate in Orange Shirt Day. \nhttps://nctr.ca/about/ \nhttps://downiewenjack.ca/…/national-day-for-truth-and…/ \nhttps://doppleronline.ca/…/2022-orange-shirt-day-march…/
URL:https://townshipofperry.ca/event/national-day-for-truth-and-reconciliation/
CATEGORIES:Events,Meetings
ATTACH;FMTTYPE=image/png:https://townshipofperry.ca/wp-content/uploads/2022/09/national-day-for-truth-and-reconciliation-e1664391891713.png
END:VEVENT
BEGIN:VEVENT
DTSTART;TZID=America/Toronto:20220924T183000
DTEND;TZID=America/Toronto:20220924T220000
DTSTAMP:20260425T112837
CREATED:20220919T204337Z
LAST-MODIFIED:20220919T204337Z
UID:5129-1664044200-1664056800@townshipofperry.ca
SUMMARY:Family Outdoor Movie Night "Valiant"
DESCRIPTION:The Township of Perry’s Recreation and Culture Committee invites you to a Family Outdoor Movie Night\, showing “Valiant”\, at the Emsdale Airport (100 Hwy 518W) on Saturday September 24\, 2022.\n\n\nEntry fee is by donation. Proceeds raised will be donated to the Emsdale Airport.\n\n\n\nCheck out the move trailer here: https://www.youtube.com/watch?v=tQotjdQ4Lkw\n\n\n\nMovie to start at dusk. Remember to bring a blanket or a chair!\n\n\n(Rain Date: Sunday September 25)
URL:https://townshipofperry.ca/event/family-outdoor-movie-night-valiant/
CATEGORIES:Events
END:VEVENT
BEGIN:VEVENT
DTSTART;TZID=America/Toronto:20220924T100000
DTEND;TZID=America/Toronto:20220924T160000
DTSTAMP:20260425T112837
CREATED:20220915T133831Z
LAST-MODIFIED:20220915T144711Z
UID:5097-1664013600-1664035200@townshipofperry.ca
SUMMARY:6th Annual Almaguin Amazing Race
DESCRIPTION:Grab your friends\, family\, or neighbours\, and join your community in the 6th Annual Almaguin Amazing Race! \nEntry Fee: $100 per team (minimum 2\, maximum 6)\, and teams must have a vehicle. Lunch will be provided at the end of the race. \nFor more information and event details\, please view the poster below\, or contact Meghan O’Rourke at the Village of Burk’s Falls\, (705)382-3138. \n6th Annual Almaguin Amazing Race Poster
URL:https://townshipofperry.ca/event/6th-annual-almaguin-amazing-race/
CATEGORIES:Events
END:VEVENT
BEGIN:VEVENT
DTSTART;TZID=America/Toronto:20220921T190000
DTEND;TZID=America/Toronto:20220921T210000
DTSTAMP:20260425T112837
CREATED:20220726T140535Z
LAST-MODIFIED:20220726T140535Z
UID:4851-1663786800-1663794000@townshipofperry.ca
SUMMARY:Council Meeting @ 7 p.m.
DESCRIPTION:Council Meeting @ 7 p.m.
URL:https://townshipofperry.ca/event/council-meeting-7-p-m-10/
CATEGORIES:Meetings
ATTACH;FMTTYPE=image/jpeg:https://townshipofperry.ca/wp-content/uploads/2022/05/TwpPerryLogo-e1652713783977.jpg
END:VEVENT
BEGIN:VEVENT
DTSTART;VALUE=DATE:20220919
DTEND;VALUE=DATE:20220926
DTSTAMP:20260425T112837
CREATED:20220919T153436Z
LAST-MODIFIED:20220919T153436Z
UID:5123-1663545600-1664150399@townshipofperry.ca
SUMMARY:CN Rail Safety Week - September 19-25
DESCRIPTION:CN Rail Safety Week runs annually from September 19\, 2022 to September 25\, 2022. For more information on how you and your family can be Rail Smart\, visit CN’s website.
URL:https://townshipofperry.ca/event/cn-rail-safety-week-september-19-25/
CATEGORIES:Events
ATTACH;FMTTYPE=image/jpeg:https://townshipofperry.ca/wp-content/uploads/2022/05/TwpPerryLogo-e1652713783977.jpg
END:VEVENT
BEGIN:VEVENT
DTSTART;TZID=America/Toronto:20220918T153000
DTEND;TZID=America/Toronto:20220918T163000
DTSTAMP:20260425T112837
CREATED:20220916T201156Z
LAST-MODIFIED:20220927T122826Z
UID:5107-1663515000-1663518600@townshipofperry.ca
SUMMARY:Novar Park Pick Up Basketball
DESCRIPTION:Come join Councillor Joe Lumley Sunday evenings this fall at the Novar Community Park for basketball fun! \nGames will be played on Sunday nights (weather permitting) starting September 18th. All ages are welcome\, and the games will run from 3:30 p.m. to 4:30 p.m. \nPlease note this is not an organized sport program\, but simply a show up and play system. Hope to see you there! \nPick Up Basketball Poster \n 
URL:https://townshipofperry.ca/event/novar-park-pick-up-basketball/
CATEGORIES:Events
ATTACH;FMTTYPE=image/jpeg:https://townshipofperry.ca/wp-content/uploads/2022/09/Basketball.jpg
END:VEVENT
BEGIN:VEVENT
DTSTART;TZID=America/Toronto:20220917T110000
DTEND;TZID=America/Toronto:20220917T130000
DTSTAMP:20260425T112837
CREATED:20220914T131013Z
LAST-MODIFIED:20220914T131013Z
UID:5092-1663412400-1663419600@townshipofperry.ca
SUMMARY:Pancake Lunch
DESCRIPTION:Join the Parish of the Good Shepherd\, in Emsdale\, for a Pancake Lunch on Saturday September 17\, 2022.\nServing: Pancakes with Syrup\, Sausages\, Fruit Cocktail with Ice Cream\, and Tea and Coffee.\nAdults: $7.00\nChildren 6 to 12: $3.00\nChildren under 6: Free\nTime: 11:00 to 1:00 \n2022 09 14 PancakeLunch
URL:https://townshipofperry.ca/event/pancake-lunch/
CATEGORIES:Events
END:VEVENT
BEGIN:VEVENT
DTSTART;TZID=America/Toronto:20220913T143000
DTEND;TZID=America/Toronto:20220913T163000
DTSTAMP:20260425T112837
CREATED:20220726T140749Z
LAST-MODIFIED:20220726T140749Z
UID:4855-1663079400-1663086600@townshipofperry.ca
SUMMARY:Municipal Office Closed @ 2:30 p.m.
DESCRIPTION:Municipal Office Closed @ 2:30 p.m.
URL:https://townshipofperry.ca/event/municipal-office-closed-230-p-m-4/
CATEGORIES:Meetings
ATTACH;FMTTYPE=image/jpeg:https://townshipofperry.ca/wp-content/uploads/2022/05/TwpPerryLogo-e1652713783977.jpg
END:VEVENT
BEGIN:VEVENT
DTSTART;TZID=America/Toronto:20220912T190000
DTEND;TZID=America/Toronto:20220912T200000
DTSTAMP:20260425T112837
CREATED:20220726T140635Z
LAST-MODIFIED:20220726T140635Z
UID:4853-1663009200-1663012800@townshipofperry.ca
SUMMARY:Recreation and Culture Committee @ 7 p.m.
DESCRIPTION:Recreation and Culture Committee @ 7 p.m.
URL:https://townshipofperry.ca/event/recreation-and-culture-committee-7-p-m/
CATEGORIES:Meetings
ATTACH;FMTTYPE=image/jpeg:https://townshipofperry.ca/wp-content/uploads/2022/05/TwpPerryLogo-e1652713783977.jpg
END:VEVENT
BEGIN:VEVENT
DTSTART;TZID=America/Toronto:20220910T100000
DTEND;TZID=America/Toronto:20220910T140000
DTSTAMP:20260425T112837
CREATED:20220818T174556Z
LAST-MODIFIED:20220818T174556Z
UID:5024-1662804000-1662818400@townshipofperry.ca
SUMMARY:12th Annual "Hunger Walk"
DESCRIPTION:The Burk’s Falls and District Food Bank is once again hosting its “Hunger Walk” on Saturday September 10\, 2022\, beginning at 10 a.m. Please meet at Stan Darling Park\, Burk’s Falls. The walk route is 4km through Burk’s Falls. The Event will occur rain or shine. \nFor more information\, telephone 705-380-4669.
URL:https://townshipofperry.ca/event/12th-annual-hunger-walk/
CATEGORIES:Events
END:VEVENT
BEGIN:VEVENT
DTSTART;TZID=America/Toronto:20220907T190000
DTEND;TZID=America/Toronto:20220907T210000
DTSTAMP:20260425T112837
CREATED:20220726T140453Z
LAST-MODIFIED:20220726T140453Z
UID:4849-1662577200-1662584400@townshipofperry.ca
SUMMARY:Council Meeting @ 7 p.m.
DESCRIPTION:Council Meeting @ 7 p.m.
URL:https://townshipofperry.ca/event/council-meeting-7-p-m-9/
CATEGORIES:Meetings
ATTACH;FMTTYPE=image/jpeg:https://townshipofperry.ca/wp-content/uploads/2022/05/TwpPerryLogo-e1652713783977.jpg
END:VEVENT
BEGIN:VEVENT
DTSTART;TZID=America/Toronto:20220906T183000
DTEND;TZID=America/Toronto:20220906T193000
DTSTAMP:20260425T112837
CREATED:20220817T153707Z
LAST-MODIFIED:20220817T153707Z
UID:5012-1662489000-1662492600@townshipofperry.ca
SUMMARY:T-Ball (Novar Community Park)
DESCRIPTION:T-Ball will run for 8 weeks\, starting on July 5\, 2022. Games will be held on Tuesday nights starting at 6:30 p.m.
URL:https://townshipofperry.ca/event/t-ball-novar-community-park-3/
CATEGORIES:Events
ATTACH;FMTTYPE=image/jpeg:https://townshipofperry.ca/wp-content/uploads/2022/05/tball-3-e1653502533185.jpg
END:VEVENT
BEGIN:VEVENT
DTSTART;TZID=America/Toronto:20220905T080000
DTEND;TZID=America/Toronto:20220905T160000
DTSTAMP:20260425T112837
CREATED:20220726T140416Z
LAST-MODIFIED:20220726T140416Z
UID:4847-1662364800-1662393600@townshipofperry.ca
SUMMARY:Transfer Station OPEN 8 a.m. to 4 p.m.
DESCRIPTION:Transfer Station OPEN 8 a.m. to 4 p.m.
URL:https://townshipofperry.ca/event/transfer-station-open-8-a-m-to-4-p-m/
CATEGORIES:Events,Meetings
ATTACH;FMTTYPE=image/jpeg:https://townshipofperry.ca/wp-content/uploads/2022/07/2020-05-22-Perry-Public_Notice-e1658756234566.jpg
END:VEVENT
BEGIN:VEVENT
DTSTART;VALUE=DATE:20220905
DTEND;VALUE=DATE:20220906
DTSTAMP:20260425T112837
CREATED:20220726T140339Z
LAST-MODIFIED:20220726T140339Z
UID:4845-1662336000-1662422399@townshipofperry.ca
SUMMARY:Municipal Office and Library Closed
DESCRIPTION:The Municipal Office and Library will be CLOSED on Monday September 5\, 2022 for Labour Day.
URL:https://townshipofperry.ca/event/municipal-office-and-library-closed-2/
CATEGORIES:Events,Meetings
ATTACH;FMTTYPE=image/jpeg:https://townshipofperry.ca/wp-content/uploads/2022/07/2020-05-22-Perry-Public_Notice-e1658756234566.jpg
END:VEVENT
BEGIN:VEVENT
DTSTART;TZID=America/Toronto:20220830T183000
DTEND;TZID=America/Toronto:20220830T193000
DTSTAMP:20260425T112837
CREATED:20220817T153523Z
LAST-MODIFIED:20220817T153523Z
UID:5010-1661884200-1661887800@townshipofperry.ca
SUMMARY:T-Ball (Novar Community Park)
DESCRIPTION:T-Ball will run for 8 weeks\, starting on July 5\, 2022. Games will be held on Tuesday nights starting at 6:30 p.m.
URL:https://townshipofperry.ca/event/t-ball-novar-community-park-2/
CATEGORIES:Events
ATTACH;FMTTYPE=image/jpeg:https://townshipofperry.ca/wp-content/uploads/2022/05/tball-3-e1653502533185.jpg
END:VEVENT
BEGIN:VEVENT
DTSTART;TZID=America/Toronto:20220827T100000
DTEND;TZID=America/Toronto:20220827T160000
DTSTAMP:20260425T112837
CREATED:20220610T175119Z
LAST-MODIFIED:20220610T175119Z
UID:4628-1661594400-1661616000@townshipofperry.ca
SUMMARY:Emsdale Agricultural Society Fall Fair
DESCRIPTION:Come out for the 133rd Annual Fall Fair\, held in the beautiful village of Novar\, Ontario\, on Saturday August 27\, 2022. Gates open at 10 a.m.\n\nThe fair will be at the Novar Community Center (Exhibition Hall) and Novar Community Park. Busing will be available all day. Limited parking available on site.\n\n\n\nVisit the Agricultural Society website  www.emsdaleagriculturalsociety.ca for more information and details or email\nemsdaleagriculturesoiciety@gmail.com
URL:https://townshipofperry.ca/event/emsdale-agricultural-society-fall-fair/
CATEGORIES:Events
END:VEVENT
BEGIN:VEVENT
DTSTART;VALUE=DATE:20220825
DTEND;VALUE=DATE:20220826
DTSTAMP:20260425T112837
CREATED:20220218T213908Z
LAST-MODIFIED:20220510T130718Z
UID:3128-1661385600-1661471999@townshipofperry.ca
SUMMARY:Tax Installment Due Date #3
DESCRIPTION:Tax Installment Due Date #3
URL:https://townshipofperry.ca/event/tax-installment-due-date-1/
CATEGORIES:Events
END:VEVENT
BEGIN:VEVENT
DTSTART;TZID=America/Toronto:20220824T180000
DTEND;TZID=America/Toronto:20220824T200000
DTSTAMP:20260425T112837
CREATED:20220511T154426Z
LAST-MODIFIED:20220516T134750Z
UID:3740-1661364000-1661371200@townshipofperry.ca
SUMMARY:Joint Waste Management Board Meeting @ 6 p.m.
DESCRIPTION:Meetings will be held electronically until further notice and can be accessed on the meeting date by calling the following phone number and entering the access code:Phone: 1-647-497-9391\nAccess Code: 959-988-101\, press #\, press #
URL:https://townshipofperry.ca/event/joint-waste-management-board-meeting-6-p-m-2/
CATEGORIES:Meetings
END:VEVENT
BEGIN:VEVENT
DTSTART;VALUE=DATE:20220823
DTEND;VALUE=DATE:20220824
DTSTAMP:20260425T112837
CREATED:20220809T181437Z
LAST-MODIFIED:20220809T181443Z
UID:4993-1661212800-1661299199@townshipofperry.ca
SUMMARY:Lawn Decoration Contest Ends
DESCRIPTION:The Emsdale Agricultural Society is running a Lawn Decoration Contest as part of the 2022 Fall Fair! The deadline to register for the Lawn Decoration Contest is August 23\, 2022. Visit their website for the contest details and the registration form: http://emsdaleagriculturalsociety.ca/forms.php
URL:https://townshipofperry.ca/event/lawn-decoration-contest-closes/
CATEGORIES:Events
END:VEVENT
BEGIN:VEVENT
DTSTART;TZID=America/Toronto:20220819T183000
DTEND;TZID=America/Toronto:20220819T193000
DTSTAMP:20260425T112837
CREATED:20220817T153837Z
LAST-MODIFIED:20220817T153837Z
UID:5014-1660933800-1660937400@townshipofperry.ca
SUMMARY:T-Ball (Novar Community Park)
DESCRIPTION:POSTPONED from Tuesday August 16\, 2022 – T-Ball will run for 8 weeks\, starting on July 5\, 2022. Games will be held on Tuesday nights starting at 6:30 p.m.
URL:https://townshipofperry.ca/event/t-ball-novar-community-park-4/
CATEGORIES:Events
ATTACH;FMTTYPE=image/jpeg:https://townshipofperry.ca/wp-content/uploads/2022/05/tball-3-e1653502533185.jpg
END:VEVENT
BEGIN:VEVENT
DTSTART;TZID=America/Toronto:20220819T090000
DTEND;TZID=America/Toronto:20220819T140000
DTSTAMP:20260425T112837
CREATED:20220511T154426Z
LAST-MODIFIED:20220818T152809Z
UID:3741-1660899600-1660917600@townshipofperry.ca
SUMMARY:Municipal Election Nomination Day Until 2 p.m.
DESCRIPTION:
URL:https://townshipofperry.ca/event/municipal-election-nomination-day-until-2-p-m/
CATEGORIES:Events
ATTACH;FMTTYPE=image/jpeg:https://townshipofperry.ca/wp-content/uploads/2022/05/TwpPerryLogo-e1652713783977.jpg
END:VEVENT
END:VCALENDAR