BEGIN:VCALENDAR
VERSION:2.0
PRODID:-//The Township of Perry - ECPv6.15.18//NONSGML v1.0//EN
CALSCALE:GREGORIAN
METHOD:PUBLISH
X-WR-CALNAME:The Township of Perry
X-ORIGINAL-URL:https://townshipofperry.ca
X-WR-CALDESC:Events for The Township of Perry
REFRESH-INTERVAL;VALUE=DURATION:PT1H
X-Robots-Tag:noindex
X-PUBLISHED-TTL:PT1H
BEGIN:VTIMEZONE
TZID:America/Toronto
BEGIN:DAYLIGHT
TZOFFSETFROM:-0500
TZOFFSETTO:-0400
TZNAME:EDT
DTSTART:20210314T070000
END:DAYLIGHT
BEGIN:STANDARD
TZOFFSETFROM:-0400
TZOFFSETTO:-0500
TZNAME:EST
DTSTART:20211107T060000
END:STANDARD
BEGIN:DAYLIGHT
TZOFFSETFROM:-0500
TZOFFSETTO:-0400
TZNAME:EDT
DTSTART:20220313T070000
END:DAYLIGHT
BEGIN:STANDARD
TZOFFSETFROM:-0400
TZOFFSETTO:-0500
TZNAME:EST
DTSTART:20221106T060000
END:STANDARD
BEGIN:DAYLIGHT
TZOFFSETFROM:-0500
TZOFFSETTO:-0400
TZNAME:EDT
DTSTART:20230312T070000
END:DAYLIGHT
BEGIN:STANDARD
TZOFFSETFROM:-0400
TZOFFSETTO:-0500
TZNAME:EST
DTSTART:20231105T060000
END:STANDARD
END:VTIMEZONE
BEGIN:VEVENT
DTSTART;TZID=America/Toronto:20220803T190000
DTEND;TZID=America/Toronto:20220803T210000
DTSTAMP:20260425T215438
CREATED:20220628T191026Z
LAST-MODIFIED:20220628T191026Z
UID:4729-1659553200-1659560400@townshipofperry.ca
SUMMARY:Council Meeting @ 7 p.m.
DESCRIPTION:  \nRegular Council Meeting @ 7 p.m.
URL:https://townshipofperry.ca/event/council-meeting-7-p-m-8/
CATEGORIES:Meetings
ATTACH;FMTTYPE=image/jpeg:https://townshipofperry.ca/wp-content/uploads/2022/05/TwpPerryLogo-e1652713783977.jpg
END:VEVENT
BEGIN:VEVENT
DTSTART;VALUE=DATE:20220801
DTEND;VALUE=DATE:20220802
DTSTAMP:20260425T215438
CREATED:20220628T191402Z
LAST-MODIFIED:20220726T134956Z
UID:4735-1659312000-1659398399@townshipofperry.ca
SUMMARY:Municipal Office and Library CLOSED
DESCRIPTION:The Municipal Office and Library will be closed on Monday August 1\, 2022 for the Civic Holiday. The Transfer Station will be open from 8 a.m. to 4 p.m. \nThe Mayor\, Council\, and Staff wish you and your family a safe and enjoyable long weekend.
URL:https://townshipofperry.ca/event/municipal-office-and-library-closed/
CATEGORIES:Events,Meetings
ATTACH;FMTTYPE=image/jpeg:https://townshipofperry.ca/wp-content/uploads/2022/07/2020-05-22-Perry-Public_Notice-e1658756234566.jpg
END:VEVENT
BEGIN:VEVENT
DTSTART;TZID=America/Toronto:20220720T190000
DTEND;TZID=America/Toronto:20220720T210000
DTSTAMP:20260425T215438
CREATED:20220628T190643Z
LAST-MODIFIED:20220628T190708Z
UID:4722-1658343600-1658350800@townshipofperry.ca
SUMMARY:CANCELLED Council Meeting @ 7 p.m.
DESCRIPTION:  \nThe Regular Meeting of Council is scheduled for 7 p.m.
URL:https://townshipofperry.ca/event/council-meeting-7-p-m-6/
CATEGORIES:Meetings
ATTACH;FMTTYPE=image/jpeg:https://townshipofperry.ca/wp-content/uploads/2022/05/TwpPerryLogo-e1652713783977.jpg
END:VEVENT
BEGIN:VEVENT
DTSTART;TZID=America/Toronto:20220712T143000
DTEND;TZID=America/Toronto:20220712T163000
DTSTAMP:20260425T215438
CREATED:20220511T161016Z
LAST-MODIFIED:20220712T145646Z
UID:3748-1657636200-1657643400@townshipofperry.ca
SUMMARY:CANCELLED - Municipal Office Closed @ 2:30pm
DESCRIPTION:CANCELLED \nPlease be advised that staff at the Municipal Office will not be available via telephone and/or email on Tuesday\, July 12\, 2022 from 2:30 p.m. to 4:30 p.m. due to a staff meeting.
URL:https://townshipofperry.ca/event/municipal-office-closed-230pm/
CATEGORIES:Events
ATTACH;FMTTYPE=image/jpeg:https://townshipofperry.ca/wp-content/uploads/2022/05/Office-Closed.jpg
END:VEVENT
BEGIN:VEVENT
DTSTART;TZID=America/Toronto:20220709T120000
DTEND;TZID=America/Toronto:20220709T160000
DTSTAMP:20260425T215438
CREATED:20220601T141349Z
LAST-MODIFIED:20220601T141349Z
UID:4570-1657368000-1657382400@townshipofperry.ca
SUMMARY:Firefighter Challenge Games
DESCRIPTION:Join competing Fire Departments (Burk’s Falls\, Kearney\, Magnetawan\, McMurrich/Monteith\, and Perry) for a day of firefighter challenges and tests of skill\, strength\, agility\, and stamina. Games begin at High Noon\, Saturday July 9\, 2022 at Watt Farm Field (832 Chetwynd Road\, Burk’s Falls). \nFree Parking and Free Admission! \nView the Poster for full details.
URL:https://townshipofperry.ca/event/firefighter-challenge-games/
CATEGORIES:Events
ATTACH;FMTTYPE=image/jpeg:https://townshipofperry.ca/wp-content/uploads/2022/06/circledeventoncalendar-e1654092768435.jpg
END:VEVENT
BEGIN:VEVENT
DTSTART;TZID=America/Toronto:20220709T090000
DTEND;TZID=America/Toronto:20220709T150000
DTSTAMP:20260425T215438
CREATED:20220511T154426Z
LAST-MODIFIED:20220601T150245Z
UID:3739-1657357200-1657378800@townshipofperry.ca
SUMMARY:Household Hazardous Waste Day
DESCRIPTION:The 2022 Household Hazardous Waste Day is scheduled for Saturday July 9\, 2022 from 9 a.m. to 3 p.m. For a full list of acceptable items\, visit our Garbage and Recycling Page.
URL:https://townshipofperry.ca/event/hazardous-waste-day/
CATEGORIES:Events
ATTACH;FMTTYPE=image/jpeg:https://townshipofperry.ca/wp-content/uploads/2022/06/Hazardous-Waste-807-e1654095708438.jpg
END:VEVENT
BEGIN:VEVENT
DTSTART;TZID=America/Toronto:20220709T080000
DTEND;TZID=America/Toronto:20220709T150000
DTSTAMP:20260425T215438
CREATED:20220610T171331Z
LAST-MODIFIED:20220610T171331Z
UID:4626-1657353600-1657378800@townshipofperry.ca
SUMMARY:Softball 2022 Season Tournament & BBQ
DESCRIPTION:Games begin at 9 a.m. in Sundridge (14 Albert Street N)
URL:https://townshipofperry.ca/event/softball-2022-season-tournament-bbq/
CATEGORIES:Events
ATTACH;FMTTYPE=image/jpeg:https://townshipofperry.ca/wp-content/uploads/2022/05/softball-e1653502390389.jpg
END:VEVENT
BEGIN:VEVENT
DTSTART;TZID=America/Toronto:20220706T190000
DTEND;TZID=America/Toronto:20220706T210000
DTSTAMP:20260425T215438
CREATED:20220628T190758Z
LAST-MODIFIED:20220628T190758Z
UID:4725-1657134000-1657141200@townshipofperry.ca
SUMMARY:Council Meeting @ 7 p.m.
DESCRIPTION:  \nThe Regular Meeting of Council is scheduled for 7 p.m.
URL:https://townshipofperry.ca/event/council-meeting-7-p-m-7/
CATEGORIES:Meetings
ATTACH;FMTTYPE=image/jpeg:https://townshipofperry.ca/wp-content/uploads/2022/05/TwpPerryLogo-e1652713783977.jpg
END:VEVENT
BEGIN:VEVENT
DTSTART;TZID=America/Toronto:20220705T183000
DTEND;TZID=America/Toronto:20220705T193000
DTSTAMP:20260425T215438
CREATED:20220525T181543Z
LAST-MODIFIED:20220725T113340Z
UID:4498-1657045800-1657049400@townshipofperry.ca
SUMMARY:T-Ball (Novar Community Park)
DESCRIPTION:T-Ball will run for 8 weeks\, starting  on July 5\, 2022. Games will be held on Tuesday nights starting at 6:30 p.m. \n  \n 
URL:https://townshipofperry.ca/event/t-ball-novar-community-park/
CATEGORIES:Events
ATTACH;FMTTYPE=image/jpeg:https://townshipofperry.ca/wp-content/uploads/2022/05/tball-3-e1653502533185.jpg
END:VEVENT
BEGIN:VEVENT
DTSTART;TZID=America/Toronto:20220705T100000
DTEND;TZID=America/Toronto:20220705T150000
DTSTAMP:20260425T215438
CREATED:20220706T190413Z
LAST-MODIFIED:20220706T190413Z
UID:4767-1657015200-1657033200@townshipofperry.ca
SUMMARY:TD Summer Reading Club 2022
DESCRIPTION:Join the Perry Township Public Library at 1695 Emsdale Road and participate in the TD Summer Reading Program every Tuesday from July 5\, 2022 until August 30\, 2022. Contact the Library at 705-636-5454 for more information.
URL:https://townshipofperry.ca/event/td-summer-reading-club-2022/
CATEGORIES:Events
END:VEVENT
BEGIN:VEVENT
DTSTART;TZID=America/Toronto:20220704T190000
DTEND;TZID=America/Toronto:20220704T200000
DTSTAMP:20260425T215438
CREATED:20220628T190906Z
LAST-MODIFIED:20220628T190906Z
UID:4727-1656961200-1656964800@townshipofperry.ca
SUMMARY:Recreation and Culture Committee Meeting @ 7 p.m.
DESCRIPTION:  \nRecreation and Culture Committee Meeting @ 7 p.m.
URL:https://townshipofperry.ca/event/recreation-and-culture-committee-meeting-7-p-m-4/
CATEGORIES:Meetings
ATTACH;FMTTYPE=image/jpeg:https://townshipofperry.ca/wp-content/uploads/2022/05/TwpPerryLogo-e1652713783977.jpg
END:VEVENT
BEGIN:VEVENT
DTSTART;TZID=America/Toronto:20220702T120000
DTEND;TZID=America/Toronto:20220702T170000
DTSTAMP:20260425T215438
CREATED:20220621T173509Z
LAST-MODIFIED:20220621T173509Z
UID:4695-1656763200-1656781200@townshipofperry.ca
SUMMARY:Firefighter Food Drive
DESCRIPTION:  \n\nFirefighter Food Drive on Saturday July 2\, 2022\n\n\n\nStop by Hope’s Clover Farm on Saturday July 2\, 2022 from 12 p.m. to 5 p.m. and support the Burk’s Falls and District Food Bank with our Firefighter Food Drive. Non-perishable items only please. Prepared bags will also be available for purchase.
URL:https://townshipofperry.ca/event/firefighter-food-drive/
CATEGORIES:Events
END:VEVENT
BEGIN:VEVENT
DTSTART;TZID=America/Toronto:20220701T110000
DTEND;TZID=America/Toronto:20220701T150000
DTSTAMP:20260425T215438
CREATED:20220615T214442Z
LAST-MODIFIED:20220615T214442Z
UID:4664-1656673200-1656687600@townshipofperry.ca
SUMMARY:Come celebrate Canada Day with Perry Township!
DESCRIPTION:  \nCome celebrate Canada Day with Perry Township! \nJoin the Recreation and Culture Committee on Friday July 1\, 2022\, from 11 a.m. to 3 p.m. for music\, games\, and Canada Day celebrations. Wear your best Canada Day Outfit for your chance to win a prize! \nView the poster for full detail. \nShould you have any questions\, please contact the Municipal Office at 705-636-5941.
URL:https://townshipofperry.ca/event/come-celebrate-canada-day-with-perry-township/
CATEGORIES:Events
ATTACH;FMTTYPE=image/png:https://townshipofperry.ca/wp-content/uploads/2022/05/CanadaDayPendant2021-e1655329350611.png
END:VEVENT
BEGIN:VEVENT
DTSTART;TZID=America/Toronto:20220701T100000
DTEND;TZID=America/Toronto:20220701T160000
DTSTAMP:20260425T215438
CREATED:20220525T180510Z
LAST-MODIFIED:20220525T180510Z
UID:4478-1656669600-1656691200@townshipofperry.ca
SUMMARY:Farmers Market Open 10 a.m. - 4 p.m.
DESCRIPTION:The Perry Township Farmers’ Market is Open from 10 a.m. to 4 p.m. today under the gazebo at the Municipal Office (1695 Emsdale Road\, Emsdale\, ON)
URL:https://townshipofperry.ca/event/farmers-market-open-10-a-m-4-p-m/
CATEGORIES:Events
END:VEVENT
BEGIN:VEVENT
DTSTART;VALUE=DATE:20220701
DTEND;VALUE=DATE:20220702
DTSTAMP:20260425T215438
CREATED:20220525T180105Z
LAST-MODIFIED:20220623T183104Z
UID:4473-1656633600-1656719999@townshipofperry.ca
SUMMARY:Transfer Station Closed for July 1st
DESCRIPTION:The Transfer Station will be Closed on Friday July 1\, 2022.
URL:https://townshipofperry.ca/event/transfer-station-open-8a-m-to-4-p-m/
CATEGORIES:Events
ATTACH;FMTTYPE=image/png:https://townshipofperry.ca/wp-content/uploads/2022/05/CanadaDayPendant2021-e1655329350611.png
END:VEVENT
BEGIN:VEVENT
DTSTART;VALUE=DATE:20220701
DTEND;VALUE=DATE:20220702
DTSTAMP:20260425T215438
CREATED:20220525T175843Z
LAST-MODIFIED:20220623T170242Z
UID:4470-1656633600-1656719999@townshipofperry.ca
SUMMARY:Canada Day - Municipal Office and Library Closed
DESCRIPTION:The Municipal Office\, Library and Transfer Station will be CLOSED on Friday July 1\, 2022 in celebration of Canada Day.
URL:https://townshipofperry.ca/event/canada-day-municipal-office-and-library-closed/
CATEGORIES:Events
ATTACH;FMTTYPE=image/png:https://townshipofperry.ca/wp-content/uploads/2022/05/CanadaDayPendant2021-e1655329350611.png
END:VEVENT
BEGIN:VEVENT
DTSTART;VALUE=DATE:20220630
DTEND;VALUE=DATE:20220701
DTSTAMP:20260425T215438
CREATED:20220530T192223Z
LAST-MODIFIED:20220530T192223Z
UID:4545-1656547200-1656633599@townshipofperry.ca
SUMMARY:ParticipACTION Community Better Challenge Closes
DESCRIPTION:ParticipACTION Community Better Challenge – June 1 to 30! \nThe Community Better Challenge is a national activity initiative that encourages Canadians to get active in search of Canada’s Most Active Community. The challenge is open to anyone\, and minutes are tracked by the ParticipACTION App. Download the App today and start tracking! \nView the Full Poster for additional information.
URL:https://townshipofperry.ca/event/participaction-community-better-challenge-closes/
CATEGORIES:Events
ATTACH;FMTTYPE=image/jpeg:https://townshipofperry.ca/wp-content/uploads/2022/05/excitingnews-microphone-e1652959463411.jpg
END:VEVENT
BEGIN:VEVENT
DTSTART;TZID=America/Toronto:20220625T150000
DTEND;TZID=America/Toronto:20220625T170000
DTSTAMP:20260425T215438
CREATED:20220525T181711Z
LAST-MODIFIED:20220525T181711Z
UID:4507-1656169200-1656176400@townshipofperry.ca
SUMMARY:Ball Hockey (Novar Community Park) Last Day
DESCRIPTION:Last Day for Ball Hockey.
URL:https://townshipofperry.ca/event/ball-hockey-novar-community-park-last-day/
CATEGORIES:Events
ATTACH;FMTTYPE=image/jpeg:https://townshipofperry.ca/wp-content/uploads/2022/05/ball-hockey-e1653502606573.jpg
END:VEVENT
BEGIN:VEVENT
DTSTART;TZID=America/Toronto:20220624T100000
DTEND;TZID=America/Toronto:20220624T160000
DTSTAMP:20260425T215438
CREATED:20220511T154426Z
LAST-MODIFIED:20220525T180322Z
UID:3738-1656064800-1656086400@townshipofperry.ca
SUMMARY:Farmers' Market Opening Day
DESCRIPTION:Farmers’ Market Opening Day\, Friday June 24\, 2022 from 10 a.m. to 4 p.m.
URL:https://townshipofperry.ca/event/farmers-market-opening-day/
CATEGORIES:Events
END:VEVENT
BEGIN:VEVENT
DTSTART;TZID=America/Toronto:20220615T190000
DTEND;TZID=America/Toronto:20220615T200000
DTSTAMP:20260425T215438
CREATED:20220511T154411Z
LAST-MODIFIED:20220516T134707Z
UID:3735-1655319600-1655323200@townshipofperry.ca
SUMMARY:Council Meeting @ 7 p.m.
DESCRIPTION:Regular Meeting of Council
URL:https://townshipofperry.ca/event/council-meeting-7-p-m-5/
CATEGORIES:Meetings
ATTACH;FMTTYPE=image/png:https://townshipofperry.ca/wp-content/uploads/2022/05/Council-Meetings.png
END:VEVENT
BEGIN:VEVENT
DTSTART;TZID=America/Toronto:20220615T143000
DTEND;TZID=America/Toronto:20220615T163000
DTSTAMP:20260425T215438
CREATED:20220511T154425Z
LAST-MODIFIED:20220609T123339Z
UID:3737-1655303400-1655310600@townshipofperry.ca
SUMMARY:Municipal Office Closed @ 2:30 p.m.
DESCRIPTION:Please be advised that staff at the Municipal Office will not be available via telephone and/or email on Wednesday\, June 15\, 2022 from 2:30 p.m. to 4:30 p.m. due to a staff meeting.
URL:https://townshipofperry.ca/event/municipal-office-closed-230-p-m-3/
CATEGORIES:Events
ATTACH;FMTTYPE=image/jpeg:https://townshipofperry.ca/wp-content/uploads/2022/05/Office-Closed.jpg
END:VEVENT
BEGIN:VEVENT
DTSTART;TZID=America/Toronto:20220614T173000
DTEND;TZID=America/Toronto:20220614T203000
DTSTAMP:20260425T215438
CREATED:20220530T201538Z
LAST-MODIFIED:20220530T201538Z
UID:4551-1655227800-1655238600@townshipofperry.ca
SUMMARY:Almaguin Marketing Mixer - 250 Clark
DESCRIPTION:Join ACED for an evening of business networking and post-covid marketing techniques. To RSVP\, contact Courtney at edo@investalmaguin.ca. \nJune 14\, 2022 – 250 Clark in Powassan (250 Clark St\, Powassan) \n5:30p.m. – 8:30p.m. \nView the Full Poster for more information.
URL:https://townshipofperry.ca/event/almaguin-marketing-mixer-250-clark/
CATEGORIES:Events
ATTACH;FMTTYPE=image/jpeg:https://townshipofperry.ca/wp-content/uploads/2022/05/meeting-group-e1653941141316.jpg
END:VEVENT
BEGIN:VEVENT
DTSTART;TZID=America/Toronto:20220612T130000
DTEND;TZID=America/Toronto:20220612T150000
DTSTAMP:20260425T215438
CREATED:20220531T150308Z
LAST-MODIFIED:20220531T150359Z
UID:4561-1655038800-1655046000@townshipofperry.ca
SUMMARY:Emsdale Agricultural Society Volunteer Get Together
DESCRIPTION:The Emsdale Agricultural Society would like to welcome you to an open house to reconnect with our community and our volunteers. So if you’re interested in anything agriculture or volunteering or getting your community service hours. Drop by the Novar Community Centre on Sunday June 12 from 1 PM to 3 PM. \nWe would welcome all volunteers to come Sit a spell ! Stay a while ! A time to reconnect! \nPlease let us know if you’re gonna pop on by! Visit their Facebook Page for more information. \nRVSP \nMartina 705-783-6096\nDarla 705-636-1754
URL:https://townshipofperry.ca/event/emsdale-agricultural-society-volunteer-get-together/
CATEGORIES:Events
ATTACH;FMTTYPE=image/jpeg:https://townshipofperry.ca/wp-content/uploads/2022/05/meeting-group-e1653941141316.jpg
END:VEVENT
BEGIN:VEVENT
DTSTART;TZID=America/Toronto:20220606T190000
DTEND;TZID=America/Toronto:20220606T200000
DTSTAMP:20260425T215438
CREATED:20220511T154411Z
LAST-MODIFIED:20220525T175204Z
UID:3736-1654542000-1654545600@townshipofperry.ca
SUMMARY:Recreation and Culture Committee Meeting @ 7 p.m.
DESCRIPTION:
URL:https://townshipofperry.ca/event/recreation-and-culture-committee-meeting-7-p-m-3/
CATEGORIES:Meetings
ATTACH;FMTTYPE=image/jpeg:https://townshipofperry.ca/wp-content/uploads/2022/05/meeting-image-e1652713379375.jpg
END:VEVENT
BEGIN:VEVENT
DTSTART;TZID=America/Toronto:20220601T190000
DTEND;TZID=America/Toronto:20220601T200000
DTSTAMP:20260425T215438
CREATED:20220525T181341Z
LAST-MODIFIED:20220525T181341Z
UID:4491-1654110000-1654113600@townshipofperry.ca
SUMMARY:Softball (Novar Community Park)
DESCRIPTION:The 2022 softball season begins on June 1. Games will be held on Wednesday nights starting at 7 p.m. Travel is required to Novar\, Burk’s Falls\, Sundridge and Kearney. \n**Registration now CLOSED
URL:https://townshipofperry.ca/event/softball-novar-community-park/
CATEGORIES:Events
ATTACH;FMTTYPE=image/jpeg:https://townshipofperry.ca/wp-content/uploads/2022/05/softball-e1653502390389.jpg
END:VEVENT
BEGIN:VEVENT
DTSTART;TZID=America/Toronto:20220601T190000
DTEND;TZID=America/Toronto:20220601T200000
DTSTAMP:20260425T215438
CREATED:20220511T154410Z
LAST-MODIFIED:20220516T134650Z
UID:3734-1654110000-1654113600@townshipofperry.ca
SUMMARY:Council Meeting @ 7 p.m.
DESCRIPTION:Regular Meeting of Council
URL:https://townshipofperry.ca/event/council-meeting-7-p-m-4/
CATEGORIES:Meetings
ATTACH;FMTTYPE=image/png:https://townshipofperry.ca/wp-content/uploads/2022/05/Council-Meetings.png
END:VEVENT
BEGIN:VEVENT
DTSTART;TZID=America/Toronto:20220601T173000
DTEND;TZID=America/Toronto:20220601T203000
DTSTAMP:20260425T215438
CREATED:20220530T201436Z
LAST-MODIFIED:20220530T201436Z
UID:4548-1654104600-1654115400@townshipofperry.ca
SUMMARY:Almaguin Marketing Mixer - Riverbowl
DESCRIPTION:Join ACED for an evening of business networking and post-covid marketing techniques. To RSVP\, contact Courtney at edo@investalmaguin.ca. \nJune 1\, 2022 – Riverbowl in Burk’s Falls (310 Ontario St\, Burk’s Falls) \n5:30p.m. – 8:30p.m. \nView the Full Poster for more information.
URL:https://townshipofperry.ca/event/almaguin-marketing-mixer-riverbowl/
CATEGORIES:Events
ATTACH;FMTTYPE=image/jpeg:https://townshipofperry.ca/wp-content/uploads/2022/05/meeting-group-e1653941141316.jpg
END:VEVENT
BEGIN:VEVENT
DTSTART;VALUE=DATE:20220601
DTEND;VALUE=DATE:20220602
DTSTAMP:20260425T215438
CREATED:20220530T192049Z
LAST-MODIFIED:20220530T192049Z
UID:4543-1654041600-1654127999@townshipofperry.ca
SUMMARY:ParticipACTION Community Better Challenge Opens
DESCRIPTION:ParticipACTION Community Better Challenge – June 1 to 30! \nThe Community Better Challenge is a national activity initiative that encourages Canadians to get active in search of Canada’s Most Active Community. The challenge is open to anyone\, and minutes are tracked by the ParticipACTION App. Download the App today and start tracking! \nView the Full Poster for additional information.
URL:https://townshipofperry.ca/event/participaction-community-better-challenge-opens/
CATEGORIES:Events
ATTACH;FMTTYPE=image/jpeg:https://townshipofperry.ca/wp-content/uploads/2022/05/excitingnews-microphone-e1652959463411.jpg
END:VEVENT
BEGIN:VEVENT
DTSTART;TZID=America/Toronto:20220523T080000
DTEND;TZID=America/Toronto:20220523T160000
DTSTAMP:20260425T215438
CREATED:20220511T154353Z
LAST-MODIFIED:20220517T200523Z
UID:3724-1653292800-1653321600@townshipofperry.ca
SUMMARY:Transfer Station OPEN 8am-4pm
DESCRIPTION:
URL:https://townshipofperry.ca/event/transfer-station-open-8am-4pm-2/
CATEGORIES:Events
ATTACH;FMTTYPE=image/jpeg:https://townshipofperry.ca/wp-content/uploads/2022/05/Public-Notice-e1658755788594.jpg
END:VEVENT
BEGIN:VEVENT
DTSTART;VALUE=DATE:20220523
DTEND;VALUE=DATE:20220524
DTSTAMP:20260425T215438
CREATED:20220511T154353Z
LAST-MODIFIED:20220516T164258Z
UID:3723-1653264000-1653350399@townshipofperry.ca
SUMMARY:Victoria Day - Municipal Office and Library CLOSED
DESCRIPTION:
URL:https://townshipofperry.ca/event/victoria-day-municipal-office-and-library-closed/
CATEGORIES:Events
ATTACH;FMTTYPE=image/jpeg:https://townshipofperry.ca/wp-content/uploads/2022/05/Public-Notice-e1658755788594.jpg
END:VEVENT
END:VCALENDAR