BEGIN:VCALENDAR
VERSION:2.0
PRODID:-//The Township of Perry - ECPv6.15.18//NONSGML v1.0//EN
CALSCALE:GREGORIAN
METHOD:PUBLISH
X-WR-CALNAME:The Township of Perry
X-ORIGINAL-URL:https://townshipofperry.ca
X-WR-CALDESC:Events for The Township of Perry
REFRESH-INTERVAL;VALUE=DURATION:PT1H
X-Robots-Tag:noindex
X-PUBLISHED-TTL:PT1H
BEGIN:VTIMEZONE
TZID:America/Toronto
BEGIN:DAYLIGHT
TZOFFSETFROM:-0500
TZOFFSETTO:-0400
TZNAME:EDT
DTSTART:20240310T070000
END:DAYLIGHT
BEGIN:STANDARD
TZOFFSETFROM:-0400
TZOFFSETTO:-0500
TZNAME:EST
DTSTART:20241103T060000
END:STANDARD
BEGIN:DAYLIGHT
TZOFFSETFROM:-0500
TZOFFSETTO:-0400
TZNAME:EDT
DTSTART:20250309T070000
END:DAYLIGHT
BEGIN:STANDARD
TZOFFSETFROM:-0400
TZOFFSETTO:-0500
TZNAME:EST
DTSTART:20251102T060000
END:STANDARD
BEGIN:DAYLIGHT
TZOFFSETFROM:-0500
TZOFFSETTO:-0400
TZNAME:EDT
DTSTART:20260308T070000
END:DAYLIGHT
BEGIN:STANDARD
TZOFFSETFROM:-0400
TZOFFSETTO:-0500
TZNAME:EST
DTSTART:20261101T060000
END:STANDARD
END:VTIMEZONE
BEGIN:VEVENT
DTSTART;VALUE=DATE:20250701
DTEND;VALUE=DATE:20250702
DTSTAMP:20260421T171219
CREATED:20250620T193444Z
LAST-MODIFIED:20250620T193444Z
UID:10158-1751328000-1751414399@townshipofperry.ca
SUMMARY:Canada Day Facility Closures
DESCRIPTION:All Municipal Buildings will be closed on Tuesday\, July 1\, 2025 for Canada Day. \nCouncil and staff wish you and your family a safe and happy holiday!
URL:https://townshipofperry.ca/event/canada-day-facility-closures/
CATEGORIES:Events
ATTACH;FMTTYPE=image/png:https://townshipofperry.ca/wp-content/uploads/2025/06/Canada-Day-Municipal-Office-Transfer-Station-Website-2025-scaled.png
END:VEVENT
BEGIN:VEVENT
DTSTART;TZID=America/Toronto:20250701T110000
DTEND;TZID=America/Toronto:20250701T150000
DTSTAMP:20260421T171219
CREATED:20250507T184019Z
LAST-MODIFIED:20250507T184434Z
UID:9943-1751367600-1751382000@townshipofperry.ca
SUMMARY:Perry Township's Canada Day Celebration 2025
DESCRIPTION:Celebrate Canada Day with Perry Township! The Perry Township Recreation & Culture Committee is hosting their annual Canada Day event on July 1\, 2025 from 11:00am – 3:00pm at the Emsdale Community Centre (25 Joseph Street\, Emsdale). There will be food vendors\, live music\, local vendors and organizations and more! Wear your best Canada day attire for the chance to win a prize! \n2025 Canada Day Poster
URL:https://townshipofperry.ca/event/canada-day-celebration-2025/
ATTACH;FMTTYPE=image/png:https://townshipofperry.ca/wp-content/uploads/2022/05/CanadaDayPendant2021-e1655329350611.png
END:VEVENT
BEGIN:VEVENT
DTSTART;TZID=America/Toronto:20250701T110000
DTEND;TZID=America/Toronto:20250701T150000
DTSTAMP:20260421T171219
CREATED:20250620T192856Z
LAST-MODIFIED:20250620T192856Z
UID:10155-1751367600-1751382000@townshipofperry.ca
SUMMARY:Canada Day Celebration
DESCRIPTION:Canada Day in Perry Township\nTuesday July 1\, 2025 from 11am – 3pm\nEmsdale Community Park\, 25 Joseph Street\n\n\nVendors\, Live Music and Games and more!
URL:https://townshipofperry.ca/event/canada-day-celebration/
CATEGORIES:Events
ATTACH;FMTTYPE=image/jpeg:https://townshipofperry.ca/wp-content/uploads/2025/06/Canada-Day-2025.jpg
END:VEVENT
BEGIN:VEVENT
DTSTART;TZID=America/Toronto:20250705T090000
DTEND;TZID=America/Toronto:20250705T150000
DTSTAMP:20260421T171219
CREATED:20250620T182852Z
LAST-MODIFIED:20250620T182852Z
UID:10149-1751706000-1751727600@townshipofperry.ca
SUMMARY:Household Hazardous Waste Day
DESCRIPTION:Household Hazardous Waste Day. \nPerry Township’s Household Hazardous Waste Day is Saturday\, July 5 from 9am-3pm at the Transfer Station. The Transfer Station will be open from 9am-3pm ONLY.\nView our Household Hazardous Waste Acceptable Materials Guide on our website: https://townshipofperry.ca/garbage-and-recycling/
URL:https://townshipofperry.ca/event/household-hazardous-waste-day/
CATEGORIES:Events
ATTACH;FMTTYPE=image/jpeg:https://townshipofperry.ca/wp-content/uploads/2022/06/Hazardous-Waste-807-e1654095708438.jpg
END:VEVENT
BEGIN:VEVENT
DTSTART;TZID=America/Toronto:20250707T190000
DTEND;TZID=America/Toronto:20250707T200000
DTSTAMP:20260421T171219
CREATED:20250507T172201Z
LAST-MODIFIED:20250507T172201Z
UID:9939-1751914800-1751918400@townshipofperry.ca
SUMMARY:Recreation and Culture Committee Meeting @ 7pm
DESCRIPTION:Recreation and Culture Committee Meeting @ 7pm \nCouncil Chambers\, Municipal Office (1695 Emsdale Road\, Emsdale)
URL:https://townshipofperry.ca/event/recreation-and-culture-committee-meeting-7pm-11-2025-07-07/
CATEGORIES:Meetings
ATTACH;FMTTYPE=image/jpeg:https://townshipofperry.ca/wp-content/uploads/2022/05/TwpPerryLogo-e1652713783977.jpg
END:VEVENT
BEGIN:VEVENT
DTSTART;TZID=America/Toronto:20250716T190000
DTEND;TZID=America/Toronto:20250716T203000
DTSTAMP:20260421T171219
CREATED:20250507T172022Z
LAST-MODIFIED:20250507T172022Z
UID:9935-1752692400-1752697800@townshipofperry.ca
SUMMARY:Council Meeting @ 7pm
DESCRIPTION:Council Meeting @ 7pm \nCouncil Chambers\, Municipal Office (1695 Emsdale Road\, Emsdale) \nAgendas & Minutes Page: Agendas & Minutes – The Township of Perry
URL:https://townshipofperry.ca/event/council-meeting-7pm-21/
CATEGORIES:Meetings
ATTACH;FMTTYPE=image/jpeg:https://townshipofperry.ca/wp-content/uploads/2022/05/TwpPerryLogo-e1652713783977.jpg
END:VEVENT
BEGIN:VEVENT
DTSTART;VALUE=DATE:20250722
DTEND;VALUE=DATE:20250723
DTSTAMP:20260421T171219
CREATED:20250106T164453Z
LAST-MODIFIED:20250106T164453Z
UID:10124-1753142400-1753228799@townshipofperry.ca
SUMMARY:Senior Foot Care Clinic - Emsdale Community Centre
DESCRIPTION:Senior Foot Care Clinic – Emsdale Community Centre \n4th Tuesday of Each Month\, $30 per person. Call to register at 705-471-1707
URL:https://townshipofperry.ca/event/senior-foot-care-clinic-emsdale-community-centre-2025-07-22/
CATEGORIES:Events
ATTACH;FMTTYPE=image/jpeg:https://townshipofperry.ca/wp-content/uploads/2025/01/2025-01-06-FOOT-CARE-AFTER-DEC-1ST.jpg
END:VEVENT
BEGIN:VEVENT
DTSTART;TZID=America/Toronto:20250731T120000
DTEND;TZID=America/Toronto:20250731T130000
DTSTAMP:20260421T171219
CREATED:20250620T181805Z
LAST-MODIFIED:20250620T181805Z
UID:10147-1753963200-1753966800@townshipofperry.ca
SUMMARY:July Seniors Lunch
DESCRIPTION:Emsdale Seniors Luncheon \nThursday\, July 31 \nEmsdale Community Centre\, 25 Joseph Street \n$10 per person \nCall ahead to register at 705-724-6028
URL:https://townshipofperry.ca/event/july-seniors-lunch/
CATEGORIES:Events
ATTACH;FMTTYPE=image/jpeg:https://townshipofperry.ca/wp-content/uploads/2025/06/July-Seniors-Lunch.jpg
END:VEVENT
END:VCALENDAR